BEGIN:VCALENDAR
VERSION:2.0
PRODID:-//Summit Historical Society - ECPv6.15.20//NONSGML v1.0//EN
CALSCALE:GREGORIAN
METHOD:PUBLISH
X-ORIGINAL-URL:https://summithistorical.org
X-WR-CALDESC:Events for Summit Historical Society
REFRESH-INTERVAL;VALUE=DURATION:PT1H
X-Robots-Tag:noindex
X-PUBLISHED-TTL:PT1H
BEGIN:VTIMEZONE
TZID:America/Denver
BEGIN:DAYLIGHT
TZOFFSETFROM:-0700
TZOFFSETTO:-0600
TZNAME:MDT
DTSTART:20220313T090000
END:DAYLIGHT
BEGIN:STANDARD
TZOFFSETFROM:-0600
TZOFFSETTO:-0700
TZNAME:MST
DTSTART:20221106T080000
END:STANDARD
BEGIN:DAYLIGHT
TZOFFSETFROM:-0700
TZOFFSETTO:-0600
TZNAME:MDT
DTSTART:20230312T090000
END:DAYLIGHT
BEGIN:STANDARD
TZOFFSETFROM:-0600
TZOFFSETTO:-0700
TZNAME:MST
DTSTART:20231105T080000
END:STANDARD
BEGIN:DAYLIGHT
TZOFFSETFROM:-0700
TZOFFSETTO:-0600
TZNAME:MDT
DTSTART:20240310T090000
END:DAYLIGHT
BEGIN:STANDARD
TZOFFSETFROM:-0600
TZOFFSETTO:-0700
TZNAME:MST
DTSTART:20241103T080000
END:STANDARD
END:VTIMEZONE
BEGIN:VEVENT
DTSTART;TZID=America/Denver:20230321T123000
DTEND;TZID=America/Denver:20230321T150000
DTSTAMP:20260422T054616
CREATED:20230217T223014Z
LAST-MODIFIED:20230220T180926Z
UID:10001988-1679401800-1679410800@summithistorical.org
SUMMARY:Summit County:  Then & Now
DESCRIPTION:  \n  \nJoin us at the offices of Summit Association of Retailers as Summit Historical Society’s educator\, Christy Nelson\, presents “Summit County – Then and Now”.  Christy will discuss the rich history of Summit County\, including the fate of more than a dozen towns which no longer exist:  Kokomo\, Robinson\, Wheeler\, Chihuahua\, and Tiger\, just to name a few. \nWednesday\, March 21st – 12:30 – 3:00pm \nLocation:\nSummit Association of Realtors Offices\n352 Lake Dillon Drive\nDillon\, CO 80435 \nSeating Limited to 10 Summit Historical Society Guests – Get Tickets Below \nClick Here for Directions \n\n\n	Related
URL:https://summithistorical.org/events/communities-of-summit-county-then-now/
LOCATION:Summit Association of Realtors\, 352 Lake Dillon Drive\, Dillon\, CO\, 80435
ATTACH;FMTTYPE=image/png:https://summithistorical.org/wp-content/uploads/2023/02/Flyer-for-SHS-Ad.png
END:VEVENT
END:VCALENDAR