BEGIN:VCALENDAR
VERSION:2.0
PRODID:-//Summit Historical Society - ECPv6.15.20//NONSGML v1.0//EN
CALSCALE:GREGORIAN
METHOD:PUBLISH
X-WR-CALNAME:Summit Historical Society
X-ORIGINAL-URL:https://summithistorical.org
X-WR-CALDESC:Events for Summit Historical Society
REFRESH-INTERVAL;VALUE=DURATION:PT1H
X-Robots-Tag:noindex
X-PUBLISHED-TTL:PT1H
BEGIN:VTIMEZONE
TZID:America/Denver
BEGIN:DAYLIGHT
TZOFFSETFROM:-0700
TZOFFSETTO:-0600
TZNAME:MDT
DTSTART:20220313T090000
END:DAYLIGHT
BEGIN:STANDARD
TZOFFSETFROM:-0600
TZOFFSETTO:-0700
TZNAME:MST
DTSTART:20221106T080000
END:STANDARD
BEGIN:DAYLIGHT
TZOFFSETFROM:-0700
TZOFFSETTO:-0600
TZNAME:MDT
DTSTART:20230312T090000
END:DAYLIGHT
BEGIN:STANDARD
TZOFFSETFROM:-0600
TZOFFSETTO:-0700
TZNAME:MST
DTSTART:20231105T080000
END:STANDARD
BEGIN:DAYLIGHT
TZOFFSETFROM:-0700
TZOFFSETTO:-0600
TZNAME:MDT
DTSTART:20240310T090000
END:DAYLIGHT
BEGIN:STANDARD
TZOFFSETFROM:-0600
TZOFFSETTO:-0700
TZNAME:MST
DTSTART:20241103T080000
END:STANDARD
BEGIN:DAYLIGHT
TZOFFSETFROM:-0700
TZOFFSETTO:-0600
TZNAME:MDT
DTSTART:20250309T090000
END:DAYLIGHT
BEGIN:STANDARD
TZOFFSETFROM:-0600
TZOFFSETTO:-0700
TZNAME:MST
DTSTART:20251102T080000
END:STANDARD
END:VTIMEZONE
BEGIN:VTIMEZONE
TZID:America/Chicago
BEGIN:DAYLIGHT
TZOFFSETFROM:-0600
TZOFFSETTO:-0500
TZNAME:CDT
DTSTART:20210314T080000
END:DAYLIGHT
BEGIN:STANDARD
TZOFFSETFROM:-0500
TZOFFSETTO:-0600
TZNAME:CST
DTSTART:20211107T070000
END:STANDARD
BEGIN:DAYLIGHT
TZOFFSETFROM:-0600
TZOFFSETTO:-0500
TZNAME:CDT
DTSTART:20220313T080000
END:DAYLIGHT
BEGIN:STANDARD
TZOFFSETFROM:-0500
TZOFFSETTO:-0600
TZNAME:CST
DTSTART:20221106T070000
END:STANDARD
BEGIN:DAYLIGHT
TZOFFSETFROM:-0600
TZOFFSETTO:-0500
TZNAME:CDT
DTSTART:20230312T080000
END:DAYLIGHT
BEGIN:STANDARD
TZOFFSETFROM:-0500
TZOFFSETTO:-0600
TZNAME:CST
DTSTART:20231105T070000
END:STANDARD
END:VTIMEZONE
BEGIN:VTIMEZONE
TZID:UTC
BEGIN:STANDARD
TZOFFSETFROM:+0000
TZOFFSETTO:+0000
TZNAME:UTC
DTSTART:20210101T000000
END:STANDARD
END:VTIMEZONE
BEGIN:VEVENT
DTSTART;TZID=America/Denver:20240713T110000
DTEND;TZID=America/Denver:20240713T130000
DTSTAMP:20260420T040533
CREATED:20240712T162727Z
LAST-MODIFIED:20240712T162802Z
UID:10002599-1720868400-1720875600@summithistorical.org
SUMMARY:Rice Barn Open for Visitors
DESCRIPTION:Come visit us at the Rice Barn in Summit Cove and see what an authentic Summit County homestead barn was like. \nOpen Saturdays in July from 11:00 am – 1:00 pm \nLocation: 367 Cove Blvd.\, Dillon\, CO 80435 \nAdmission: $5 \n\n\n	Related
URL:https://summithistorical.org/events/rice-barn-open-for-visitors-3-2/2024-07-13/
LOCATION:Rice Barn\, 367 Cove Boulevard\, Dillon\, CO\, 80435
ATTACH;FMTTYPE=image/jpeg:https://summithistorical.org/wp-content/uploads/2022/02/rice-barn-copy-1-1-e1646071008738.jpg
END:VEVENT
BEGIN:VEVENT
DTSTART;TZID=America/Denver:20240706T110000
DTEND;TZID=America/Denver:20240706T130000
DTSTAMP:20260420T040533
CREATED:20240317T202426Z
LAST-MODIFIED:20240317T202426Z
UID:10002598-1720263600-1720270800@summithistorical.org
SUMMARY:Rice Barn Open for Visitors
DESCRIPTION:Come visit us at the Rice Barn in Summit Cove and see what an authentic Summit County homestead barn was like. \nOpen Saturdays in July from 11:00 am – 1:00 pm \nLocation: 367 Cove Blvd.\, Dillon\, CO 80435 \nSuggested donation of $5.00 per person \n\n\n	Related
URL:https://summithistorical.org/events/rice-barn-open-for-visitors-3/
LOCATION:Rice Barn\, 367 Cove Boulevard\, Dillon\, CO\, 80435
ATTACH;FMTTYPE=image/jpeg:https://summithistorical.org/wp-content/uploads/2022/02/rice-barn-copy-1-1-e1646071008738.jpg
END:VEVENT
BEGIN:VEVENT
DTSTART;TZID=America/Denver:20231202T090000
DTEND;TZID=America/Denver:20231202T113000
DTSTAMP:20260420T040533
CREATED:20231005T185846Z
LAST-MODIFIED:20250825T234130Z
UID:10002510-1701507600-1701516600@summithistorical.org
SUMMARY:Photos With Santa in the Barn
DESCRIPTION:Take your holiday pictures with Santa in the 1919 Rice Family Barn.  \nCost $25 \nReservations required. Please pick a time slot below to make a reservation for your child or family. Thank you! \n\n\n	Related
URL:https://summithistorical.org/events/photos-with-santa-in-the-barn/
LOCATION:Rice Barn\, 367 Cove Boulevard\, Dillon\, CO\, 80435
ATTACH;FMTTYPE=image/jpeg:https://summithistorical.org/wp-content/uploads/2023/10/Santa-and-Sally-and-Bruce-Queen.jpg
END:VEVENT
BEGIN:VEVENT
DTSTART;TZID=America/Denver:20230729T110000
DTEND;TZID=America/Denver:20230729T130000
DTSTAMP:20260420T040533
CREATED:20230501T171408Z
LAST-MODIFIED:20230501T172002Z
UID:10002500-1690628400-1690635600@summithistorical.org
SUMMARY:Rice Barn Open for Visitors
DESCRIPTION:Come visit us at the Rice Barn in Summit Cove and see what an authentic Summit County homestead barn was like. \nLocation: 367 Cove Blvd.\, Dillon\, CO 80435 \nSuggested donation of $5.00 per person. \n\n\n	Related
URL:https://summithistorical.org/events/rice-barn-open-for-visitors-2/2023-07-29/
LOCATION:Rice Barn\, 367 Cove Boulevard\, Dillon\, CO\, 80435
ATTACH;FMTTYPE=image/jpeg:https://summithistorical.org/wp-content/uploads/2022/02/rice-barn-copy-1-1-e1646071008738.jpg
END:VEVENT
BEGIN:VEVENT
DTSTART;TZID=America/Denver:20230722T110000
DTEND;TZID=America/Denver:20230722T130000
DTSTAMP:20260420T040533
CREATED:20230501T171408Z
LAST-MODIFIED:20230501T172002Z
UID:10002499-1690023600-1690030800@summithistorical.org
SUMMARY:Rice Barn Open for Visitors
DESCRIPTION:Come visit us at the Rice Barn in Summit Cove and see what an authentic Summit County homestead barn was like. \nLocation: 367 Cove Blvd.\, Dillon\, CO 80435 \nSuggested donation of $5.00 per person. \n\n\n	Related
URL:https://summithistorical.org/events/rice-barn-open-for-visitors-2/2023-07-22/
LOCATION:Rice Barn\, 367 Cove Boulevard\, Dillon\, CO\, 80435
ATTACH;FMTTYPE=image/jpeg:https://summithistorical.org/wp-content/uploads/2022/02/rice-barn-copy-1-1-e1646071008738.jpg
END:VEVENT
BEGIN:VEVENT
DTSTART;TZID=America/Denver:20230715T110000
DTEND;TZID=America/Denver:20230715T130000
DTSTAMP:20260420T040533
CREATED:20230501T171408Z
LAST-MODIFIED:20230501T172002Z
UID:10002498-1689418800-1689426000@summithistorical.org
SUMMARY:Rice Barn Open for Visitors
DESCRIPTION:Come visit us at the Rice Barn in Summit Cove and see what an authentic Summit County homestead barn was like. \nLocation: 367 Cove Blvd.\, Dillon\, CO 80435 \nSuggested donation of $5.00 per person. \n\n\n	Related
URL:https://summithistorical.org/events/rice-barn-open-for-visitors-2/2023-07-15/
LOCATION:Rice Barn\, 367 Cove Boulevard\, Dillon\, CO\, 80435
ATTACH;FMTTYPE=image/jpeg:https://summithistorical.org/wp-content/uploads/2022/02/rice-barn-copy-1-1-e1646071008738.jpg
END:VEVENT
BEGIN:VEVENT
DTSTART;TZID=America/Denver:20230708T110000
DTEND;TZID=America/Denver:20230708T130000
DTSTAMP:20260420T040533
CREATED:20230501T171408Z
LAST-MODIFIED:20230501T172002Z
UID:10002497-1688814000-1688821200@summithistorical.org
SUMMARY:Rice Barn Open for Visitors
DESCRIPTION:Come visit us at the Rice Barn in Summit Cove and see what an authentic Summit County homestead barn was like. \nLocation: 367 Cove Blvd.\, Dillon\, CO 80435 \nSuggested donation of $5.00 per person. \n\n\n	Related
URL:https://summithistorical.org/events/rice-barn-open-for-visitors-2/2023-07-08/
LOCATION:Rice Barn\, 367 Cove Boulevard\, Dillon\, CO\, 80435
ATTACH;FMTTYPE=image/jpeg:https://summithistorical.org/wp-content/uploads/2022/02/rice-barn-copy-1-1-e1646071008738.jpg
END:VEVENT
BEGIN:VEVENT
DTSTART;TZID=America/Denver:20230701T110000
DTEND;TZID=America/Denver:20230701T130000
DTSTAMP:20260420T040533
CREATED:20230501T171408Z
LAST-MODIFIED:20230501T172002Z
UID:10002496-1688209200-1688216400@summithistorical.org
SUMMARY:Rice Barn Open for Visitors
DESCRIPTION:Come visit us at the Rice Barn in Summit Cove and see what an authentic Summit County homestead barn was like. \nLocation: 367 Cove Blvd.\, Dillon\, CO 80435 \nSuggested donation of $5.00 per person. \n\n\n	Related
URL:https://summithistorical.org/events/rice-barn-open-for-visitors-2/2023-07-01/
LOCATION:Rice Barn\, 367 Cove Boulevard\, Dillon\, CO\, 80435
ATTACH;FMTTYPE=image/jpeg:https://summithistorical.org/wp-content/uploads/2022/02/rice-barn-copy-1-1-e1646071008738.jpg
END:VEVENT
BEGIN:VEVENT
DTSTART;TZID=America/Chicago:20221126T100000
DTEND;TZID=America/Chicago:20221126T150000
DTSTAMP:20260420T040533
CREATED:20220921T172134Z
LAST-MODIFIED:20230127T185114Z
UID:10002270-1669456800-1669474800@summithistorical.org
SUMMARY:Santa in the Barn
DESCRIPTION: \nSaturday November 26th\, 10:00am – 3:00pm\nSanta Claus is making his list for Christmas and he’ll be checking it twice to see who’s been naughty or nice.  Come visit with Santa at the Rice Family Barn in Summit Cove and let him know what you would like for Christmas! \n________________________________________________________________________________ \nProfessional Photography 10:00am – 11:30am ($20 per family)\n      * A professional photographer will be on hand from 10:00am – 11:30am.\n      * Photos will be emailed to you after the event\n      * Purchase your advance ticket below \n      * PLEASE ARRIVE TEN MINUTES BEFORE YOUR SPECIFIED TIME SLOT INDICATED ON YOUR TICKET \nGeneral Admission 12noon – 3:00pm ($5 per family)\n      * Santa will take a quick break from 11:30 – 12noon.  Then he will be back to hear your wish lists from 12noon – 3:00pm \nColoring Page\n      * Download the Santa coloring page below. \n      * Have your child color it and bring it with you to the barn on November 26th. \n      * We will display it for all to appreciate! \nCLICK HERE TO PRINT SANTA COLORING PAGE \n\n\n	Related
URL:https://summithistorical.org/events/santa-in-the-barn/
LOCATION:Rice Barn\, 367 Cove Boulevard\, Dillon\, CO\, 80435
END:VEVENT
BEGIN:VEVENT
DTSTART;TZID=UTC:20220730T110000
DTEND;TZID=UTC:20220730T130000
DTSTAMP:20260420T040533
CREATED:20220616T160458Z
LAST-MODIFIED:20230127T185725Z
UID:10002175-1659178800-1659186000@summithistorical.org
SUMMARY:Rice Barn Open for Visitors
DESCRIPTION:Come visit us at the Rice Barn in Summit Cove and see what an authentic Summit County homestead barn was like. \nLocation: 367 Summit Blvd\, Dillon\, Colorado. \nSuggested donation of $5.00 per person. \n\n\n	Related
URL:https://summithistorical.org/events/rice-barn-open-for-visitors/2022-07-30/
LOCATION:Rice Barn\, 367 Cove Boulevard\, Dillon\, CO\, 80435
ATTACH;FMTTYPE=image/png:https://summithistorical.org/wp-content/uploads/2022/06/Rice-Barn-cropped.png
END:VEVENT
BEGIN:VEVENT
DTSTART;TZID=UTC:20220723T110000
DTEND;TZID=UTC:20220723T130000
DTSTAMP:20260420T040533
CREATED:20220616T160458Z
LAST-MODIFIED:20230127T185725Z
UID:10002174-1658574000-1658581200@summithistorical.org
SUMMARY:Rice Barn Open for Visitors
DESCRIPTION:Come visit us at the Rice Barn in Summit Cove and see what an authentic Summit County homestead barn was like. \nLocation: 367 Summit Blvd\, Dillon\, Colorado. \nSuggested donation of $5.00 per person. \n\n\n	Related
URL:https://summithistorical.org/events/rice-barn-open-for-visitors/2022-07-23/
LOCATION:Rice Barn\, 367 Cove Boulevard\, Dillon\, CO\, 80435
ATTACH;FMTTYPE=image/png:https://summithistorical.org/wp-content/uploads/2022/06/Rice-Barn-cropped.png
END:VEVENT
BEGIN:VEVENT
DTSTART;TZID=UTC:20220716T110000
DTEND;TZID=UTC:20220716T130000
DTSTAMP:20260420T040533
CREATED:20220616T160458Z
LAST-MODIFIED:20230127T185725Z
UID:10002173-1657969200-1657976400@summithistorical.org
SUMMARY:Rice Barn Open for Visitors
DESCRIPTION:Come visit us at the Rice Barn in Summit Cove and see what an authentic Summit County homestead barn was like. \nLocation: 367 Summit Blvd\, Dillon\, Colorado. \nSuggested donation of $5.00 per person. \n\n\n	Related
URL:https://summithistorical.org/events/rice-barn-open-for-visitors/2022-07-16/
LOCATION:Rice Barn\, 367 Cove Boulevard\, Dillon\, CO\, 80435
ATTACH;FMTTYPE=image/png:https://summithistorical.org/wp-content/uploads/2022/06/Rice-Barn-cropped.png
END:VEVENT
BEGIN:VEVENT
DTSTART;TZID=America/Chicago:20220711T170000
DTEND;TZID=America/Chicago:20220711T183000
DTSTAMP:20260420T040533
CREATED:20220427T230138Z
LAST-MODIFIED:20230127T185655Z
UID:10002168-1657558800-1657564200@summithistorical.org
SUMMARY:Wine Tasting at the Rice Barn - Summit Cove
DESCRIPTION:Join us for another SHS “Adult Education” event at the Rice Barn in Summit Cove.   Sommelier Aaron Ramirez will be on hand to showcase fabulous wines from around the world. \n\n\n	Related
URL:https://summithistorical.org/events/wine-tasting-at-the-rice-barn-summit-cove/
LOCATION:Rice Barn\, 367 Cove Boulevard\, Dillon\, CO\, 80435
ATTACH;FMTTYPE=image/jpeg:https://summithistorical.org/wp-content/uploads/2022/04/Pic-Wine-Glass-Adult-Education-publicdomain.net_.jpg
END:VEVENT
BEGIN:VEVENT
DTSTART;TZID=UTC:20220709T110000
DTEND;TZID=UTC:20220709T130000
DTSTAMP:20260420T040533
CREATED:20220616T160458Z
LAST-MODIFIED:20230127T185725Z
UID:10002172-1657364400-1657371600@summithistorical.org
SUMMARY:Rice Barn Open for Visitors
DESCRIPTION:Come visit us at the Rice Barn in Summit Cove and see what an authentic Summit County homestead barn was like. \nLocation: 367 Summit Blvd\, Dillon\, Colorado. \nSuggested donation of $5.00 per person. \n\n\n	Related
URL:https://summithistorical.org/events/rice-barn-open-for-visitors/2022-07-09/
LOCATION:Rice Barn\, 367 Cove Boulevard\, Dillon\, CO\, 80435
ATTACH;FMTTYPE=image/png:https://summithistorical.org/wp-content/uploads/2022/06/Rice-Barn-cropped.png
END:VEVENT
BEGIN:VEVENT
DTSTART;TZID=America/Chicago:20220707T173000
DTEND;TZID=America/Chicago:20220707T190000
DTSTAMP:20260420T040533
CREATED:20220616T204141Z
LAST-MODIFIED:20230127T185657Z
UID:10002237-1657215000-1657220400@summithistorical.org
SUMMARY:SHS Member Meet & Greet - July (FREE)
DESCRIPTION:Join us at the historic 1919 Rice Barn in Summit Cove and get a feel for what life on an authentic Summit County homestead was like.  Long time resident\, Alan Rice will be on hand to share some of his favorite stories and memories of growing up Summit County in the 1940’s through the 1960’s when the Town of Dillon was moved to make way for the new reservoir. \nSHS Member-Only Meet and Greet for July \n\nMeet fellow SHS members by joining us at the historic 1919 Rice Barn in Summit Cove and get a feel for what life on an authentic Summit County homestead was like.\nFREE\, but space is limited to (24) guests – GET YOUR FREE TICKETS BELOW\nReservations required.\nDonations appreciated and benefit Summit Historical Society\n\n\n\n	Related
URL:https://summithistorical.org/events/shs-member-meet-greet-july-free/
LOCATION:Rice Barn\, 367 Cove Boulevard\, Dillon\, CO\, 80435
ATTACH;FMTTYPE=image/png:https://summithistorical.org/wp-content/uploads/2022/02/education-adult-rice-barn-e1646087028432.png
END:VEVENT
BEGIN:VEVENT
DTSTART;TZID=UTC:20220702T110000
DTEND;TZID=UTC:20220702T130000
DTSTAMP:20260420T040533
CREATED:20220616T160458Z
LAST-MODIFIED:20230127T185725Z
UID:10002171-1656759600-1656766800@summithistorical.org
SUMMARY:Rice Barn Open for Visitors
DESCRIPTION:Come visit us at the Rice Barn in Summit Cove and see what an authentic Summit County homestead barn was like. \nLocation: 367 Summit Blvd\, Dillon\, Colorado. \nSuggested donation of $5.00 per person. \n\n\n	Related
URL:https://summithistorical.org/events/rice-barn-open-for-visitors/2022-07-02/
LOCATION:Rice Barn\, 367 Cove Boulevard\, Dillon\, CO\, 80435
ATTACH;FMTTYPE=image/png:https://summithistorical.org/wp-content/uploads/2022/06/Rice-Barn-cropped.png
END:VEVENT
END:VCALENDAR