BEGIN:VCALENDAR
VERSION:2.0
PRODID:-//Summit Historical Society - ECPv6.15.20//NONSGML v1.0//EN
CALSCALE:GREGORIAN
METHOD:PUBLISH
X-WR-CALNAME:Summit Historical Society
X-ORIGINAL-URL:https://summithistorical.org
X-WR-CALDESC:Events for Summit Historical Society
REFRESH-INTERVAL;VALUE=DURATION:PT1H
X-Robots-Tag:noindex
X-PUBLISHED-TTL:PT1H
BEGIN:VTIMEZONE
TZID:America/Denver
BEGIN:DAYLIGHT
TZOFFSETFROM:-0700
TZOFFSETTO:-0600
TZNAME:MDT
DTSTART:20220313T090000
END:DAYLIGHT
BEGIN:STANDARD
TZOFFSETFROM:-0600
TZOFFSETTO:-0700
TZNAME:MST
DTSTART:20221106T080000
END:STANDARD
BEGIN:DAYLIGHT
TZOFFSETFROM:-0700
TZOFFSETTO:-0600
TZNAME:MDT
DTSTART:20230312T090000
END:DAYLIGHT
BEGIN:STANDARD
TZOFFSETFROM:-0600
TZOFFSETTO:-0700
TZNAME:MST
DTSTART:20231105T080000
END:STANDARD
BEGIN:DAYLIGHT
TZOFFSETFROM:-0700
TZOFFSETTO:-0600
TZNAME:MDT
DTSTART:20240310T090000
END:DAYLIGHT
BEGIN:STANDARD
TZOFFSETFROM:-0600
TZOFFSETTO:-0700
TZNAME:MST
DTSTART:20241103T080000
END:STANDARD
BEGIN:DAYLIGHT
TZOFFSETFROM:-0700
TZOFFSETTO:-0600
TZNAME:MDT
DTSTART:20250309T090000
END:DAYLIGHT
BEGIN:STANDARD
TZOFFSETFROM:-0600
TZOFFSETTO:-0700
TZNAME:MST
DTSTART:20251102T080000
END:STANDARD
BEGIN:DAYLIGHT
TZOFFSETFROM:-0700
TZOFFSETTO:-0600
TZNAME:MDT
DTSTART:20260308T090000
END:DAYLIGHT
BEGIN:STANDARD
TZOFFSETFROM:-0600
TZOFFSETTO:-0700
TZNAME:MST
DTSTART:20261101T080000
END:STANDARD
BEGIN:DAYLIGHT
TZOFFSETFROM:-0700
TZOFFSETTO:-0600
TZNAME:MDT
DTSTART:20270314T090000
END:DAYLIGHT
BEGIN:STANDARD
TZOFFSETFROM:-0600
TZOFFSETTO:-0700
TZNAME:MST
DTSTART:20271107T080000
END:STANDARD
END:VTIMEZONE
BEGIN:VEVENT
DTSTART;TZID=America/Denver:20260210T173000
DTEND;TZID=America/Denver:20260210T183000
DTSTAMP:20260423T160153
CREATED:20260109T070812Z
LAST-MODIFIED:20260205T162024Z
UID:10003528-1770744600-1770748200@summithistorical.org
SUMMARY:Historical Landscapes Series: Book Launch with the Authors
DESCRIPTION:Join us for a special book launch and an opportunity to meet the authors and the book cover artist of the new publication\, Historic Landscapes: Ghost Towns and Townsites: Parkville and Spencerville – Volume 5. \nBill Fountain and Dr. Sandra Mather will be Zooming in to answer questions about their newest publication. Enjoy special guests Sandy and Steve Watson who helped bring historic Parkville to life. \nParkville was the first County seat for Summit County in the new Colorado Territory in 1861.  Now a ghost town\, learn what led to its decline and where it once stood.  The authors and artist have brought these town to life through primary research and artistic re-creation. \nBe the first to get a copy! \nDate: February 10\, 2025 \nTime:  5:30 – 6:30 PM \nLocation:  Colorado Mountain College\, 107 Denison Placer Road\, Breckenridge. \nZoom attendance is available. Join Zoom Meeting:  Meeting ID: 851 3370 5729.  Passcode: 907917\nhttps://us06web.zoom.us/j/85133705729?pwd=lUXQ4TerHDSMcoLcpMBdw1AlVlEHpK.1 \nCost:  FREE\, limited to 70 guests. \nQuestions? Contact us at mail@summithistorical.org or call at 970-468-2207. \nThis book is Volume 5 in the Historic Landscape Series.  Other books and the entire book bundle will be available for purchase at the event.  Books can also be purchased on our website here. \nEvent sponsored by Summit Historical Society\, Colorado Mountain College and Rhyolite Press. \n                                 \n\n  \nCelebrate Colorado’s History: 150 Years of Statehood\n\n \nIn 2026\, Colorado marks 150 years of statehood alongside the nation’s 250th anniversary\, a unique Sesquisemiquincentennial. Join us as we celebrate Summit County’s people and history. \n\n\n\n	Related
URL:https://summithistorical.org/events/book-launch-and-meet-greet-author-parkville-and-spencerville/
LOCATION:Colorado Mountain College\, Breckenridge\, CO\, 107 Denison Placer Road\, Breckenridge\, Colorado\, 80424
ATTACH;FMTTYPE=image/png:https://summithistorical.org/wp-content/uploads/2026/01/Front-Cover-Volume-5-parkville-book.png
END:VEVENT
BEGIN:VEVENT
DTSTART;TZID=America/Denver:20231114T090000
DTEND;TZID=America/Denver:20231114T130000
DTSTAMP:20260423T160153
CREATED:20231024T151448Z
LAST-MODIFIED:20231024T190004Z
UID:10002522-1699952400-1699966800@summithistorical.org
SUMMARY:Ute Knowledge of STEM Exhibit Open 9AM - 1PM at CMC
DESCRIPTION:Ute Knowledge of STEM exhibit at Colorado Mountain College. \nExhibit will be open to all from 9AM – 1PM. \n\n\n	Related
URL:https://summithistorical.org/events/ute-knowledge-of-stem-exhibit-2/2023-11-14/
LOCATION:Colorado Mountain College\, Breckenridge\, CO\, 107 Denison Placer Road\, Breckenridge\, Colorado\, 80424
CATEGORIES:Happenings
ATTACH;FMTTYPE=image/jpeg:https://summithistorical.org/wp-content/uploads/2023/10/Ute-Knowledge-of-Stem-Exhibit-at-CMC-9AM-1PM.jpg
END:VEVENT
BEGIN:VEVENT
DTSTART;TZID=America/Denver:20231113T090000
DTEND;TZID=America/Denver:20231113T130000
DTSTAMP:20260423T160153
CREATED:20231024T151448Z
LAST-MODIFIED:20231024T190004Z
UID:10002521-1699866000-1699880400@summithistorical.org
SUMMARY:Ute Knowledge of STEM Exhibit Open 9AM - 1PM at CMC
DESCRIPTION:Ute Knowledge of STEM exhibit at Colorado Mountain College. \nExhibit will be open to all from 9AM – 1PM. \n\n\n	Related
URL:https://summithistorical.org/events/ute-knowledge-of-stem-exhibit-2/2023-11-13/
LOCATION:Colorado Mountain College\, Breckenridge\, CO\, 107 Denison Placer Road\, Breckenridge\, Colorado\, 80424
CATEGORIES:Happenings
ATTACH;FMTTYPE=image/jpeg:https://summithistorical.org/wp-content/uploads/2023/10/Ute-Knowledge-of-Stem-Exhibit-at-CMC-9AM-1PM.jpg
END:VEVENT
BEGIN:VEVENT
DTSTART;TZID=America/Denver:20231111T090000
DTEND;TZID=America/Denver:20231111T130000
DTSTAMP:20260423T160153
CREATED:20231024T151448Z
LAST-MODIFIED:20231024T190004Z
UID:10002520-1699693200-1699707600@summithistorical.org
SUMMARY:Ute Knowledge of STEM Exhibit Open 9AM - 1PM at CMC
DESCRIPTION:Ute Knowledge of STEM exhibit at Colorado Mountain College. \nExhibit will be open to all from 9AM – 1PM. \n\n\n	Related
URL:https://summithistorical.org/events/ute-knowledge-of-stem-exhibit-2/2023-11-11/
LOCATION:Colorado Mountain College\, Breckenridge\, CO\, 107 Denison Placer Road\, Breckenridge\, Colorado\, 80424
CATEGORIES:Happenings
ATTACH;FMTTYPE=image/jpeg:https://summithistorical.org/wp-content/uploads/2023/10/Ute-Knowledge-of-Stem-Exhibit-at-CMC-9AM-1PM.jpg
END:VEVENT
BEGIN:VEVENT
DTSTART;TZID=America/Denver:20231110T090000
DTEND;TZID=America/Denver:20231110T130000
DTSTAMP:20260423T160153
CREATED:20231024T151448Z
LAST-MODIFIED:20231024T190004Z
UID:10002519-1699606800-1699621200@summithistorical.org
SUMMARY:Ute Knowledge of STEM Exhibit Open 9AM - 1PM at CMC
DESCRIPTION:Ute Knowledge of STEM exhibit at Colorado Mountain College. \nExhibit will be open to all from 9AM – 1PM. \n\n\n	Related
URL:https://summithistorical.org/events/ute-knowledge-of-stem-exhibit-2/2023-11-10/
LOCATION:Colorado Mountain College\, Breckenridge\, CO\, 107 Denison Placer Road\, Breckenridge\, Colorado\, 80424
CATEGORIES:Happenings
ATTACH;FMTTYPE=image/jpeg:https://summithistorical.org/wp-content/uploads/2023/10/Ute-Knowledge-of-Stem-Exhibit-at-CMC-9AM-1PM.jpg
END:VEVENT
BEGIN:VEVENT
DTSTART;TZID=America/Denver:20231109T090000
DTEND;TZID=America/Denver:20231109T150000
DTSTAMP:20260423T160153
CREATED:20231002T040900Z
LAST-MODIFIED:20231024T161606Z
UID:10002509-1699520400-1699542000@summithistorical.org
SUMMARY:Ute Knowledge of STEM Field Trips - November 9th - Sold Out
DESCRIPTION:Ute Knowledge of STEM presented at Colorado Mountain College. \nOne hour field trips welcome for schools\, recommended 4th -12th grades. \nSorry\, but we are sold out! \nPlease email questions to mail@summithistorical.org with questions about field trips or exhibit. \n\n\n	Related
URL:https://summithistorical.org/events/ute-knowledge-of-stem-field-trip-november-9th/
LOCATION:Colorado Mountain College\, Breckenridge\, CO\, 107 Denison Placer Road\, Breckenridge\, Colorado\, 80424
CATEGORIES:Happenings
ATTACH;FMTTYPE=image/png:https://summithistorical.org/wp-content/uploads/2023/09/UteExhibit-Ad-14pg-4.89-×-7-in.png
END:VEVENT
BEGIN:VEVENT
DTSTART;TZID=America/Denver:20231109T090000
DTEND;TZID=America/Denver:20231109T130000
DTSTAMP:20260423T160153
CREATED:20231024T151448Z
LAST-MODIFIED:20231024T190004Z
UID:10002518-1699520400-1699534800@summithistorical.org
SUMMARY:Ute Knowledge of STEM Exhibit Open 9AM - 1PM at CMC
DESCRIPTION:Ute Knowledge of STEM exhibit at Colorado Mountain College. \nExhibit will be open to all from 9AM – 1PM. \n\n\n	Related
URL:https://summithistorical.org/events/ute-knowledge-of-stem-exhibit-2/2023-11-09/
LOCATION:Colorado Mountain College\, Breckenridge\, CO\, 107 Denison Placer Road\, Breckenridge\, Colorado\, 80424
CATEGORIES:Happenings
ATTACH;FMTTYPE=image/jpeg:https://summithistorical.org/wp-content/uploads/2023/10/Ute-Knowledge-of-Stem-Exhibit-at-CMC-9AM-1PM.jpg
END:VEVENT
BEGIN:VEVENT
DTSTART;TZID=America/Denver:20231108T090000
DTEND;TZID=America/Denver:20231108T150000
DTSTAMP:20260423T160153
CREATED:20231002T040347Z
LAST-MODIFIED:20231024T161410Z
UID:10002508-1699434000-1699455600@summithistorical.org
SUMMARY:Ute Knowledge of STEM Field Trips - November 8th - Sold Out
DESCRIPTION:Ute Knowledge of STEM presented at Colorado Mountain College. \nOne hour field trips welcome for schools\, recommended 4th -12th grades. \nSorry\, but we are sold out! \nPlease email questions to mail@summithistorical.org with questions about field trips or exhibit. \n\n\n	Related
URL:https://summithistorical.org/events/ute-knowledge-of-stem-field-trip-november-8th/
LOCATION:Colorado Mountain College\, Breckenridge\, CO\, 107 Denison Placer Road\, Breckenridge\, Colorado\, 80424
CATEGORIES:Happenings
ATTACH;FMTTYPE=image/jpeg:https://summithistorical.org/wp-content/uploads/2023/10/Ute-Knowledge-of-Stem-Exhibit-at-CMC-9AM-1PM.jpg
END:VEVENT
BEGIN:VEVENT
DTSTART;TZID=America/Denver:20231108T090000
DTEND;TZID=America/Denver:20231108T130000
DTSTAMP:20260423T160153
CREATED:20231024T151448Z
LAST-MODIFIED:20231024T190004Z
UID:10002517-1699434000-1699448400@summithistorical.org
SUMMARY:Ute Knowledge of STEM Exhibit Open 9AM - 1PM at CMC
DESCRIPTION:Ute Knowledge of STEM exhibit at Colorado Mountain College. \nExhibit will be open to all from 9AM – 1PM. \n\n\n	Related
URL:https://summithistorical.org/events/ute-knowledge-of-stem-exhibit-2/2023-11-08/
LOCATION:Colorado Mountain College\, Breckenridge\, CO\, 107 Denison Placer Road\, Breckenridge\, Colorado\, 80424
CATEGORIES:Happenings
ATTACH;FMTTYPE=image/jpeg:https://summithistorical.org/wp-content/uploads/2023/10/Ute-Knowledge-of-Stem-Exhibit-at-CMC-9AM-1PM.jpg
END:VEVENT
BEGIN:VEVENT
DTSTART;TZID=America/Denver:20231107T090000
DTEND;TZID=America/Denver:20231107T130000
DTSTAMP:20260423T160153
CREATED:20231024T151448Z
LAST-MODIFIED:20231024T190004Z
UID:10002516-1699347600-1699362000@summithistorical.org
SUMMARY:Ute Knowledge of STEM Exhibit Open 9AM - 1PM at CMC
DESCRIPTION:Ute Knowledge of STEM exhibit at Colorado Mountain College. \nExhibit will be open to all from 9AM – 1PM. \n\n\n	Related
URL:https://summithistorical.org/events/ute-knowledge-of-stem-exhibit-2/2023-11-07/
LOCATION:Colorado Mountain College\, Breckenridge\, CO\, 107 Denison Placer Road\, Breckenridge\, Colorado\, 80424
CATEGORIES:Happenings
ATTACH;FMTTYPE=image/jpeg:https://summithistorical.org/wp-content/uploads/2023/10/Ute-Knowledge-of-Stem-Exhibit-at-CMC-9AM-1PM.jpg
END:VEVENT
BEGIN:VEVENT
DTSTART;TZID=America/Denver:20231106T090000
DTEND;TZID=America/Denver:20231106T130000
DTSTAMP:20260423T160153
CREATED:20231024T151448Z
LAST-MODIFIED:20231024T190004Z
UID:10002515-1699261200-1699275600@summithistorical.org
SUMMARY:Ute Knowledge of STEM Exhibit Open 9AM - 1PM at CMC
DESCRIPTION:Ute Knowledge of STEM exhibit at Colorado Mountain College. \nExhibit will be open to all from 9AM – 1PM. \n\n\n	Related
URL:https://summithistorical.org/events/ute-knowledge-of-stem-exhibit-2/2023-11-06/
LOCATION:Colorado Mountain College\, Breckenridge\, CO\, 107 Denison Placer Road\, Breckenridge\, Colorado\, 80424
CATEGORIES:Happenings
ATTACH;FMTTYPE=image/jpeg:https://summithistorical.org/wp-content/uploads/2023/10/Ute-Knowledge-of-Stem-Exhibit-at-CMC-9AM-1PM.jpg
END:VEVENT
BEGIN:VEVENT
DTSTART;VALUE=DATE:20231106
DTEND;VALUE=DATE:20231107
DTSTAMP:20260423T160153
CREATED:20230922T212418Z
LAST-MODIFIED:20231002T041724Z
UID:10002506-1699228800-1699315199@summithistorical.org
SUMMARY:Ute Knowledge of STEM Field Trips - November 6th
DESCRIPTION:Ute Knowledge of STEM presented at Colorado Mountain College. \nOne hour field trips welcome for schools\, recommended 4th -12th grades. \nPlease reserve a time slot below: \n\n10AM – 11AM\n1PM – 2PM\n2PM – 3 PM\n\nEach time slot for up to 30 students. \nPlease email questions to mail@summithistorical.org with questions about field trips or exhibit. \n\n\n	Related
URL:https://summithistorical.org/events/ute-knowledge-of-stem-field-trip-november-6th/
LOCATION:Colorado Mountain College\, Breckenridge\, CO\, 107 Denison Placer Road\, Breckenridge\, Colorado\, 80424
CATEGORIES:Happenings
ATTACH;FMTTYPE=image/png:https://summithistorical.org/wp-content/uploads/2023/09/UteExhibit-Ad-14pg-4.89-×-7-in.png
END:VEVENT
BEGIN:VEVENT
DTSTART;TZID=America/Denver:20231104T090000
DTEND;TZID=America/Denver:20231104T130000
DTSTAMP:20260423T160153
CREATED:20231024T151448Z
LAST-MODIFIED:20231024T190004Z
UID:10002514-1699088400-1699102800@summithistorical.org
SUMMARY:Ute Knowledge of STEM Exhibit Open 9AM - 1PM at CMC
DESCRIPTION:Ute Knowledge of STEM exhibit at Colorado Mountain College. \nExhibit will be open to all from 9AM – 1PM. \n\n\n	Related
URL:https://summithistorical.org/events/ute-knowledge-of-stem-exhibit-2/2023-11-04/
LOCATION:Colorado Mountain College\, Breckenridge\, CO\, 107 Denison Placer Road\, Breckenridge\, Colorado\, 80424
CATEGORIES:Happenings
ATTACH;FMTTYPE=image/jpeg:https://summithistorical.org/wp-content/uploads/2023/10/Ute-Knowledge-of-Stem-Exhibit-at-CMC-9AM-1PM.jpg
END:VEVENT
BEGIN:VEVENT
DTSTART;TZID=America/Denver:20231103T090000
DTEND;TZID=America/Denver:20231103T130000
DTSTAMP:20260423T160153
CREATED:20231024T151448Z
LAST-MODIFIED:20231024T190004Z
UID:10002513-1699002000-1699016400@summithistorical.org
SUMMARY:Ute Knowledge of STEM Exhibit Open 9AM - 1PM at CMC
DESCRIPTION:Ute Knowledge of STEM exhibit at Colorado Mountain College. \nExhibit will be open to all from 9AM – 1PM. \n\n\n	Related
URL:https://summithistorical.org/events/ute-knowledge-of-stem-exhibit-2/2023-11-03/
LOCATION:Colorado Mountain College\, Breckenridge\, CO\, 107 Denison Placer Road\, Breckenridge\, Colorado\, 80424
CATEGORIES:Happenings
ATTACH;FMTTYPE=image/jpeg:https://summithistorical.org/wp-content/uploads/2023/10/Ute-Knowledge-of-Stem-Exhibit-at-CMC-9AM-1PM.jpg
END:VEVENT
BEGIN:VEVENT
DTSTART;TZID=America/Denver:20231102T130000
DTEND;TZID=America/Denver:20231102T140000
DTSTAMP:20260423T160153
CREATED:20230921T165107Z
LAST-MODIFIED:20231030T163908Z
UID:10002503-1698930000-1698933600@summithistorical.org
SUMMARY:Stories of the Nuche\, Tales of the Ute People 1-2 PM
DESCRIPTION:Stories of the Nuche\, Tales of the Ute People presented by Nina Gabianelli of Aspen Historical Society and Skylar Lomahaftewah\, a member of the Northern Ute tribe. \n200 Seats Available \nStudents Welcome \n\n\n	Related
URL:https://summithistorical.org/events/stories-of-the-nuche-tales-of-the-ute-people/
LOCATION:Colorado Mountain College\, Breckenridge\, CO\, 107 Denison Placer Road\, Breckenridge\, Colorado\, 80424
CATEGORIES:Happenings
ATTACH;FMTTYPE=image/jpeg:https://summithistorical.org/wp-content/uploads/2023/09/Stories-of-the-Nuche.jpg
END:VEVENT
BEGIN:VEVENT
DTSTART;TZID=America/Denver:20231102T090000
DTEND;TZID=America/Denver:20231102T130000
DTSTAMP:20260423T160153
CREATED:20231024T151448Z
LAST-MODIFIED:20231024T190004Z
UID:10002512-1698915600-1698930000@summithistorical.org
SUMMARY:Ute Knowledge of STEM Exhibit Open 9AM - 1PM at CMC
DESCRIPTION:Ute Knowledge of STEM exhibit at Colorado Mountain College. \nExhibit will be open to all from 9AM – 1PM. \n\n\n	Related
URL:https://summithistorical.org/events/ute-knowledge-of-stem-exhibit-2/2023-11-02/
LOCATION:Colorado Mountain College\, Breckenridge\, CO\, 107 Denison Placer Road\, Breckenridge\, Colorado\, 80424
CATEGORIES:Happenings
ATTACH;FMTTYPE=image/jpeg:https://summithistorical.org/wp-content/uploads/2023/10/Ute-Knowledge-of-Stem-Exhibit-at-CMC-9AM-1PM.jpg
END:VEVENT
BEGIN:VEVENT
DTSTART;TZID=America/Denver:20231101T090000
DTEND;TZID=America/Denver:20231101T130000
DTSTAMP:20260423T160153
CREATED:20231024T151448Z
LAST-MODIFIED:20231024T190004Z
UID:10002511-1698829200-1698843600@summithistorical.org
SUMMARY:Ute Knowledge of STEM Exhibit Open 9AM - 1PM at CMC
DESCRIPTION:Ute Knowledge of STEM exhibit at Colorado Mountain College. \nExhibit will be open to all from 9AM – 1PM. \n\n\n	Related
URL:https://summithistorical.org/events/ute-knowledge-of-stem-exhibit-2/2023-11-01/
LOCATION:Colorado Mountain College\, Breckenridge\, CO\, 107 Denison Placer Road\, Breckenridge\, Colorado\, 80424
CATEGORIES:Happenings
ATTACH;FMTTYPE=image/jpeg:https://summithistorical.org/wp-content/uploads/2023/10/Ute-Knowledge-of-Stem-Exhibit-at-CMC-9AM-1PM.jpg
END:VEVENT
END:VCALENDAR