BEGIN:VCALENDAR
VERSION:2.0
PRODID:-//Summit Historical Society - ECPv6.15.20//NONSGML v1.0//EN
CALSCALE:GREGORIAN
METHOD:PUBLISH
X-WR-CALNAME:Summit Historical Society
X-ORIGINAL-URL:https://summithistorical.org
X-WR-CALDESC:Events for Summit Historical Society
REFRESH-INTERVAL;VALUE=DURATION:PT1H
X-Robots-Tag:noindex
X-PUBLISHED-TTL:PT1H
BEGIN:VTIMEZONE
TZID:America/Chicago
BEGIN:DAYLIGHT
TZOFFSETFROM:-0600
TZOFFSETTO:-0500
TZNAME:CDT
DTSTART:20210314T080000
END:DAYLIGHT
BEGIN:STANDARD
TZOFFSETFROM:-0500
TZOFFSETTO:-0600
TZNAME:CST
DTSTART:20211107T070000
END:STANDARD
BEGIN:DAYLIGHT
TZOFFSETFROM:-0600
TZOFFSETTO:-0500
TZNAME:CDT
DTSTART:20220313T080000
END:DAYLIGHT
BEGIN:STANDARD
TZOFFSETFROM:-0500
TZOFFSETTO:-0600
TZNAME:CST
DTSTART:20221106T070000
END:STANDARD
BEGIN:DAYLIGHT
TZOFFSETFROM:-0600
TZOFFSETTO:-0500
TZNAME:CDT
DTSTART:20230312T080000
END:DAYLIGHT
BEGIN:STANDARD
TZOFFSETFROM:-0500
TZOFFSETTO:-0600
TZNAME:CST
DTSTART:20231105T070000
END:STANDARD
END:VTIMEZONE
BEGIN:VEVENT
DTSTART;TZID=America/Chicago:20220928T160000
DTEND;TZID=America/Chicago:20220928T173000
DTSTAMP:20260421T085527
CREATED:20220824T192436Z
LAST-MODIFIED:20230127T185118Z
UID:10002266-1664380800-1664386200@summithistorical.org
SUMMARY:SHS Member Meet & Greet - September (FREE)
DESCRIPTION:Join us at the 1883 Dillon Schoolhouse Museum as longtime SHS member\, Jean Adams shares her stories of the Swedish immigrants of Summit County. \nSHS Member-Only Meet and Greet for September \n\nMeet fellow SHS members by joining us at the 1883 Dillon Schoolhouse and learn about Summit County’s rich history\nFREE\, but space is limited to (30) guests – GET YOUR FREE TICKETS BELOW\nReservations required.\nDonations appreciated and benefit Summit Historical Society
URL:https://summithistorical.org/events/shs-member-meet-greet-september-free/
LOCATION:Slifer Smith & Frampton- Breckenridge Office\, 117 S Main St.\, Breckenridge\, CO\, 80424\, United States
ATTACH;FMTTYPE=image/jpeg:https://summithistorical.org/wp-content/uploads/2022/03/20220414_092249.jpg
END:VEVENT
END:VCALENDAR