BEGIN:VCALENDAR
VERSION:2.0
PRODID:-//Summit Historical Society - ECPv6.15.20//NONSGML v1.0//EN
CALSCALE:GREGORIAN
METHOD:PUBLISH
X-WR-CALNAME:Summit Historical Society
X-ORIGINAL-URL:https://summithistorical.org
X-WR-CALDESC:Events for Summit Historical Society
REFRESH-INTERVAL;VALUE=DURATION:PT1H
X-Robots-Tag:noindex
X-PUBLISHED-TTL:PT1H
BEGIN:VTIMEZONE
TZID:America/Chicago
BEGIN:DAYLIGHT
TZOFFSETFROM:-0600
TZOFFSETTO:-0500
TZNAME:CDT
DTSTART:20210314T080000
END:DAYLIGHT
BEGIN:STANDARD
TZOFFSETFROM:-0500
TZOFFSETTO:-0600
TZNAME:CST
DTSTART:20211107T070000
END:STANDARD
BEGIN:DAYLIGHT
TZOFFSETFROM:-0600
TZOFFSETTO:-0500
TZNAME:CDT
DTSTART:20220313T080000
END:DAYLIGHT
BEGIN:STANDARD
TZOFFSETFROM:-0500
TZOFFSETTO:-0600
TZNAME:CST
DTSTART:20221106T070000
END:STANDARD
BEGIN:DAYLIGHT
TZOFFSETFROM:-0600
TZOFFSETTO:-0500
TZNAME:CDT
DTSTART:20230312T080000
END:DAYLIGHT
BEGIN:STANDARD
TZOFFSETFROM:-0500
TZOFFSETTO:-0600
TZNAME:CST
DTSTART:20231105T070000
END:STANDARD
END:VTIMEZONE
BEGIN:VTIMEZONE
TZID:UTC
BEGIN:STANDARD
TZOFFSETFROM:+0000
TZOFFSETTO:+0000
TZNAME:UTC
DTSTART:20210101T000000
END:STANDARD
END:VTIMEZONE
BEGIN:VEVENT
DTSTART;TZID=America/Chicago:20220718T084500
DTEND;TZID=America/Chicago:20220718T120000
DTSTAMP:20260423T230222
CREATED:20220222T232535Z
LAST-MODIFIED:20230127T185651Z
UID:10002116-1658133900-1658145600@summithistorical.org
SUMMARY:Historical Hike: Boston Mining Camp & Ten Mile Silver Towns
DESCRIPTION:Mike Tabb will share the rich history of the Ten Mile Silver Mining towns of Kokomo/Recen and Robinson.  An easy 1.8 mile hike up Mayflower Gulch brings you to the Boston mining camp where we will stop for lunch. \n\nMonday\, July 18\n8:45 AM  –  12:00 NOON\nLocation: meet at Copper Mountain Far East Lot no later than 8:45am\nTickets: $25 for SHS Members; $35 for Non-Members\nLimited to 25 guests\nReserve by July 17th at 4:00 PM MST\n\nWear comfortable shoes.  Bring your own water\, lunch\, and camp chair.   \nTo become a member click here!
URL:https://summithistorical.org/events/hike-boston-mining-camp-ten-mile-silver-towns/
LOCATION:CO
ATTACH;FMTTYPE=image/png:https://summithistorical.org/wp-content/uploads/2022/02/Hike-Photo-Boston-Mining-Camp-1a.png
END:VEVENT
BEGIN:VEVENT
DTSTART;TZID=America/Chicago:20220719T090000
DTEND;TZID=America/Chicago:20220719T223000
DTSTAMP:20260423T230222
CREATED:20220427T212143Z
LAST-MODIFIED:20230127T185802Z
UID:10002139-1658221200-1658269800@summithistorical.org
SUMMARY:Explore Lake Dillon:  Historical Boat Tour
DESCRIPTION:In partnership with the Town of Dillon Marina\, trained guides from the Summit Historical Society lead a leisurely historic tour of Lake Dillon. Learn about the building of Dillon Dam and the Roberts Tunnel and relocating the Town of Dillon. \n\nTuesday\, Wednesday\, and Thursday mornings – June 8th through August 31st\nSaturday tours also available on June11th\, July 9th\, and August 13th\n9:00 – 10:30am *\nLocation: Dillon Marina\nCost: $40/person – no children under 7\n(add a tour of the 1883 Dillon Schoolhouse Museum in downtown Dillon for an additional $5.00)\nBring a jacket\, hat and sunscreen.  Weather can change rapidly on the lake!\nFor reservations\, call Dillon Marina (970) 468-5100 or click the link below.\n\n* Please arrive 15-minutes early.  Boat will depart promptly at 9:00am \nphoto courtesy Town of Dillon Marina \nBOOK ONLINE
URL:https://summithistorical.org/events/explore-lake-dillon-historical-boat-tour/2022-07-19/
LOCATION:Dillon Marina\, 150 Marina Dr\, Dillon\, Colorado\, 80435
ATTACH;FMTTYPE=image/jpeg:https://summithistorical.org/wp-content/uploads/2022/04/Lake-Dillon-Pontoon-Boat.jpg
END:VEVENT
BEGIN:VEVENT
DTSTART;TZID=UTC:20220719T110000
DTEND;TZID=UTC:20220719T140000
DTSTAMP:20260423T230222
CREATED:20220616T201708Z
LAST-MODIFIED:20230127T185836Z
UID:10002204-1658228400-1658239200@summithistorical.org
SUMMARY:1883 Dillon Schoolhouse - Open for Tours
DESCRIPTION:Stop by the 1883 Dillon Schoolhouse for our new Summer 2022 educational tour. \nSuggested donation of $5.00 per person.
URL:https://summithistorical.org/events/1883-schoolhouse-open-for-tours/2022-07-19/
LOCATION:Slifer Smith & Frampton- Breckenridge Office\, 117 S Main St.\, Breckenridge\, CO\, 80424\, United States
ATTACH;FMTTYPE=image/jpeg:https://summithistorical.org/wp-content/uploads/2022/03/20220414_092249.jpg
END:VEVENT
BEGIN:VEVENT
DTSTART;TZID=America/Chicago:20220720T090000
DTEND;TZID=America/Chicago:20220720T223000
DTSTAMP:20260423T230222
CREATED:20220427T212143Z
LAST-MODIFIED:20230127T185802Z
UID:10002140-1658307600-1658356200@summithistorical.org
SUMMARY:Explore Lake Dillon:  Historical Boat Tour
DESCRIPTION:In partnership with the Town of Dillon Marina\, trained guides from the Summit Historical Society lead a leisurely historic tour of Lake Dillon. Learn about the building of Dillon Dam and the Roberts Tunnel and relocating the Town of Dillon. \n\nTuesday\, Wednesday\, and Thursday mornings – June 8th through August 31st\nSaturday tours also available on June11th\, July 9th\, and August 13th\n9:00 – 10:30am *\nLocation: Dillon Marina\nCost: $40/person – no children under 7\n(add a tour of the 1883 Dillon Schoolhouse Museum in downtown Dillon for an additional $5.00)\nBring a jacket\, hat and sunscreen.  Weather can change rapidly on the lake!\nFor reservations\, call Dillon Marina (970) 468-5100 or click the link below.\n\n* Please arrive 15-minutes early.  Boat will depart promptly at 9:00am \nphoto courtesy Town of Dillon Marina \nBOOK ONLINE
URL:https://summithistorical.org/events/explore-lake-dillon-historical-boat-tour/2022-07-20/
LOCATION:Dillon Marina\, 150 Marina Dr\, Dillon\, Colorado\, 80435
ATTACH;FMTTYPE=image/jpeg:https://summithistorical.org/wp-content/uploads/2022/04/Lake-Dillon-Pontoon-Boat.jpg
END:VEVENT
BEGIN:VEVENT
DTSTART;TZID=UTC:20220720T110000
DTEND;TZID=UTC:20220720T140000
DTSTAMP:20260423T230222
CREATED:20220616T201708Z
LAST-MODIFIED:20230127T185836Z
UID:10002205-1658314800-1658325600@summithistorical.org
SUMMARY:1883 Dillon Schoolhouse - Open for Tours
DESCRIPTION:Stop by the 1883 Dillon Schoolhouse for our new Summer 2022 educational tour. \nSuggested donation of $5.00 per person.
URL:https://summithistorical.org/events/1883-schoolhouse-open-for-tours/2022-07-20/
LOCATION:Slifer Smith & Frampton- Breckenridge Office\, 117 S Main St.\, Breckenridge\, CO\, 80424\, United States
ATTACH;FMTTYPE=image/jpeg:https://summithistorical.org/wp-content/uploads/2022/03/20220414_092249.jpg
END:VEVENT
BEGIN:VEVENT
DTSTART;TZID=America/Chicago:20220721T090000
DTEND;TZID=America/Chicago:20220721T223000
DTSTAMP:20260423T230222
CREATED:20220427T212143Z
LAST-MODIFIED:20230127T185802Z
UID:10002141-1658394000-1658442600@summithistorical.org
SUMMARY:Explore Lake Dillon:  Historical Boat Tour
DESCRIPTION:In partnership with the Town of Dillon Marina\, trained guides from the Summit Historical Society lead a leisurely historic tour of Lake Dillon. Learn about the building of Dillon Dam and the Roberts Tunnel and relocating the Town of Dillon. \n\nTuesday\, Wednesday\, and Thursday mornings – June 8th through August 31st\nSaturday tours also available on June11th\, July 9th\, and August 13th\n9:00 – 10:30am *\nLocation: Dillon Marina\nCost: $40/person – no children under 7\n(add a tour of the 1883 Dillon Schoolhouse Museum in downtown Dillon for an additional $5.00)\nBring a jacket\, hat and sunscreen.  Weather can change rapidly on the lake!\nFor reservations\, call Dillon Marina (970) 468-5100 or click the link below.\n\n* Please arrive 15-minutes early.  Boat will depart promptly at 9:00am \nphoto courtesy Town of Dillon Marina \nBOOK ONLINE
URL:https://summithistorical.org/events/explore-lake-dillon-historical-boat-tour/2022-07-21/
LOCATION:Dillon Marina\, 150 Marina Dr\, Dillon\, Colorado\, 80435
ATTACH;FMTTYPE=image/jpeg:https://summithistorical.org/wp-content/uploads/2022/04/Lake-Dillon-Pontoon-Boat.jpg
END:VEVENT
BEGIN:VEVENT
DTSTART;TZID=UTC:20220721T100000
DTEND;TZID=UTC:20220721T110000
DTSTAMP:20260423T230222
CREATED:20220719T153424Z
LAST-MODIFIED:20230127T185619Z
UID:10002239-1658397600-1658401200@summithistorical.org
SUMMARY:Moving Day Program Demonstration
DESCRIPTION:Join us as we demonstrate our Moving Day Program. The Moving Day Program was designed by History Colorado and is what we teach the 4th graders in Summit County. \nLocation: 1883 Dillon Schoolhouse403 LaBonte Street\, Dillon\, Colorado. \nSpace is limited and reservations are required. \nFor more information on the program please click here.
URL:https://summithistorical.org/events/moving-day-program-demonstration/
LOCATION:CO
END:VEVENT
BEGIN:VEVENT
DTSTART;TZID=UTC:20220721T110000
DTEND;TZID=UTC:20220721T140000
DTSTAMP:20260423T230222
CREATED:20220616T201708Z
LAST-MODIFIED:20230127T185836Z
UID:10002206-1658401200-1658412000@summithistorical.org
SUMMARY:1883 Dillon Schoolhouse - Open for Tours
DESCRIPTION:Stop by the 1883 Dillon Schoolhouse for our new Summer 2022 educational tour. \nSuggested donation of $5.00 per person.
URL:https://summithistorical.org/events/1883-schoolhouse-open-for-tours/2022-07-21/
LOCATION:Slifer Smith & Frampton- Breckenridge Office\, 117 S Main St.\, Breckenridge\, CO\, 80424\, United States
ATTACH;FMTTYPE=image/jpeg:https://summithistorical.org/wp-content/uploads/2022/03/20220414_092249.jpg
END:VEVENT
BEGIN:VEVENT
DTSTART;TZID=America/Chicago:20220722T090000
DTEND;TZID=America/Chicago:20220722T140000
DTSTAMP:20260423T230222
CREATED:20220222T224405Z
LAST-MODIFIED:20230217T212135Z
UID:10002106-1658480400-1658498400@summithistorical.org
SUMMARY:Dillon Farmers Market
DESCRIPTION:Every Friday stop by our booth at the Farmers Market for special guests\, pop-up exhibits\, and more! \n\nEvery Friday from June 10th- September 16th\n9:00 AM – 2:00 PM MST\nLocation: Lodgepole Street adjacent to the Dillon Amphitheater\nFree\n\n 
URL:https://summithistorical.org/events/dillon-farmers-market/2022-07-22/
LOCATION:300 W Lodgepole St\, 300 W Lodgepole St\, Dillon\, CO\, 80435
ATTACH;FMTTYPE=image/png:https://summithistorical.org/wp-content/uploads/2022/02/Dillon_Farmer_s_Market-344x300-1.png
END:VEVENT
BEGIN:VEVENT
DTSTART;TZID=UTC:20220722T110000
DTEND;TZID=UTC:20220722T140000
DTSTAMP:20260423T230222
CREATED:20220616T201708Z
LAST-MODIFIED:20230127T185836Z
UID:10002207-1658487600-1658498400@summithistorical.org
SUMMARY:1883 Dillon Schoolhouse - Open for Tours
DESCRIPTION:Stop by the 1883 Dillon Schoolhouse for our new Summer 2022 educational tour. \nSuggested donation of $5.00 per person.
URL:https://summithistorical.org/events/1883-schoolhouse-open-for-tours/2022-07-22/
LOCATION:Slifer Smith & Frampton- Breckenridge Office\, 117 S Main St.\, Breckenridge\, CO\, 80424\, United States
ATTACH;FMTTYPE=image/jpeg:https://summithistorical.org/wp-content/uploads/2022/03/20220414_092249.jpg
END:VEVENT
BEGIN:VEVENT
DTSTART;TZID=UTC:20220723T110000
DTEND;TZID=UTC:20220723T130000
DTSTAMP:20260423T230222
CREATED:20220616T160458Z
LAST-MODIFIED:20230127T185725Z
UID:10002174-1658574000-1658581200@summithistorical.org
SUMMARY:Rice Barn Open for Visitors
DESCRIPTION:Come visit us at the Rice Barn in Summit Cove and see what an authentic Summit County homestead barn was like. \nLocation: 367 Summit Blvd\, Dillon\, Colorado. \nSuggested donation of $5.00 per person.
URL:https://summithistorical.org/events/rice-barn-open-for-visitors/2022-07-23/
LOCATION:Rice Barn\, 367 Cove Boulevard\, Dillon\, CO\, 80435
ATTACH;FMTTYPE=image/png:https://summithistorical.org/wp-content/uploads/2022/06/Rice-Barn-cropped.png
END:VEVENT
BEGIN:VEVENT
DTSTART;TZID=UTC:20220723T110000
DTEND;TZID=UTC:20220723T140000
DTSTAMP:20260423T230222
CREATED:20220616T201708Z
LAST-MODIFIED:20230127T185836Z
UID:10002208-1658574000-1658584800@summithistorical.org
SUMMARY:1883 Dillon Schoolhouse - Open for Tours
DESCRIPTION:Stop by the 1883 Dillon Schoolhouse for our new Summer 2022 educational tour. \nSuggested donation of $5.00 per person.
URL:https://summithistorical.org/events/1883-schoolhouse-open-for-tours/2022-07-23/
LOCATION:Slifer Smith & Frampton- Breckenridge Office\, 117 S Main St.\, Breckenridge\, CO\, 80424\, United States
ATTACH;FMTTYPE=image/jpeg:https://summithistorical.org/wp-content/uploads/2022/03/20220414_092249.jpg
END:VEVENT
END:VCALENDAR