BEGIN:VCALENDAR
VERSION:2.0
PRODID:-//Summit Historical Society - ECPv6.15.20//NONSGML v1.0//EN
CALSCALE:GREGORIAN
METHOD:PUBLISH
X-WR-CALNAME:Summit Historical Society
X-ORIGINAL-URL:https://summithistorical.org
X-WR-CALDESC:Events for Summit Historical Society
REFRESH-INTERVAL;VALUE=DURATION:PT1H
X-Robots-Tag:noindex
X-PUBLISHED-TTL:PT1H
BEGIN:VTIMEZONE
TZID:UTC
BEGIN:STANDARD
TZOFFSETFROM:+0000
TZOFFSETTO:+0000
TZNAME:UTC
DTSTART:20210101T000000
END:STANDARD
END:VTIMEZONE
BEGIN:VTIMEZONE
TZID:America/Chicago
BEGIN:DAYLIGHT
TZOFFSETFROM:-0600
TZOFFSETTO:-0500
TZNAME:CDT
DTSTART:20210314T080000
END:DAYLIGHT
BEGIN:STANDARD
TZOFFSETFROM:-0500
TZOFFSETTO:-0600
TZNAME:CST
DTSTART:20211107T070000
END:STANDARD
BEGIN:DAYLIGHT
TZOFFSETFROM:-0600
TZOFFSETTO:-0500
TZNAME:CDT
DTSTART:20220313T080000
END:DAYLIGHT
BEGIN:STANDARD
TZOFFSETFROM:-0500
TZOFFSETTO:-0600
TZNAME:CST
DTSTART:20221106T070000
END:STANDARD
BEGIN:DAYLIGHT
TZOFFSETFROM:-0600
TZOFFSETTO:-0500
TZNAME:CDT
DTSTART:20230312T080000
END:DAYLIGHT
BEGIN:STANDARD
TZOFFSETFROM:-0500
TZOFFSETTO:-0600
TZNAME:CST
DTSTART:20231105T070000
END:STANDARD
END:VTIMEZONE
BEGIN:VEVENT
DTSTART;TZID=UTC:20220613T170000
DTEND;TZID=UTC:20220613T180000
DTSTAMP:20260424T045451
CREATED:20220425T204411Z
LAST-MODIFIED:20230127T185806Z
UID:10002121-1655139600-1655143200@summithistorical.org
SUMMARY:Wine Tasting at Kucu ***CHANGE OF VENUE***
DESCRIPTION:        **** CHANGE OF VENUE **** \nThe venue for this event has been changed to Kucu Southwestern Bistro in Silverthorne.  Same time… 5:00 – 6:00pm \nThis event was formerly scheduled to be held at the Rice Barn. \nJoin us at Kucu Southwestern Bistro\, along with sommelier Aaron Ramirez as SHS hosts its first wine tasting of the 2022 season \nWe will be sampling outstanding wines from around the world. \n 
URL:https://summithistorical.org/events/june-wine-tasting-tbd/
LOCATION:Kucu Bistro\, 375 Blue River Pkwy\, Silverthorne\, CO\, 80498
ATTACH;FMTTYPE=image/jpeg:https://summithistorical.org/wp-content/uploads/2022/04/Pic-Wine-Glass-Adult-Education-publicdomain.net_.jpg
END:VEVENT
BEGIN:VEVENT
DTSTART;TZID=America/Chicago:20220614T093000
DTEND;TZID=America/Chicago:20220614T110000
DTSTAMP:20260424T045451
CREATED:20220427T212906Z
LAST-MODIFIED:20230127T185837Z
UID:10002161-1655199000-1655204400@summithistorical.org
SUMMARY:Explore Lake Dillon: Historical Boat Tour
DESCRIPTION:In partnership with the Town of Dillon Marina\, trained guides from the Summit Historical Society lead a leisurely historic tour of Lake Dillon. Learn about the building of Dillon Dam and the Roberts Tunnel and relocating the Town of Dillon. \n\nTuesday\, Wednesday\, and Thursday mornings – June 8th through August 31st\nSaturday tours also available on June11th\, July 9th\, and August 13th\n9:30 – 11:00am *\nLocation: Dillon Marina\nCost: $40/person – no children under 7\n(add a tour of the 1883 Dillon Schoolhouse Museum in downtown Dillon for an additional $5.00)\nBring a jacket\, hat and sunscreen.  Weather can change rapidly on the lake!\nFor reservations\, call Dillon Marina (970) 468-5100 or click the link below.\n\n* Please arrive 15-minutes early.  Boat will depart promptly at 9:30am \nphoto courtesy Town of Dillon Marina \nBOOK ONLINE
URL:https://summithistorical.org/events/explore-lake-dillon-historical-boat-tour-2/2022-06-14/
LOCATION:Dillon Marina\, 150 Marina Dr\, Dillon\, Colorado\, 80435
ATTACH;FMTTYPE=image/jpeg:https://summithistorical.org/wp-content/uploads/2022/04/Lake-Dillon-Pontoon-Boat.jpg
END:VEVENT
BEGIN:VEVENT
DTSTART;TZID=UTC:20220614T110000
DTEND;TZID=UTC:20220614T140000
DTSTAMP:20260424T045451
CREATED:20220616T201708Z
LAST-MODIFIED:20230127T185836Z
UID:10002180-1655204400-1655215200@summithistorical.org
SUMMARY:1883 Dillon Schoolhouse - Open for Tours
DESCRIPTION:Stop by the 1883 Dillon Schoolhouse for our new Summer 2022 educational tour. \nSuggested donation of $5.00 per person.
URL:https://summithistorical.org/events/1883-schoolhouse-open-for-tours/2022-06-14/
LOCATION:Slifer Smith & Frampton- Breckenridge Office\, 117 S Main St.\, Breckenridge\, CO\, 80424\, United States
ATTACH;FMTTYPE=image/jpeg:https://summithistorical.org/wp-content/uploads/2022/03/20220414_092249.jpg
END:VEVENT
BEGIN:VEVENT
DTSTART;TZID=America/Chicago:20220614T160000
DTEND;TZID=America/Chicago:20220614T190000
DTSTAMP:20260424T045451
CREATED:20220526T180453Z
LAST-MODIFIED:20230127T185805Z
UID:10002170-1655222400-1655233200@summithistorical.org
SUMMARY:Volunteer & Care FairSummit County Community & Senior Center
DESCRIPTION:Summit County Community & Senior Center – Volunteer & Care Fair \n\nTuesday\, June 14th from 4-7pm
URL:https://summithistorical.org/events/volunteer-care-fairsummit-county-community-senior-center/
LOCATION:Summit County Community and Senior Center\, 83 Nancy's Place\, Frisco\, Colorado\, 80443
ATTACH;FMTTYPE=image/jpeg:https://summithistorical.org/wp-content/uploads/2022/05/SCCSC-Volunteer-Fair-2022.jpg
END:VEVENT
BEGIN:VEVENT
DTSTART;TZID=America/Chicago:20220615T093000
DTEND;TZID=America/Chicago:20220615T110000
DTSTAMP:20260424T045451
CREATED:20220427T212906Z
LAST-MODIFIED:20230127T185837Z
UID:10002162-1655285400-1655290800@summithistorical.org
SUMMARY:Explore Lake Dillon: Historical Boat Tour
DESCRIPTION:In partnership with the Town of Dillon Marina\, trained guides from the Summit Historical Society lead a leisurely historic tour of Lake Dillon. Learn about the building of Dillon Dam and the Roberts Tunnel and relocating the Town of Dillon. \n\nTuesday\, Wednesday\, and Thursday mornings – June 8th through August 31st\nSaturday tours also available on June11th\, July 9th\, and August 13th\n9:30 – 11:00am *\nLocation: Dillon Marina\nCost: $40/person – no children under 7\n(add a tour of the 1883 Dillon Schoolhouse Museum in downtown Dillon for an additional $5.00)\nBring a jacket\, hat and sunscreen.  Weather can change rapidly on the lake!\nFor reservations\, call Dillon Marina (970) 468-5100 or click the link below.\n\n* Please arrive 15-minutes early.  Boat will depart promptly at 9:30am \nphoto courtesy Town of Dillon Marina \nBOOK ONLINE
URL:https://summithistorical.org/events/explore-lake-dillon-historical-boat-tour-2/2022-06-15/
LOCATION:Dillon Marina\, 150 Marina Dr\, Dillon\, Colorado\, 80435
ATTACH;FMTTYPE=image/jpeg:https://summithistorical.org/wp-content/uploads/2022/04/Lake-Dillon-Pontoon-Boat.jpg
END:VEVENT
BEGIN:VEVENT
DTSTART;TZID=UTC:20220615T110000
DTEND;TZID=UTC:20220615T140000
DTSTAMP:20260424T045451
CREATED:20220616T201708Z
LAST-MODIFIED:20230127T185836Z
UID:10002181-1655290800-1655301600@summithistorical.org
SUMMARY:1883 Dillon Schoolhouse - Open for Tours
DESCRIPTION:Stop by the 1883 Dillon Schoolhouse for our new Summer 2022 educational tour. \nSuggested donation of $5.00 per person.
URL:https://summithistorical.org/events/1883-schoolhouse-open-for-tours/2022-06-15/
LOCATION:Slifer Smith & Frampton- Breckenridge Office\, 117 S Main St.\, Breckenridge\, CO\, 80424\, United States
ATTACH;FMTTYPE=image/jpeg:https://summithistorical.org/wp-content/uploads/2022/03/20220414_092249.jpg
END:VEVENT
BEGIN:VEVENT
DTSTART;TZID=America/Chicago:20220616T093000
DTEND;TZID=America/Chicago:20220616T110000
DTSTAMP:20260424T045451
CREATED:20220427T212906Z
LAST-MODIFIED:20230127T185837Z
UID:10002163-1655371800-1655377200@summithistorical.org
SUMMARY:Explore Lake Dillon: Historical Boat Tour
DESCRIPTION:In partnership with the Town of Dillon Marina\, trained guides from the Summit Historical Society lead a leisurely historic tour of Lake Dillon. Learn about the building of Dillon Dam and the Roberts Tunnel and relocating the Town of Dillon. \n\nTuesday\, Wednesday\, and Thursday mornings – June 8th through August 31st\nSaturday tours also available on June11th\, July 9th\, and August 13th\n9:30 – 11:00am *\nLocation: Dillon Marina\nCost: $40/person – no children under 7\n(add a tour of the 1883 Dillon Schoolhouse Museum in downtown Dillon for an additional $5.00)\nBring a jacket\, hat and sunscreen.  Weather can change rapidly on the lake!\nFor reservations\, call Dillon Marina (970) 468-5100 or click the link below.\n\n* Please arrive 15-minutes early.  Boat will depart promptly at 9:30am \nphoto courtesy Town of Dillon Marina \nBOOK ONLINE
URL:https://summithistorical.org/events/explore-lake-dillon-historical-boat-tour-2/2022-06-16/
LOCATION:Dillon Marina\, 150 Marina Dr\, Dillon\, Colorado\, 80435
ATTACH;FMTTYPE=image/jpeg:https://summithistorical.org/wp-content/uploads/2022/04/Lake-Dillon-Pontoon-Boat.jpg
END:VEVENT
BEGIN:VEVENT
DTSTART;TZID=UTC:20220616T110000
DTEND;TZID=UTC:20220616T140000
DTSTAMP:20260424T045451
CREATED:20220616T201708Z
LAST-MODIFIED:20230127T185836Z
UID:10002182-1655377200-1655388000@summithistorical.org
SUMMARY:1883 Dillon Schoolhouse - Open for Tours
DESCRIPTION:Stop by the 1883 Dillon Schoolhouse for our new Summer 2022 educational tour. \nSuggested donation of $5.00 per person.
URL:https://summithistorical.org/events/1883-schoolhouse-open-for-tours/2022-06-16/
LOCATION:Slifer Smith & Frampton- Breckenridge Office\, 117 S Main St.\, Breckenridge\, CO\, 80424\, United States
ATTACH;FMTTYPE=image/jpeg:https://summithistorical.org/wp-content/uploads/2022/03/20220414_092249.jpg
END:VEVENT
BEGIN:VEVENT
DTSTART;TZID=America/Chicago:20220617T090000
DTEND;TZID=America/Chicago:20220617T140000
DTSTAMP:20260424T045451
CREATED:20220222T224405Z
LAST-MODIFIED:20230217T212135Z
UID:10002101-1655456400-1655474400@summithistorical.org
SUMMARY:Dillon Farmers Market
DESCRIPTION:Every Friday stop by our booth at the Farmers Market for special guests\, pop-up exhibits\, and more! \n\nEvery Friday from June 10th- September 16th\n9:00 AM – 2:00 PM MST\nLocation: Lodgepole Street adjacent to the Dillon Amphitheater\nFree\n\n 
URL:https://summithistorical.org/events/dillon-farmers-market/2022-06-17/
LOCATION:300 W Lodgepole St\, 300 W Lodgepole St\, Dillon\, CO\, 80435
ATTACH;FMTTYPE=image/png:https://summithistorical.org/wp-content/uploads/2022/02/Dillon_Farmer_s_Market-344x300-1.png
END:VEVENT
BEGIN:VEVENT
DTSTART;TZID=UTC:20220617T110000
DTEND;TZID=UTC:20220617T140000
DTSTAMP:20260424T045451
CREATED:20220616T201708Z
LAST-MODIFIED:20230127T185836Z
UID:10002183-1655463600-1655474400@summithistorical.org
SUMMARY:1883 Dillon Schoolhouse - Open for Tours
DESCRIPTION:Stop by the 1883 Dillon Schoolhouse for our new Summer 2022 educational tour. \nSuggested donation of $5.00 per person.
URL:https://summithistorical.org/events/1883-schoolhouse-open-for-tours/2022-06-17/
LOCATION:Slifer Smith & Frampton- Breckenridge Office\, 117 S Main St.\, Breckenridge\, CO\, 80424\, United States
ATTACH;FMTTYPE=image/jpeg:https://summithistorical.org/wp-content/uploads/2022/03/20220414_092249.jpg
END:VEVENT
BEGIN:VEVENT
DTSTART;TZID=UTC:20220618T110000
DTEND;TZID=UTC:20220618T140000
DTSTAMP:20260424T045451
CREATED:20220616T201708Z
LAST-MODIFIED:20230127T185836Z
UID:10002184-1655550000-1655560800@summithistorical.org
SUMMARY:1883 Dillon Schoolhouse - Open for Tours
DESCRIPTION:Stop by the 1883 Dillon Schoolhouse for our new Summer 2022 educational tour. \nSuggested donation of $5.00 per person.
URL:https://summithistorical.org/events/1883-schoolhouse-open-for-tours/2022-06-18/
LOCATION:Slifer Smith & Frampton- Breckenridge Office\, 117 S Main St.\, Breckenridge\, CO\, 80424\, United States
ATTACH;FMTTYPE=image/jpeg:https://summithistorical.org/wp-content/uploads/2022/03/20220414_092249.jpg
END:VEVENT
END:VCALENDAR