BEGIN:VCALENDAR
VERSION:2.0
PRODID:-//Summit Historical Society - ECPv6.15.20//NONSGML v1.0//EN
CALSCALE:GREGORIAN
METHOD:PUBLISH
X-WR-CALNAME:Summit Historical Society
X-ORIGINAL-URL:https://summithistorical.org
X-WR-CALDESC:Events for Summit Historical Society
REFRESH-INTERVAL;VALUE=DURATION:PT1H
X-Robots-Tag:noindex
X-PUBLISHED-TTL:PT1H
BEGIN:VTIMEZONE
TZID:America/Denver
BEGIN:DAYLIGHT
TZOFFSETFROM:-0700
TZOFFSETTO:-0600
TZNAME:MDT
DTSTART:20220313T090000
END:DAYLIGHT
BEGIN:STANDARD
TZOFFSETFROM:-0600
TZOFFSETTO:-0700
TZNAME:MST
DTSTART:20221106T080000
END:STANDARD
BEGIN:DAYLIGHT
TZOFFSETFROM:-0700
TZOFFSETTO:-0600
TZNAME:MDT
DTSTART:20230312T090000
END:DAYLIGHT
BEGIN:STANDARD
TZOFFSETFROM:-0600
TZOFFSETTO:-0700
TZNAME:MST
DTSTART:20231105T080000
END:STANDARD
BEGIN:DAYLIGHT
TZOFFSETFROM:-0700
TZOFFSETTO:-0600
TZNAME:MDT
DTSTART:20240310T090000
END:DAYLIGHT
BEGIN:STANDARD
TZOFFSETFROM:-0600
TZOFFSETTO:-0700
TZNAME:MST
DTSTART:20241103T080000
END:STANDARD
END:VTIMEZONE
BEGIN:VEVENT
DTSTART;TZID=America/Denver:20230610T093000
DTEND;TZID=America/Denver:20230610T110000
DTSTAMP:20260419T072934
CREATED:20230217T172509Z
LAST-MODIFIED:20230217T172509Z
UID:10002318-1686389400-1686394800@summithistorical.org
SUMMARY:Explore Lake Dillon:  Historical Boat Tour
DESCRIPTION:In partnership with the Town of Dillon Marina\, trained guides from the Summit Historical Society lead a leisurely historic tour of Lake Dillon. Learn about the building of Dillon Dam and the Roberts Tunnel and relocating the Town of Dillon. \n\nTuesday\, Wednesday\, and Thursday mornings – June 7th through August 30th\nSaturday tours also available on June 10th\, July 8th\, and August 12th\n9:30 – 11:00am *\nLocation: Dillon Marina\nCost: $42/person – no children under 7\n(add a tour of the 1883 Dillon Schoolhouse Museum in downtown Dillon for an additional $5.00)\nBring a jacket\, hat and sunscreen.  Weather can change rapidly on the lake!\nFor reservations\, call Dillon Marina (970) 468-5100 or click the link below.\n\n* Please arrive 15-minutes early.  Boat will depart promptly at 9:30am \nphoto courtesy Town of Dillon Marina \nBOOK ONLINE
URL:https://summithistorical.org/events/explore-lake-dillon-historical-boat-tour-6/
LOCATION:Dillon Marina\, 150 Marina Dr\, Dillon\, Colorado\, 80435
ATTACH;FMTTYPE=image/jpeg:https://summithistorical.org/wp-content/uploads/2022/04/Lake-Dillon-Pontoon-Boat.jpg
END:VEVENT
BEGIN:VEVENT
DTSTART;TZID=America/Denver:20230610T110000
DTEND;TZID=America/Denver:20230610T130000
DTSTAMP:20260419T072934
CREATED:20230217T214218Z
LAST-MODIFIED:20230217T214218Z
UID:10002362-1686394800-1686402000@summithistorical.org
SUMMARY:1883 Dillon Schoolhouse Museum - Open for Tours
DESCRIPTION:Stop by the 1883 Dillon Schoolhouse for our new 2023 educational tour. \nAdmission:  $5.00 per person.
URL:https://summithistorical.org/events/1883-dillon-schoolhouse-museum-open-for-tours/2023-06-10/
LOCATION:Slifer Smith & Frampton- Breckenridge Office\, 117 S Main St.\, Breckenridge\, CO\, 80424\, United States
ATTACH;FMTTYPE=image/jpeg:https://summithistorical.org/wp-content/uploads/2022/03/20220414_092249.jpg
END:VEVENT
BEGIN:VEVENT
DTSTART;TZID=America/Denver:20230610T110000
DTEND;TZID=America/Denver:20230610T130000
DTSTAMP:20260419T072934
CREATED:20230217T215215Z
LAST-MODIFIED:20230302T161755Z
UID:10002439-1686394800-1686402000@summithistorical.org
SUMMARY:1883 Dillon Schoolhouse Museum - Open for Tours
DESCRIPTION:Stop by the 1883 Dillon Schoolhouse for our new 2023 educational tour. \nAdmission:  $5.00 per person.
URL:https://summithistorical.org/events/1883-dillon-schoolhouse-museum-open-for-tours-3/2023-06-10/
LOCATION:Slifer Smith & Frampton- Breckenridge Office\, 117 S Main St.\, Breckenridge\, CO\, 80424\, United States
ATTACH;FMTTYPE=image/jpeg:https://summithistorical.org/wp-content/uploads/2022/03/20220414_092249.jpg
END:VEVENT
BEGIN:VEVENT
DTSTART;TZID=America/Denver:20230613T093000
DTEND;TZID=America/Denver:20230613T110000
DTSTAMP:20260419T072934
CREATED:20230217T171056Z
LAST-MODIFIED:20230217T211949Z
UID:10002321-1686648600-1686654000@summithistorical.org
SUMMARY:Explore Lake Dillon: Historical Boat Tour
DESCRIPTION:In partnership with the Town of Dillon Marina\, trained guides from the Summit Historical Society lead a leisurely historic tour of Lake Dillon. Learn about the building of Dillon Dam and the Roberts Tunnel and relocating the Town of Dillon. \n\nTuesday\, Wednesday\, and Thursday mornings – June 7th through August 30th\nSaturday tours also available on June 10th\, July 8th\, and August 12th\n9:30 – 11:00am *\nLocation: Dillon Marina\nCost: $42/person – no children under 7\n(add a tour of the 1883 Dillon Schoolhouse Museum in downtown Dillon for an additional $5.00)\nBring a jacket\, hat and sunscreen.  Weather can change rapidly on the lake!\nFor reservations\, call Dillon Marina (970) 468-5100 or click the link below.\n\n* Please arrive 15-minutes early.  Boat will depart promptly at 9:30am \nphoto courtesy Town of Dillon Marina \nBOOK ONLINE
URL:https://summithistorical.org/events/explore-lake-dillon-historical-boat-tour-5/2023-06-13/
LOCATION:Dillon Marina\, 150 Marina Dr\, Dillon\, Colorado\, 80435
ATTACH;FMTTYPE=image/jpeg:https://summithistorical.org/wp-content/uploads/2022/04/Lake-Dillon-Pontoon-Boat.jpg
END:VEVENT
BEGIN:VEVENT
DTSTART;TZID=America/Denver:20230613T110000
DTEND;TZID=America/Denver:20230613T130000
DTSTAMP:20260419T072934
CREATED:20230217T214535Z
LAST-MODIFIED:20230217T214535Z
UID:10002393-1686654000-1686661200@summithistorical.org
SUMMARY:1883 Dillon Schoolhouse Museum - Open for Tours
DESCRIPTION:Stop by the 1883 Dillon Schoolhouse for our new 2023 educational tour. \nAdmission:  $5.00 per person.
URL:https://summithistorical.org/events/1883-dillon-schoolhouse-museum-open-for-tours-2/2023-06-13/
LOCATION:Slifer Smith & Frampton- Breckenridge Office\, 117 S Main St.\, Breckenridge\, CO\, 80424\, United States
ATTACH;FMTTYPE=image/jpeg:https://summithistorical.org/wp-content/uploads/2022/03/20220414_092249.jpg
END:VEVENT
BEGIN:VEVENT
DTSTART;TZID=America/Denver:20230614T093000
DTEND;TZID=America/Denver:20230614T110000
DTSTAMP:20260419T072934
CREATED:20230217T171056Z
LAST-MODIFIED:20230217T211949Z
UID:10002322-1686735000-1686740400@summithistorical.org
SUMMARY:Explore Lake Dillon: Historical Boat Tour
DESCRIPTION:In partnership with the Town of Dillon Marina\, trained guides from the Summit Historical Society lead a leisurely historic tour of Lake Dillon. Learn about the building of Dillon Dam and the Roberts Tunnel and relocating the Town of Dillon. \n\nTuesday\, Wednesday\, and Thursday mornings – June 7th through August 30th\nSaturday tours also available on June 10th\, July 8th\, and August 12th\n9:30 – 11:00am *\nLocation: Dillon Marina\nCost: $42/person – no children under 7\n(add a tour of the 1883 Dillon Schoolhouse Museum in downtown Dillon for an additional $5.00)\nBring a jacket\, hat and sunscreen.  Weather can change rapidly on the lake!\nFor reservations\, call Dillon Marina (970) 468-5100 or click the link below.\n\n* Please arrive 15-minutes early.  Boat will depart promptly at 9:30am \nphoto courtesy Town of Dillon Marina \nBOOK ONLINE
URL:https://summithistorical.org/events/explore-lake-dillon-historical-boat-tour-5/2023-06-14/
LOCATION:Dillon Marina\, 150 Marina Dr\, Dillon\, Colorado\, 80435
ATTACH;FMTTYPE=image/jpeg:https://summithistorical.org/wp-content/uploads/2022/04/Lake-Dillon-Pontoon-Boat.jpg
END:VEVENT
BEGIN:VEVENT
DTSTART;TZID=America/Denver:20230614T110000
DTEND;TZID=America/Denver:20230614T130000
DTSTAMP:20260419T072934
CREATED:20230217T214535Z
LAST-MODIFIED:20230217T214535Z
UID:10002394-1686740400-1686747600@summithistorical.org
SUMMARY:1883 Dillon Schoolhouse Museum - Open for Tours
DESCRIPTION:Stop by the 1883 Dillon Schoolhouse for our new 2023 educational tour. \nAdmission:  $5.00 per person.
URL:https://summithistorical.org/events/1883-dillon-schoolhouse-museum-open-for-tours-2/2023-06-14/
LOCATION:Slifer Smith & Frampton- Breckenridge Office\, 117 S Main St.\, Breckenridge\, CO\, 80424\, United States
ATTACH;FMTTYPE=image/jpeg:https://summithistorical.org/wp-content/uploads/2022/03/20220414_092249.jpg
END:VEVENT
BEGIN:VEVENT
DTSTART;TZID=America/Denver:20230615T093000
DTEND;TZID=America/Denver:20230615T110000
DTSTAMP:20260419T072934
CREATED:20230217T171056Z
LAST-MODIFIED:20230217T211949Z
UID:10002323-1686821400-1686826800@summithistorical.org
SUMMARY:Explore Lake Dillon: Historical Boat Tour
DESCRIPTION:In partnership with the Town of Dillon Marina\, trained guides from the Summit Historical Society lead a leisurely historic tour of Lake Dillon. Learn about the building of Dillon Dam and the Roberts Tunnel and relocating the Town of Dillon. \n\nTuesday\, Wednesday\, and Thursday mornings – June 7th through August 30th\nSaturday tours also available on June 10th\, July 8th\, and August 12th\n9:30 – 11:00am *\nLocation: Dillon Marina\nCost: $42/person – no children under 7\n(add a tour of the 1883 Dillon Schoolhouse Museum in downtown Dillon for an additional $5.00)\nBring a jacket\, hat and sunscreen.  Weather can change rapidly on the lake!\nFor reservations\, call Dillon Marina (970) 468-5100 or click the link below.\n\n* Please arrive 15-minutes early.  Boat will depart promptly at 9:30am \nphoto courtesy Town of Dillon Marina \nBOOK ONLINE
URL:https://summithistorical.org/events/explore-lake-dillon-historical-boat-tour-5/2023-06-15/
LOCATION:Dillon Marina\, 150 Marina Dr\, Dillon\, Colorado\, 80435
ATTACH;FMTTYPE=image/jpeg:https://summithistorical.org/wp-content/uploads/2022/04/Lake-Dillon-Pontoon-Boat.jpg
END:VEVENT
BEGIN:VEVENT
DTSTART;TZID=America/Denver:20230615T110000
DTEND;TZID=America/Denver:20230615T130000
DTSTAMP:20260419T072934
CREATED:20230217T214535Z
LAST-MODIFIED:20230217T214535Z
UID:10002395-1686826800-1686834000@summithistorical.org
SUMMARY:1883 Dillon Schoolhouse Museum - Open for Tours
DESCRIPTION:Stop by the 1883 Dillon Schoolhouse for our new 2023 educational tour. \nAdmission:  $5.00 per person.
URL:https://summithistorical.org/events/1883-dillon-schoolhouse-museum-open-for-tours-2/2023-06-15/
LOCATION:Slifer Smith & Frampton- Breckenridge Office\, 117 S Main St.\, Breckenridge\, CO\, 80424\, United States
ATTACH;FMTTYPE=image/jpeg:https://summithistorical.org/wp-content/uploads/2022/03/20220414_092249.jpg
END:VEVENT
BEGIN:VEVENT
DTSTART;TZID=America/Denver:20230616T090000
DTEND;TZID=America/Denver:20230616T140000
DTSTAMP:20260419T072934
CREATED:20230217T212743Z
LAST-MODIFIED:20230217T213622Z
UID:10002468-1686906000-1686924000@summithistorical.org
SUMMARY:Dillon Farmers Market
DESCRIPTION:Every Friday\, stop by our booth at the Farmers Market for special guests\, pop-up exhibits\, and more! \n\nEvery Friday from June 9th- September 15th\n9:00 AM – 2:00 PM MST\nLocation: Dillon Town Park (120 Buffalo St)\nFree
URL:https://summithistorical.org/events/dillon-farmers-market-2/2023-06-16/
LOCATION:Dillon Farmers’ Market\, 120 Buffalo St.\, Dillon\, CO\, 80435
ATTACH;FMTTYPE=image/png:https://summithistorical.org/wp-content/uploads/2022/02/Dillon_Farmer_s_Market-344x300-1.png
END:VEVENT
BEGIN:VEVENT
DTSTART;TZID=America/Denver:20230616T110000
DTEND;TZID=America/Denver:20230616T130000
DTSTAMP:20260419T072934
CREATED:20230217T214218Z
LAST-MODIFIED:20230217T214218Z
UID:10002363-1686913200-1686920400@summithistorical.org
SUMMARY:1883 Dillon Schoolhouse Museum - Open for Tours
DESCRIPTION:Stop by the 1883 Dillon Schoolhouse for our new 2023 educational tour. \nAdmission:  $5.00 per person.
URL:https://summithistorical.org/events/1883-dillon-schoolhouse-museum-open-for-tours/2023-06-16/
LOCATION:Slifer Smith & Frampton- Breckenridge Office\, 117 S Main St.\, Breckenridge\, CO\, 80424\, United States
ATTACH;FMTTYPE=image/jpeg:https://summithistorical.org/wp-content/uploads/2022/03/20220414_092249.jpg
END:VEVENT
BEGIN:VEVENT
DTSTART;TZID=America/Denver:20230616T110000
DTEND;TZID=America/Denver:20230616T130000
DTSTAMP:20260419T072934
CREATED:20230217T215215Z
LAST-MODIFIED:20230302T161755Z
UID:10002440-1686913200-1686920400@summithistorical.org
SUMMARY:1883 Dillon Schoolhouse Museum - Open for Tours
DESCRIPTION:Stop by the 1883 Dillon Schoolhouse for our new 2023 educational tour. \nAdmission:  $5.00 per person.
URL:https://summithistorical.org/events/1883-dillon-schoolhouse-museum-open-for-tours-3/2023-06-16/
LOCATION:Slifer Smith & Frampton- Breckenridge Office\, 117 S Main St.\, Breckenridge\, CO\, 80424\, United States
ATTACH;FMTTYPE=image/jpeg:https://summithistorical.org/wp-content/uploads/2022/03/20220414_092249.jpg
END:VEVENT
BEGIN:VEVENT
DTSTART;TZID=America/Denver:20230617T110000
DTEND;TZID=America/Denver:20230617T130000
DTSTAMP:20260419T072934
CREATED:20230217T214218Z
LAST-MODIFIED:20230217T214218Z
UID:10002364-1686999600-1687006800@summithistorical.org
SUMMARY:1883 Dillon Schoolhouse Museum - Open for Tours
DESCRIPTION:Stop by the 1883 Dillon Schoolhouse for our new 2023 educational tour. \nAdmission:  $5.00 per person.
URL:https://summithistorical.org/events/1883-dillon-schoolhouse-museum-open-for-tours/2023-06-17/
LOCATION:Slifer Smith & Frampton- Breckenridge Office\, 117 S Main St.\, Breckenridge\, CO\, 80424\, United States
ATTACH;FMTTYPE=image/jpeg:https://summithistorical.org/wp-content/uploads/2022/03/20220414_092249.jpg
END:VEVENT
BEGIN:VEVENT
DTSTART;TZID=America/Denver:20230617T110000
DTEND;TZID=America/Denver:20230617T130000
DTSTAMP:20260419T072934
CREATED:20230217T215215Z
LAST-MODIFIED:20230302T161755Z
UID:10002441-1686999600-1687006800@summithistorical.org
SUMMARY:1883 Dillon Schoolhouse Museum - Open for Tours
DESCRIPTION:Stop by the 1883 Dillon Schoolhouse for our new 2023 educational tour. \nAdmission:  $5.00 per person.
URL:https://summithistorical.org/events/1883-dillon-schoolhouse-museum-open-for-tours-3/2023-06-17/
LOCATION:Slifer Smith & Frampton- Breckenridge Office\, 117 S Main St.\, Breckenridge\, CO\, 80424\, United States
ATTACH;FMTTYPE=image/jpeg:https://summithistorical.org/wp-content/uploads/2022/03/20220414_092249.jpg
END:VEVENT
BEGIN:VEVENT
DTSTART;VALUE=DATE:20230618
DTEND;VALUE=DATE:20230619
DTSTAMP:20260419T072934
CREATED:20230217T220736Z
LAST-MODIFIED:20230217T220736Z
UID:10001986-1687046400-1687132799@summithistorical.org
SUMMARY:Happy Fathers' Day
DESCRIPTION:
URL:https://summithistorical.org/events/happy-fathers-day/
LOCATION:CO
ATTACH;FMTTYPE=image/gif:https://summithistorical.org/wp-content/uploads/2023/02/Fathers-Day.gif
END:VEVENT
BEGIN:VEVENT
DTSTART;TZID=America/Denver:20230620T090000
DTEND;TZID=America/Denver:20230620T103000
DTSTAMP:20260419T072934
CREATED:20230217T172739Z
LAST-MODIFIED:20230217T173729Z
UID:10002300-1687251600-1687257000@summithistorical.org
SUMMARY:Explore Lake Dillon:  Historical Boat Tour
DESCRIPTION:In partnership with the Town of Dillon Marina\, trained guides from the Summit Historical Society lead a leisurely historic tour of Lake Dillon. Learn about the building of Dillon Dam and the Roberts Tunnel and relocating the Town of Dillon. \n\nTuesday\, Wednesday\, and Thursday mornings – June 7th through August 30th\nSaturday tours also available on June 10th\, July 8th\, and August 12th\n9:00 – 10:30am *\nLocation: Dillon Marina\nCost: $42/person – no children under 7\n(add a tour of the 1883 Dillon Schoolhouse Museum in downtown Dillon for an additional $5.00)\nBring a jacket\, hat and sunscreen.  Weather can change rapidly on the lake!\nFor reservations\, call Dillon Marina (970) 468-5100 or click the link below.\n\n* Please arrive 15-minutes early.  Boat will depart promptly at 9:00am \nphoto courtesy Town of Dillon Marina \nBOOK ONLINE
URL:https://summithistorical.org/events/10832/2023-06-20/
LOCATION:Dillon Marina\, 150 Marina Dr\, Dillon\, Colorado\, 80435
ATTACH;FMTTYPE=image/jpeg:https://summithistorical.org/wp-content/uploads/2022/04/Lake-Dillon-Pontoon-Boat.jpg
END:VEVENT
BEGIN:VEVENT
DTSTART;TZID=America/Denver:20230620T110000
DTEND;TZID=America/Denver:20230620T130000
DTSTAMP:20260419T072934
CREATED:20230217T214535Z
LAST-MODIFIED:20230217T214535Z
UID:10002396-1687258800-1687266000@summithistorical.org
SUMMARY:1883 Dillon Schoolhouse Museum - Open for Tours
DESCRIPTION:Stop by the 1883 Dillon Schoolhouse for our new 2023 educational tour. \nAdmission:  $5.00 per person.
URL:https://summithistorical.org/events/1883-dillon-schoolhouse-museum-open-for-tours-2/2023-06-20/
LOCATION:Slifer Smith & Frampton- Breckenridge Office\, 117 S Main St.\, Breckenridge\, CO\, 80424\, United States
ATTACH;FMTTYPE=image/jpeg:https://summithistorical.org/wp-content/uploads/2022/03/20220414_092249.jpg
END:VEVENT
BEGIN:VEVENT
DTSTART;TZID=America/Denver:20230620T170000
DTEND;TZID=America/Denver:20230620T180000
DTSTAMP:20260419T072934
CREATED:20230426T182953Z
LAST-MODIFIED:20230427T152422Z
UID:10002486-1687280400-1687284000@summithistorical.org
SUMMARY:Historical Lecture Series: My Experience with the 10th Mountain Division - Mark Addison
DESCRIPTION:Mark Addison will talk about his experience and the people he knew at Camp Hale while serving in the 10th Mountain Division and the Mountain & Cold Weather Training Command. \n\nDate: June 20\, 2023\nTime: 5:00 – 6:00 PM\nLocation: 1883 Schoolhouse Museum\, 403 La Bonte Street\, Dillon\, CO 80435\nTickets are $10 each\nSpace is limited\nReservations recommended
URL:https://summithistorical.org/events/historic-lecture-series/
LOCATION:Slifer Smith & Frampton- Breckenridge Office\, 117 S Main St.\, Breckenridge\, CO\, 80424\, United States
END:VEVENT
BEGIN:VEVENT
DTSTART;TZID=America/Denver:20230621T090000
DTEND;TZID=America/Denver:20230621T103000
DTSTAMP:20260419T072934
CREATED:20230217T172739Z
LAST-MODIFIED:20230217T173729Z
UID:10002301-1687338000-1687343400@summithistorical.org
SUMMARY:Explore Lake Dillon:  Historical Boat Tour
DESCRIPTION:In partnership with the Town of Dillon Marina\, trained guides from the Summit Historical Society lead a leisurely historic tour of Lake Dillon. Learn about the building of Dillon Dam and the Roberts Tunnel and relocating the Town of Dillon. \n\nTuesday\, Wednesday\, and Thursday mornings – June 7th through August 30th\nSaturday tours also available on June 10th\, July 8th\, and August 12th\n9:00 – 10:30am *\nLocation: Dillon Marina\nCost: $42/person – no children under 7\n(add a tour of the 1883 Dillon Schoolhouse Museum in downtown Dillon for an additional $5.00)\nBring a jacket\, hat and sunscreen.  Weather can change rapidly on the lake!\nFor reservations\, call Dillon Marina (970) 468-5100 or click the link below.\n\n* Please arrive 15-minutes early.  Boat will depart promptly at 9:00am \nphoto courtesy Town of Dillon Marina \nBOOK ONLINE
URL:https://summithistorical.org/events/10832/2023-06-21/
LOCATION:Dillon Marina\, 150 Marina Dr\, Dillon\, Colorado\, 80435
ATTACH;FMTTYPE=image/jpeg:https://summithistorical.org/wp-content/uploads/2022/04/Lake-Dillon-Pontoon-Boat.jpg
END:VEVENT
BEGIN:VEVENT
DTSTART;TZID=America/Denver:20230621T110000
DTEND;TZID=America/Denver:20230621T130000
DTSTAMP:20260419T072934
CREATED:20230217T214535Z
LAST-MODIFIED:20230217T214535Z
UID:10002397-1687345200-1687352400@summithistorical.org
SUMMARY:1883 Dillon Schoolhouse Museum - Open for Tours
DESCRIPTION:Stop by the 1883 Dillon Schoolhouse for our new 2023 educational tour. \nAdmission:  $5.00 per person.
URL:https://summithistorical.org/events/1883-dillon-schoolhouse-museum-open-for-tours-2/2023-06-21/
LOCATION:Slifer Smith & Frampton- Breckenridge Office\, 117 S Main St.\, Breckenridge\, CO\, 80424\, United States
ATTACH;FMTTYPE=image/jpeg:https://summithistorical.org/wp-content/uploads/2022/03/20220414_092249.jpg
END:VEVENT
BEGIN:VEVENT
DTSTART;TZID=America/Denver:20230622T090000
DTEND;TZID=America/Denver:20230622T103000
DTSTAMP:20260419T072934
CREATED:20230217T211429Z
LAST-MODIFIED:20230217T211429Z
UID:10002284-1687424400-1687429800@summithistorical.org
SUMMARY:Explore Lake Dillon:  Historical Boat Tour
DESCRIPTION:In partnership with the Town of Dillon Marina\, trained guides from the Summit Historical Society lead a leisurely historic tour of Lake Dillon. Learn about the building of Dillon Dam and the Roberts Tunnel and relocating the Town of Dillon. \n\nTuesday\, Wednesday\, and Thursday mornings – June 7th through August 30th\nSaturday tours also available on June 10th\, July 8th\, and August 12th\n9:00 – 10:30am *\nLocation: Dillon Marina\nCost: $42/person – no children under 7\n(add a tour of the 1883 Dillon Schoolhouse Museum in downtown Dillon for an additional $5.00)\nBring a jacket\, hat and sunscreen.  Weather can change rapidly on the lake!\nFor reservations\, call Dillon Marina (970) 468-5100 or click the link below.\n\n* Please arrive 15-minutes early.  Boat will depart promptly at 9:00am \nphoto courtesy Town of Dillon Marina \nBOOK ONLINE
URL:https://summithistorical.org/events/explore-lake-dillon-historical-boat-tour-8/2023-06-22/
LOCATION:Dillon Marina\, 150 Marina Dr\, Dillon\, Colorado\, 80435
ATTACH;FMTTYPE=image/jpeg:https://summithistorical.org/wp-content/uploads/2022/04/Lake-Dillon-Pontoon-Boat.jpg
END:VEVENT
BEGIN:VEVENT
DTSTART;TZID=America/Denver:20230622T110000
DTEND;TZID=America/Denver:20230622T130000
DTSTAMP:20260419T072934
CREATED:20230217T214535Z
LAST-MODIFIED:20230217T214535Z
UID:10002398-1687431600-1687438800@summithistorical.org
SUMMARY:1883 Dillon Schoolhouse Museum - Open for Tours
DESCRIPTION:Stop by the 1883 Dillon Schoolhouse for our new 2023 educational tour. \nAdmission:  $5.00 per person.
URL:https://summithistorical.org/events/1883-dillon-schoolhouse-museum-open-for-tours-2/2023-06-22/
LOCATION:Slifer Smith & Frampton- Breckenridge Office\, 117 S Main St.\, Breckenridge\, CO\, 80424\, United States
ATTACH;FMTTYPE=image/jpeg:https://summithistorical.org/wp-content/uploads/2022/03/20220414_092249.jpg
END:VEVENT
BEGIN:VEVENT
DTSTART;TZID=America/Denver:20230623T090000
DTEND;TZID=America/Denver:20230623T140000
DTSTAMP:20260419T072934
CREATED:20230217T212743Z
LAST-MODIFIED:20230217T213622Z
UID:10002469-1687510800-1687528800@summithistorical.org
SUMMARY:Dillon Farmers Market
DESCRIPTION:Every Friday\, stop by our booth at the Farmers Market for special guests\, pop-up exhibits\, and more! \n\nEvery Friday from June 9th- September 15th\n9:00 AM – 2:00 PM MST\nLocation: Dillon Town Park (120 Buffalo St)\nFree
URL:https://summithistorical.org/events/dillon-farmers-market-2/2023-06-23/
LOCATION:Dillon Farmers’ Market\, 120 Buffalo St.\, Dillon\, CO\, 80435
ATTACH;FMTTYPE=image/png:https://summithistorical.org/wp-content/uploads/2022/02/Dillon_Farmer_s_Market-344x300-1.png
END:VEVENT
BEGIN:VEVENT
DTSTART;TZID=America/Denver:20230623T110000
DTEND;TZID=America/Denver:20230623T130000
DTSTAMP:20260419T072934
CREATED:20230217T214218Z
LAST-MODIFIED:20230217T214218Z
UID:10002365-1687518000-1687525200@summithistorical.org
SUMMARY:1883 Dillon Schoolhouse Museum - Open for Tours
DESCRIPTION:Stop by the 1883 Dillon Schoolhouse for our new 2023 educational tour. \nAdmission:  $5.00 per person.
URL:https://summithistorical.org/events/1883-dillon-schoolhouse-museum-open-for-tours/2023-06-23/
LOCATION:Slifer Smith & Frampton- Breckenridge Office\, 117 S Main St.\, Breckenridge\, CO\, 80424\, United States
ATTACH;FMTTYPE=image/jpeg:https://summithistorical.org/wp-content/uploads/2022/03/20220414_092249.jpg
END:VEVENT
BEGIN:VEVENT
DTSTART;TZID=America/Denver:20230623T110000
DTEND;TZID=America/Denver:20230623T130000
DTSTAMP:20260419T072934
CREATED:20230217T215215Z
LAST-MODIFIED:20230302T161755Z
UID:10002442-1687518000-1687525200@summithistorical.org
SUMMARY:1883 Dillon Schoolhouse Museum - Open for Tours
DESCRIPTION:Stop by the 1883 Dillon Schoolhouse for our new 2023 educational tour. \nAdmission:  $5.00 per person.
URL:https://summithistorical.org/events/1883-dillon-schoolhouse-museum-open-for-tours-3/2023-06-23/
LOCATION:Slifer Smith & Frampton- Breckenridge Office\, 117 S Main St.\, Breckenridge\, CO\, 80424\, United States
ATTACH;FMTTYPE=image/jpeg:https://summithistorical.org/wp-content/uploads/2022/03/20220414_092249.jpg
END:VEVENT
BEGIN:VEVENT
DTSTART;TZID=America/Denver:20230624T110000
DTEND;TZID=America/Denver:20230624T130000
DTSTAMP:20260419T072934
CREATED:20230217T214218Z
LAST-MODIFIED:20230217T214218Z
UID:10002366-1687604400-1687611600@summithistorical.org
SUMMARY:1883 Dillon Schoolhouse Museum - Open for Tours
DESCRIPTION:Stop by the 1883 Dillon Schoolhouse for our new 2023 educational tour. \nAdmission:  $5.00 per person.
URL:https://summithistorical.org/events/1883-dillon-schoolhouse-museum-open-for-tours/2023-06-24/
LOCATION:Slifer Smith & Frampton- Breckenridge Office\, 117 S Main St.\, Breckenridge\, CO\, 80424\, United States
ATTACH;FMTTYPE=image/jpeg:https://summithistorical.org/wp-content/uploads/2022/03/20220414_092249.jpg
END:VEVENT
BEGIN:VEVENT
DTSTART;TZID=America/Denver:20230624T110000
DTEND;TZID=America/Denver:20230624T130000
DTSTAMP:20260419T072934
CREATED:20230217T215215Z
LAST-MODIFIED:20230302T161755Z
UID:10002443-1687604400-1687611600@summithistorical.org
SUMMARY:1883 Dillon Schoolhouse Museum - Open for Tours
DESCRIPTION:Stop by the 1883 Dillon Schoolhouse for our new 2023 educational tour. \nAdmission:  $5.00 per person.
URL:https://summithistorical.org/events/1883-dillon-schoolhouse-museum-open-for-tours-3/2023-06-24/
LOCATION:Slifer Smith & Frampton- Breckenridge Office\, 117 S Main St.\, Breckenridge\, CO\, 80424\, United States
ATTACH;FMTTYPE=image/jpeg:https://summithistorical.org/wp-content/uploads/2022/03/20220414_092249.jpg
END:VEVENT
BEGIN:VEVENT
DTSTART;TZID=America/Denver:20230627T084500
DTEND;TZID=America/Denver:20230627T140000
DTSTAMP:20260419T072934
CREATED:20230322T155513Z
LAST-MODIFIED:20230619T160448Z
UID:10001990-1687855500-1687874400@summithistorical.org
SUMMARY:Historical Hike: Lost Silver Towns of Peru Creek
DESCRIPTION:Do you like ghost towns?  Step back in time to the silver mining days on Peru Creek.  Join Ken Torrington as we drive up Peru Creek road\, and he talks about life in the 1800s in Chihuahua\, the Pennsylvania mine\, and Argentine. We will stop for lunch at one of the adits of the Pennsylvania mine. \n\nTuesday\, June 27th\n8:45 AM\, 1/2 day driving/walking tour\nLocation: Peru Creek trailhead\, about 5 miles up Montezuma Road from Keystone\nTickets: $25 for SHS Members; $35 for Non-Members\nLimited to 25 Guests\nReserve by June 26th at 4PM\n\n  \nWear comfortable shoes.  Bring your own water\, lunch\, and camp chair.  Off-road vehicle recommended; however\, rides in 4-Wheel Drive vehicles are available.  The road is well maintained\, packed dirt/gravel\, but some rocky sections exist.
URL:https://summithistorical.org/events/historical-hike-lost-silver-towns-of-peru-creek-2/
LOCATION:CO
ATTACH;FMTTYPE=image/png:https://summithistorical.org/wp-content/uploads/2023/03/Peru-Creek-2022.png
END:VEVENT
BEGIN:VEVENT
DTSTART;TZID=America/Denver:20230627T090000
DTEND;TZID=America/Denver:20230627T103000
DTSTAMP:20260419T072934
CREATED:20230217T211429Z
LAST-MODIFIED:20230217T211429Z
UID:10002285-1687856400-1687861800@summithistorical.org
SUMMARY:Explore Lake Dillon:  Historical Boat Tour
DESCRIPTION:In partnership with the Town of Dillon Marina\, trained guides from the Summit Historical Society lead a leisurely historic tour of Lake Dillon. Learn about the building of Dillon Dam and the Roberts Tunnel and relocating the Town of Dillon. \n\nTuesday\, Wednesday\, and Thursday mornings – June 7th through August 30th\nSaturday tours also available on June 10th\, July 8th\, and August 12th\n9:00 – 10:30am *\nLocation: Dillon Marina\nCost: $42/person – no children under 7\n(add a tour of the 1883 Dillon Schoolhouse Museum in downtown Dillon for an additional $5.00)\nBring a jacket\, hat and sunscreen.  Weather can change rapidly on the lake!\nFor reservations\, call Dillon Marina (970) 468-5100 or click the link below.\n\n* Please arrive 15-minutes early.  Boat will depart promptly at 9:00am \nphoto courtesy Town of Dillon Marina \nBOOK ONLINE
URL:https://summithistorical.org/events/explore-lake-dillon-historical-boat-tour-8/2023-06-27/
LOCATION:Dillon Marina\, 150 Marina Dr\, Dillon\, Colorado\, 80435
ATTACH;FMTTYPE=image/jpeg:https://summithistorical.org/wp-content/uploads/2022/04/Lake-Dillon-Pontoon-Boat.jpg
END:VEVENT
BEGIN:VEVENT
DTSTART;TZID=America/Denver:20230627T110000
DTEND;TZID=America/Denver:20230627T130000
DTSTAMP:20260419T072934
CREATED:20230217T214535Z
LAST-MODIFIED:20230217T214535Z
UID:10002399-1687863600-1687870800@summithistorical.org
SUMMARY:1883 Dillon Schoolhouse Museum - Open for Tours
DESCRIPTION:Stop by the 1883 Dillon Schoolhouse for our new 2023 educational tour. \nAdmission:  $5.00 per person.
URL:https://summithistorical.org/events/1883-dillon-schoolhouse-museum-open-for-tours-2/2023-06-27/
LOCATION:Slifer Smith & Frampton- Breckenridge Office\, 117 S Main St.\, Breckenridge\, CO\, 80424\, United States
ATTACH;FMTTYPE=image/jpeg:https://summithistorical.org/wp-content/uploads/2022/03/20220414_092249.jpg
END:VEVENT
END:VCALENDAR