BEGIN:VCALENDAR
VERSION:2.0
PRODID:-//Summit Historical Society - ECPv6.15.20//NONSGML v1.0//EN
CALSCALE:GREGORIAN
METHOD:PUBLISH
X-WR-CALNAME:Summit Historical Society
X-ORIGINAL-URL:https://summithistorical.org
X-WR-CALDESC:Events for Summit Historical Society
REFRESH-INTERVAL;VALUE=DURATION:PT1H
X-Robots-Tag:noindex
X-PUBLISHED-TTL:PT1H
BEGIN:VTIMEZONE
TZID:UTC
BEGIN:STANDARD
TZOFFSETFROM:+0000
TZOFFSETTO:+0000
TZNAME:UTC
DTSTART:20210101T000000
END:STANDARD
END:VTIMEZONE
BEGIN:VTIMEZONE
TZID:America/Chicago
BEGIN:DAYLIGHT
TZOFFSETFROM:-0600
TZOFFSETTO:-0500
TZNAME:CDT
DTSTART:20210314T080000
END:DAYLIGHT
BEGIN:STANDARD
TZOFFSETFROM:-0500
TZOFFSETTO:-0600
TZNAME:CST
DTSTART:20211107T070000
END:STANDARD
BEGIN:DAYLIGHT
TZOFFSETFROM:-0600
TZOFFSETTO:-0500
TZNAME:CDT
DTSTART:20220313T080000
END:DAYLIGHT
BEGIN:STANDARD
TZOFFSETFROM:-0500
TZOFFSETTO:-0600
TZNAME:CST
DTSTART:20221106T070000
END:STANDARD
BEGIN:DAYLIGHT
TZOFFSETFROM:-0600
TZOFFSETTO:-0500
TZNAME:CDT
DTSTART:20230312T080000
END:DAYLIGHT
BEGIN:STANDARD
TZOFFSETFROM:-0500
TZOFFSETTO:-0600
TZNAME:CST
DTSTART:20231105T070000
END:STANDARD
END:VTIMEZONE
BEGIN:VEVENT
DTSTART;TZID=UTC:20220610T110000
DTEND;TZID=UTC:20220610T140000
DTSTAMP:20260424T031003
CREATED:20220616T201708Z
LAST-MODIFIED:20230127T185836Z
UID:10002178-1654858800-1654869600@summithistorical.org
SUMMARY:1883 Dillon Schoolhouse - Open for Tours
DESCRIPTION:Stop by the 1883 Dillon Schoolhouse for our new Summer 2022 educational tour. \nSuggested donation of $5.00 per person.
URL:https://summithistorical.org/events/1883-schoolhouse-open-for-tours/2022-06-10/
LOCATION:Slifer Smith & Frampton- Breckenridge Office\, 117 S Main St.\, Breckenridge\, CO\, 80424\, United States
ATTACH;FMTTYPE=image/jpeg:https://summithistorical.org/wp-content/uploads/2022/03/20220414_092249.jpg
END:VEVENT
BEGIN:VEVENT
DTSTART;TZID=America/Chicago:20220610T090000
DTEND;TZID=America/Chicago:20220610T140000
DTSTAMP:20260424T031003
CREATED:20220222T224405Z
LAST-MODIFIED:20230217T212135Z
UID:10002100-1654851600-1654869600@summithistorical.org
SUMMARY:Dillon Farmers Market
DESCRIPTION:Every Friday stop by our booth at the Farmers Market for special guests\, pop-up exhibits\, and more! \n\nEvery Friday from June 10th- September 16th\n9:00 AM – 2:00 PM MST\nLocation: Lodgepole Street adjacent to the Dillon Amphitheater\nFree\n\n 
URL:https://summithistorical.org/events/dillon-farmers-market/2022-06-10/
LOCATION:300 W Lodgepole St\, 300 W Lodgepole St\, Dillon\, CO\, 80435
ATTACH;FMTTYPE=image/png:https://summithistorical.org/wp-content/uploads/2022/02/Dillon_Farmer_s_Market-344x300-1.png
END:VEVENT
BEGIN:VEVENT
DTSTART;TZID=UTC:20220609T110000
DTEND;TZID=UTC:20220609T140000
DTSTAMP:20260424T031003
CREATED:20220616T201708Z
LAST-MODIFIED:20230127T185836Z
UID:10002177-1654772400-1654783200@summithistorical.org
SUMMARY:1883 Dillon Schoolhouse - Open for Tours
DESCRIPTION:Stop by the 1883 Dillon Schoolhouse for our new Summer 2022 educational tour. \nSuggested donation of $5.00 per person.
URL:https://summithistorical.org/events/1883-schoolhouse-open-for-tours/2022-06-09/
LOCATION:Slifer Smith & Frampton- Breckenridge Office\, 117 S Main St.\, Breckenridge\, CO\, 80424\, United States
ATTACH;FMTTYPE=image/jpeg:https://summithistorical.org/wp-content/uploads/2022/03/20220414_092249.jpg
END:VEVENT
BEGIN:VEVENT
DTSTART;TZID=America/Chicago:20220609T093000
DTEND;TZID=America/Chicago:20220609T110000
DTSTAMP:20260424T031003
CREATED:20220427T212906Z
LAST-MODIFIED:20230127T185837Z
UID:10002160-1654767000-1654772400@summithistorical.org
SUMMARY:Explore Lake Dillon: Historical Boat Tour
DESCRIPTION:In partnership with the Town of Dillon Marina\, trained guides from the Summit Historical Society lead a leisurely historic tour of Lake Dillon. Learn about the building of Dillon Dam and the Roberts Tunnel and relocating the Town of Dillon. \n\nTuesday\, Wednesday\, and Thursday mornings – June 8th through August 31st\nSaturday tours also available on June11th\, July 9th\, and August 13th\n9:30 – 11:00am *\nLocation: Dillon Marina\nCost: $40/person – no children under 7\n(add a tour of the 1883 Dillon Schoolhouse Museum in downtown Dillon for an additional $5.00)\nBring a jacket\, hat and sunscreen.  Weather can change rapidly on the lake!\nFor reservations\, call Dillon Marina (970) 468-5100 or click the link below.\n\n* Please arrive 15-minutes early.  Boat will depart promptly at 9:30am \nphoto courtesy Town of Dillon Marina \nBOOK ONLINE
URL:https://summithistorical.org/events/explore-lake-dillon-historical-boat-tour-2/2022-06-09/
LOCATION:Dillon Marina\, 150 Marina Dr\, Dillon\, Colorado\, 80435
ATTACH;FMTTYPE=image/jpeg:https://summithistorical.org/wp-content/uploads/2022/04/Lake-Dillon-Pontoon-Boat.jpg
END:VEVENT
BEGIN:VEVENT
DTSTART;TZID=UTC:20220608T110000
DTEND;TZID=UTC:20220608T140000
DTSTAMP:20260424T031003
CREATED:20220616T201708Z
LAST-MODIFIED:20230127T185836Z
UID:10002176-1654686000-1654696800@summithistorical.org
SUMMARY:1883 Dillon Schoolhouse - Open for Tours
DESCRIPTION:Stop by the 1883 Dillon Schoolhouse for our new Summer 2022 educational tour. \nSuggested donation of $5.00 per person.
URL:https://summithistorical.org/events/1883-schoolhouse-open-for-tours/2022-06-08/
LOCATION:Slifer Smith & Frampton- Breckenridge Office\, 117 S Main St.\, Breckenridge\, CO\, 80424\, United States
ATTACH;FMTTYPE=image/jpeg:https://summithistorical.org/wp-content/uploads/2022/03/20220414_092249.jpg
END:VEVENT
BEGIN:VEVENT
DTSTART;TZID=America/Chicago:20220608T093000
DTEND;TZID=America/Chicago:20220608T110000
DTSTAMP:20260424T031003
CREATED:20220427T212906Z
LAST-MODIFIED:20230127T185837Z
UID:10002159-1654680600-1654686000@summithistorical.org
SUMMARY:Explore Lake Dillon: Historical Boat Tour
DESCRIPTION:In partnership with the Town of Dillon Marina\, trained guides from the Summit Historical Society lead a leisurely historic tour of Lake Dillon. Learn about the building of Dillon Dam and the Roberts Tunnel and relocating the Town of Dillon. \n\nTuesday\, Wednesday\, and Thursday mornings – June 8th through August 31st\nSaturday tours also available on June11th\, July 9th\, and August 13th\n9:30 – 11:00am *\nLocation: Dillon Marina\nCost: $40/person – no children under 7\n(add a tour of the 1883 Dillon Schoolhouse Museum in downtown Dillon for an additional $5.00)\nBring a jacket\, hat and sunscreen.  Weather can change rapidly on the lake!\nFor reservations\, call Dillon Marina (970) 468-5100 or click the link below.\n\n* Please arrive 15-minutes early.  Boat will depart promptly at 9:30am \nphoto courtesy Town of Dillon Marina \nBOOK ONLINE
URL:https://summithistorical.org/events/explore-lake-dillon-historical-boat-tour-2/2022-06-08/
LOCATION:Dillon Marina\, 150 Marina Dr\, Dillon\, Colorado\, 80435
ATTACH;FMTTYPE=image/jpeg:https://summithistorical.org/wp-content/uploads/2022/04/Lake-Dillon-Pontoon-Boat.jpg
END:VEVENT
BEGIN:VEVENT
DTSTART;TZID=America/Chicago:20220607T173000
DTEND;TZID=America/Chicago:20220607T190000
DTSTAMP:20260424T031003
CREATED:20220406T182616Z
LAST-MODIFIED:20230127T185837Z
UID:10001934-1654623000-1654628400@summithistorical.org
SUMMARY:SHS Member Meet & Greet - June (FREE)
DESCRIPTION:SHS Member-Only Meet and Greet  \n\nMeet fellow SHS members and\nsee the concept for a historic park as part of the Dillon Town Park\nFREE\, but space is limited to (40) guests – GET YOUR FREE TICKETS BELOW\nReservations required.\nDonations appreciated and benefit Summit Historical Society
URL:https://summithistorical.org/events/shs-member-meet-greet-2022-06-07/
LOCATION:Slifer Smith & Frampton- Breckenridge Office\, 117 S Main St.\, Breckenridge\, CO\, 80424\, United States
ATTACH;FMTTYPE=image/jpeg:https://summithistorical.org/wp-content/uploads/2022/03/Dillon-Schoolhouse-2022.jpg
END:VEVENT
BEGIN:VEVENT
DTSTART;TZID=America/Chicago:20220607T093000
DTEND;TZID=America/Chicago:20220607T230000
DTSTAMP:20260424T031003
CREATED:20220502T133000Z
LAST-MODIFIED:20230217T165857Z
UID:10002169-1654594200-1654642800@summithistorical.org
SUMMARY:Member Only - Historical Boat Tour
DESCRIPTION:Special tour for SHS members only. In partnership with the Town of Dillon.  Guides from the Summit Historical Society lead a leisurely boat ride on Lake DIllon. Learn about building Dillon Dam\, the Roberts Tunnel\, and relocating the Town of Dillon. \n\n9:30 – 11:00 AM; Dillon Marina\nCost:  $20/person – No children under 7\, please\nBring a hat\, jacket and sunscreen; weather can change rapidly on the lake.\nPlease arrive 15-minutes early; boat will leave the dock promptly at 9:30\n\nIf you are not already an SHS member\, please click here to become a member. \n  \n 
URL:https://summithistorical.org/events/member-only-historical-boat-tour/
LOCATION:CO
ATTACH;FMTTYPE=image/jpeg:https://summithistorical.org/wp-content/uploads/2022/04/Lake-Dillon-Pontoon-Boat.jpg
END:VEVENT
BEGIN:VEVENT
DTSTART;VALUE=DATE:20220530
DTEND;VALUE=DATE:20220531
DTSTAMP:20260424T031003
CREATED:20220427T193911Z
LAST-MODIFIED:20230127T185838Z
UID:10002125-1653868800-1653955199@summithistorical.org
SUMMARY:Happy Memorial Day!
DESCRIPTION:photo courtesy cuyahogagroup.com \n 
URL:https://summithistorical.org/events/happy-memorial-day/
LOCATION:CO
ATTACH;FMTTYPE=image/jpeg:https://summithistorical.org/wp-content/uploads/2022/04/Memorial-Day-cuyahogagroup.com_.jpg
END:VEVENT
BEGIN:VEVENT
DTSTART;TZID=America/Chicago:20220528T100000
DTEND;TZID=America/Chicago:20220528T120000
DTSTAMP:20260424T031003
CREATED:20220421T161536Z
LAST-MODIFIED:20230127T185838Z
UID:10002117-1653732000-1653739200@summithistorical.org
SUMMARY:Map Minutes - Frisco Historic Park & Museum (Free)
DESCRIPTION:May is Map Month \n\nJoin us as we pull historic Summit County maps from our archives and take them on the road.\nFREE and open to the public
URL:https://summithistorical.org/events/map-minutes-frisco-historic-park-museum-10am-noon-free/
LOCATION:Frisco Historic Park & Museum\, 120 Main Street\, Frisco\, CO\, 80443
ATTACH;FMTTYPE=image/jpeg:https://summithistorical.org/wp-content/uploads/2022/04/Mining-Blue-Print-Map.jpg
END:VEVENT
BEGIN:VEVENT
DTSTART;TZID=America/Chicago:20220526T130000
DTEND;TZID=America/Chicago:20220526T150000
DTSTAMP:20260424T031003
CREATED:20220421T160720Z
LAST-MODIFIED:20230127T185838Z
UID:10001940-1653570000-1653577200@summithistorical.org
SUMMARY:Map Minutes - Summit County Library - Frisco (Free)
DESCRIPTION:May is Map Month \n\nJoin us as we pull historic Summit County maps from our archives and take them on the road.\nSummit County Library – Main Branch (Frisco)\nFREE and open to the public
URL:https://summithistorical.org/events/map-minutes-frisco-library-1-3pm-free/
LOCATION:Frisco Library\, 37 Peak One Drive\, Frisco\, CO\, 80443
ATTACH;FMTTYPE=image/png:https://summithistorical.org/wp-content/uploads/2022/04/1884-Colorado-County-Map-zoom-shows-summit-county-railroads.png
END:VEVENT
BEGIN:VEVENT
DTSTART;TZID=America/Chicago:20220525T130000
DTEND;TZID=America/Chicago:20220525T150000
DTSTAMP:20260424T031003
CREATED:20220421T155328Z
LAST-MODIFIED:20230127T185839Z
UID:10001938-1653483600-1653490800@summithistorical.org
SUMMARY:Map Minutes - Summit County Library-Breckenridge 1-3pm (Free)
DESCRIPTION:May is Map Month \n\nJoin us as we pull historic Summit County maps from our archives and take them on the road.\nSummit County Library – South Branch (Breckenridge)\nFREE and open to the public
URL:https://summithistorical.org/events/map-minutes-breckenridge-library-1-3pm/
LOCATION:Breckenridge Library\, 103 S. Harris Street\, Breckenridge\, CO\, 80424
ATTACH;FMTTYPE=image/png:https://summithistorical.org/wp-content/uploads/2022/04/1884-Colorado-County-Map-zoom-shows-summit-county-railroads.png
END:VEVENT
BEGIN:VEVENT
DTSTART;TZID=UTC:20220524T110000
DTEND;TZID=UTC:20220524T130000
DTSTAMP:20260424T031003
CREATED:20220427T191837Z
LAST-MODIFIED:20230127T185839Z
UID:10002124-1653390000-1653397200@summithistorical.org
SUMMARY:Map Minutes - 1883 Dillon Schoolhouse (Free)
DESCRIPTION:May is Map Month Join us as we pull historic Summit County maps from our archives and take them on the road. FREE and open to the public
URL:https://summithistorical.org/events/map-minutes-1883-dillon-schoolhouse-free/2022-05-24/
LOCATION:Slifer Smith & Frampton- Breckenridge Office\, 117 S Main St.\, Breckenridge\, CO\, 80424\, United States
ATTACH;FMTTYPE=image/png:https://summithistorical.org/wp-content/uploads/2022/04/1884-Colorado-County-Map-zoom-shows-summit-county-railroads.png
END:VEVENT
BEGIN:VEVENT
DTSTART;TZID=UTC:20220523T110000
DTEND;TZID=UTC:20220523T130000
DTSTAMP:20260424T031003
CREATED:20220427T191837Z
LAST-MODIFIED:20230127T185839Z
UID:10002123-1653303600-1653310800@summithistorical.org
SUMMARY:Map Minutes - 1883 Dillon Schoolhouse (Free)
DESCRIPTION:May is Map Month Join us as we pull historic Summit County maps from our archives and take them on the road. FREE and open to the public
URL:https://summithistorical.org/events/map-minutes-1883-dillon-schoolhouse-free/2022-05-23/
LOCATION:Slifer Smith & Frampton- Breckenridge Office\, 117 S Main St.\, Breckenridge\, CO\, 80424\, United States
ATTACH;FMTTYPE=image/png:https://summithistorical.org/wp-content/uploads/2022/04/1884-Colorado-County-Map-zoom-shows-summit-county-railroads.png
END:VEVENT
BEGIN:VEVENT
DTSTART;TZID=America/Chicago:20220519T173000
DTEND;TZID=America/Chicago:20220519T190000
DTSTAMP:20260424T031003
CREATED:20220406T182616Z
LAST-MODIFIED:20230127T185840Z
UID:10001931-1652981400-1652986800@summithistorical.org
SUMMARY:SHS Member Meet & Greet - May (FREE)
DESCRIPTION:What’s in Your Wine Glass? \n\nStart the summer off right with a member-only Meet and Greet Wine Tasting of Oregon wines sponsored by Banfi Wines.\nMeet fellow SHS members and get ready for a fun\, historic summer in the mountains.\nHeather Queen\, sommelier and SHS member will host the wine tasting.\nFREE\, but space is limited to (40) guests – GET YOUR FREE TICKETS BELOW\nReservations required.\nDonations appreciated and benefit Summit Historical Society
URL:https://summithistorical.org/events/shs-member-meet-greet/2022-05-19/
LOCATION:Slifer Smith & Frampton- Breckenridge Office\, 117 S Main St.\, Breckenridge\, CO\, 80424\, United States
END:VEVENT
END:VCALENDAR