BEGIN:VCALENDAR
VERSION:2.0
PRODID:-//Summit Historical Society - ECPv6.15.20//NONSGML v1.0//EN
CALSCALE:GREGORIAN
METHOD:PUBLISH
X-ORIGINAL-URL:https://summithistorical.org
X-WR-CALDESC:Events for Summit Historical Society
REFRESH-INTERVAL;VALUE=DURATION:PT1H
X-Robots-Tag:noindex
X-PUBLISHED-TTL:PT1H
BEGIN:VTIMEZONE
TZID:America/Denver
BEGIN:DAYLIGHT
TZOFFSETFROM:-0700
TZOFFSETTO:-0600
TZNAME:MDT
DTSTART:20220313T090000
END:DAYLIGHT
BEGIN:STANDARD
TZOFFSETFROM:-0600
TZOFFSETTO:-0700
TZNAME:MST
DTSTART:20221106T080000
END:STANDARD
BEGIN:DAYLIGHT
TZOFFSETFROM:-0700
TZOFFSETTO:-0600
TZNAME:MDT
DTSTART:20230312T090000
END:DAYLIGHT
BEGIN:STANDARD
TZOFFSETFROM:-0600
TZOFFSETTO:-0700
TZNAME:MST
DTSTART:20231105T080000
END:STANDARD
BEGIN:DAYLIGHT
TZOFFSETFROM:-0700
TZOFFSETTO:-0600
TZNAME:MDT
DTSTART:20240310T090000
END:DAYLIGHT
BEGIN:STANDARD
TZOFFSETFROM:-0600
TZOFFSETTO:-0700
TZNAME:MST
DTSTART:20241103T080000
END:STANDARD
END:VTIMEZONE
BEGIN:VEVENT
DTSTART;TZID=America/Denver:20230819T110000
DTEND;TZID=America/Denver:20230819T130000
DTSTAMP:20260424T140130
CREATED:20230217T214218Z
LAST-MODIFIED:20230217T214218Z
UID:10002382-1692442800-1692450000@summithistorical.org
SUMMARY:1883 Dillon Schoolhouse Museum - Open for Tours
DESCRIPTION:Stop by the 1883 Dillon Schoolhouse for our new 2023 educational tour. \nAdmission:  $5.00 per person.
URL:https://summithistorical.org/events/1883-dillon-schoolhouse-museum-open-for-tours/2023-08-19/
LOCATION:Slifer Smith & Frampton- Breckenridge Office\, 117 S Main St.\, Breckenridge\, CO\, 80424\, United States
ATTACH;FMTTYPE=image/jpeg:https://summithistorical.org/wp-content/uploads/2022/03/20220414_092249.jpg
END:VEVENT
BEGIN:VEVENT
DTSTART;TZID=America/Denver:20230819T110000
DTEND;TZID=America/Denver:20230819T130000
DTSTAMP:20260424T140130
CREATED:20230217T215215Z
LAST-MODIFIED:20230302T161755Z
UID:10002459-1692442800-1692450000@summithistorical.org
SUMMARY:1883 Dillon Schoolhouse Museum - Open for Tours
DESCRIPTION:Stop by the 1883 Dillon Schoolhouse for our new 2023 educational tour. \nAdmission:  $5.00 per person.
URL:https://summithistorical.org/events/1883-dillon-schoolhouse-museum-open-for-tours-3/2023-08-19/
LOCATION:Slifer Smith & Frampton- Breckenridge Office\, 117 S Main St.\, Breckenridge\, CO\, 80424\, United States
ATTACH;FMTTYPE=image/jpeg:https://summithistorical.org/wp-content/uploads/2022/03/20220414_092249.jpg
END:VEVENT
BEGIN:VEVENT
DTSTART;TZID=America/Denver:20230822T090000
DTEND;TZID=America/Denver:20230822T103000
DTSTAMP:20260424T140130
CREATED:20230217T172739Z
LAST-MODIFIED:20230217T173729Z
UID:10002313-1692694800-1692700200@summithistorical.org
SUMMARY:Explore Lake Dillon:  Historical Boat Tour
DESCRIPTION:In partnership with the Town of Dillon Marina\, trained guides from the Summit Historical Society lead a leisurely historic tour of Lake Dillon. Learn about the building of Dillon Dam and the Roberts Tunnel and relocating the Town of Dillon. \n\nTuesday\, Wednesday\, and Thursday mornings – June 7th through August 30th\nSaturday tours also available on June 10th\, July 8th\, and August 12th\n9:00 – 10:30am *\nLocation: Dillon Marina\nCost: $42/person – no children under 7\n(add a tour of the 1883 Dillon Schoolhouse Museum in downtown Dillon for an additional $5.00)\nBring a jacket\, hat and sunscreen.  Weather can change rapidly on the lake!\nFor reservations\, call Dillon Marina (970) 468-5100 or click the link below.\n\n* Please arrive 15-minutes early.  Boat will depart promptly at 9:00am \nphoto courtesy Town of Dillon Marina \nBOOK ONLINE
URL:https://summithistorical.org/events/10832/2023-08-22/
LOCATION:Dillon Marina\, 150 Marina Dr\, Dillon\, Colorado\, 80435
ATTACH;FMTTYPE=image/jpeg:https://summithistorical.org/wp-content/uploads/2022/04/Lake-Dillon-Pontoon-Boat.jpg
END:VEVENT
BEGIN:VEVENT
DTSTART;TZID=America/Denver:20230822T110000
DTEND;TZID=America/Denver:20230822T130000
DTSTAMP:20260424T140130
CREATED:20230217T214535Z
LAST-MODIFIED:20230217T214535Z
UID:10002422-1692702000-1692709200@summithistorical.org
SUMMARY:1883 Dillon Schoolhouse Museum - Open for Tours
DESCRIPTION:Stop by the 1883 Dillon Schoolhouse for our new 2023 educational tour. \nAdmission:  $5.00 per person.
URL:https://summithistorical.org/events/1883-dillon-schoolhouse-museum-open-for-tours-2/2023-08-22/
LOCATION:Slifer Smith & Frampton- Breckenridge Office\, 117 S Main St.\, Breckenridge\, CO\, 80424\, United States
ATTACH;FMTTYPE=image/jpeg:https://summithistorical.org/wp-content/uploads/2022/03/20220414_092249.jpg
END:VEVENT
BEGIN:VEVENT
DTSTART;TZID=America/Denver:20230823T090000
DTEND;TZID=America/Denver:20230823T103000
DTSTAMP:20260424T140130
CREATED:20230217T172739Z
LAST-MODIFIED:20230217T173729Z
UID:10002314-1692781200-1692786600@summithistorical.org
SUMMARY:Explore Lake Dillon:  Historical Boat Tour
DESCRIPTION:In partnership with the Town of Dillon Marina\, trained guides from the Summit Historical Society lead a leisurely historic tour of Lake Dillon. Learn about the building of Dillon Dam and the Roberts Tunnel and relocating the Town of Dillon. \n\nTuesday\, Wednesday\, and Thursday mornings – June 7th through August 30th\nSaturday tours also available on June 10th\, July 8th\, and August 12th\n9:00 – 10:30am *\nLocation: Dillon Marina\nCost: $42/person – no children under 7\n(add a tour of the 1883 Dillon Schoolhouse Museum in downtown Dillon for an additional $5.00)\nBring a jacket\, hat and sunscreen.  Weather can change rapidly on the lake!\nFor reservations\, call Dillon Marina (970) 468-5100 or click the link below.\n\n* Please arrive 15-minutes early.  Boat will depart promptly at 9:00am \nphoto courtesy Town of Dillon Marina \nBOOK ONLINE
URL:https://summithistorical.org/events/10832/2023-08-23/
LOCATION:Dillon Marina\, 150 Marina Dr\, Dillon\, Colorado\, 80435
ATTACH;FMTTYPE=image/jpeg:https://summithistorical.org/wp-content/uploads/2022/04/Lake-Dillon-Pontoon-Boat.jpg
END:VEVENT
BEGIN:VEVENT
DTSTART;TZID=America/Denver:20230823T110000
DTEND;TZID=America/Denver:20230823T130000
DTSTAMP:20260424T140130
CREATED:20230217T214535Z
LAST-MODIFIED:20230217T214535Z
UID:10002423-1692788400-1692795600@summithistorical.org
SUMMARY:1883 Dillon Schoolhouse Museum - Open for Tours
DESCRIPTION:Stop by the 1883 Dillon Schoolhouse for our new 2023 educational tour. \nAdmission:  $5.00 per person.
URL:https://summithistorical.org/events/1883-dillon-schoolhouse-museum-open-for-tours-2/2023-08-23/
LOCATION:Slifer Smith & Frampton- Breckenridge Office\, 117 S Main St.\, Breckenridge\, CO\, 80424\, United States
ATTACH;FMTTYPE=image/jpeg:https://summithistorical.org/wp-content/uploads/2022/03/20220414_092249.jpg
END:VEVENT
BEGIN:VEVENT
DTSTART;TZID=America/Denver:20230824T090000
DTEND;TZID=America/Denver:20230824T103000
DTSTAMP:20260424T140130
CREATED:20230217T172739Z
LAST-MODIFIED:20230217T173729Z
UID:10002315-1692867600-1692873000@summithistorical.org
SUMMARY:Explore Lake Dillon:  Historical Boat Tour
DESCRIPTION:In partnership with the Town of Dillon Marina\, trained guides from the Summit Historical Society lead a leisurely historic tour of Lake Dillon. Learn about the building of Dillon Dam and the Roberts Tunnel and relocating the Town of Dillon. \n\nTuesday\, Wednesday\, and Thursday mornings – June 7th through August 30th\nSaturday tours also available on June 10th\, July 8th\, and August 12th\n9:00 – 10:30am *\nLocation: Dillon Marina\nCost: $42/person – no children under 7\n(add a tour of the 1883 Dillon Schoolhouse Museum in downtown Dillon for an additional $5.00)\nBring a jacket\, hat and sunscreen.  Weather can change rapidly on the lake!\nFor reservations\, call Dillon Marina (970) 468-5100 or click the link below.\n\n* Please arrive 15-minutes early.  Boat will depart promptly at 9:00am \nphoto courtesy Town of Dillon Marina \nBOOK ONLINE
URL:https://summithistorical.org/events/10832/2023-08-24/
LOCATION:Dillon Marina\, 150 Marina Dr\, Dillon\, Colorado\, 80435
ATTACH;FMTTYPE=image/jpeg:https://summithistorical.org/wp-content/uploads/2022/04/Lake-Dillon-Pontoon-Boat.jpg
END:VEVENT
BEGIN:VEVENT
DTSTART;TZID=America/Denver:20230824T110000
DTEND;TZID=America/Denver:20230824T130000
DTSTAMP:20260424T140130
CREATED:20230217T214535Z
LAST-MODIFIED:20230217T214535Z
UID:10002424-1692874800-1692882000@summithistorical.org
SUMMARY:1883 Dillon Schoolhouse Museum - Open for Tours
DESCRIPTION:Stop by the 1883 Dillon Schoolhouse for our new 2023 educational tour. \nAdmission:  $5.00 per person.
URL:https://summithistorical.org/events/1883-dillon-schoolhouse-museum-open-for-tours-2/2023-08-24/
LOCATION:Slifer Smith & Frampton- Breckenridge Office\, 117 S Main St.\, Breckenridge\, CO\, 80424\, United States
ATTACH;FMTTYPE=image/jpeg:https://summithistorical.org/wp-content/uploads/2022/03/20220414_092249.jpg
END:VEVENT
BEGIN:VEVENT
DTSTART;TZID=America/Denver:20230825T090000
DTEND;TZID=America/Denver:20230825T140000
DTSTAMP:20260424T140130
CREATED:20230217T212743Z
LAST-MODIFIED:20230217T213622Z
UID:10002478-1692954000-1692972000@summithistorical.org
SUMMARY:Dillon Farmers Market
DESCRIPTION:Every Friday\, stop by our booth at the Farmers Market for special guests\, pop-up exhibits\, and more! \n\nEvery Friday from June 9th- September 15th\n9:00 AM – 2:00 PM MST\nLocation: Dillon Town Park (120 Buffalo St)\nFree
URL:https://summithistorical.org/events/dillon-farmers-market-2/2023-08-25/
LOCATION:Dillon Farmers’ Market\, 120 Buffalo St.\, Dillon\, CO\, 80435
ATTACH;FMTTYPE=image/png:https://summithistorical.org/wp-content/uploads/2022/02/Dillon_Farmer_s_Market-344x300-1.png
END:VEVENT
BEGIN:VEVENT
DTSTART;TZID=America/Denver:20230825T110000
DTEND;TZID=America/Denver:20230825T130000
DTSTAMP:20260424T140130
CREATED:20230217T214218Z
LAST-MODIFIED:20230217T214218Z
UID:10002383-1692961200-1692968400@summithistorical.org
SUMMARY:1883 Dillon Schoolhouse Museum - Open for Tours
DESCRIPTION:Stop by the 1883 Dillon Schoolhouse for our new 2023 educational tour. \nAdmission:  $5.00 per person.
URL:https://summithistorical.org/events/1883-dillon-schoolhouse-museum-open-for-tours/2023-08-25/
LOCATION:Slifer Smith & Frampton- Breckenridge Office\, 117 S Main St.\, Breckenridge\, CO\, 80424\, United States
ATTACH;FMTTYPE=image/jpeg:https://summithistorical.org/wp-content/uploads/2022/03/20220414_092249.jpg
END:VEVENT
BEGIN:VEVENT
DTSTART;TZID=America/Denver:20230825T110000
DTEND;TZID=America/Denver:20230825T130000
DTSTAMP:20260424T140130
CREATED:20230217T215215Z
LAST-MODIFIED:20230302T161755Z
UID:10002460-1692961200-1692968400@summithistorical.org
SUMMARY:1883 Dillon Schoolhouse Museum - Open for Tours
DESCRIPTION:Stop by the 1883 Dillon Schoolhouse for our new 2023 educational tour. \nAdmission:  $5.00 per person.
URL:https://summithistorical.org/events/1883-dillon-schoolhouse-museum-open-for-tours-3/2023-08-25/
LOCATION:Slifer Smith & Frampton- Breckenridge Office\, 117 S Main St.\, Breckenridge\, CO\, 80424\, United States
ATTACH;FMTTYPE=image/jpeg:https://summithistorical.org/wp-content/uploads/2022/03/20220414_092249.jpg
END:VEVENT
BEGIN:VEVENT
DTSTART;VALUE=DATE:20230826
DTEND;VALUE=DATE:20230828
DTSTAMP:20260424T140130
CREATED:20230330T185848Z
LAST-MODIFIED:20230501T164132Z
UID:10002488-1693008000-1693180799@summithistorical.org
SUMMARY:Summit Historical Society's 4th Annual Vintage Baseball Weekend
DESCRIPTION:Mark your calendars now and don’t miss this wildly popular and unique event! \n\nGame Date and Time:  Sunday\, August 27 at 12 noon.\nLocation:  Dillon Town Park\n(This year’s game will be played on the new baseball diamond next to Dillon Town Hall)\n1864 Baseball Rules (see here)\nFREE to the Public\nNOTE:  Seating will be limited.  Please bring your own chairs or blankets\n\n 
URL:https://summithistorical.org/events/summit-historical-societys-4th-annual-vintage-baseball-weekend/
LOCATION:Dillon Town Park\, 120 Buffalo Street\, Dillon\, CO\, 80435
ATTACH;FMTTYPE=image/png:https://summithistorical.org/wp-content/uploads/2023/03/Batter-Swing.png
END:VEVENT
BEGIN:VEVENT
DTSTART;TZID=America/Denver:20230826T090000
DTEND;TZID=America/Denver:20230826T160000
DTSTAMP:20260424T140130
CREATED:20230427T184548Z
LAST-MODIFIED:20230824T194208Z
UID:10002494-1693040400-1693065600@summithistorical.org
SUMMARY:Textile Camp 2023: Snapshots of Sportswear
DESCRIPTION:“Baseball to Bathing Suits: Snapshots of Sportswear” is presented in partnership with the Costume Society of America\, SW Region.  A fast-paced learning day from historical clothing experts\, covering a range of sportswear over time\, plus a special session on care\, conservation\, and mounting sportswear for museums and individuals.  Ideal for museum operators and enthusiasts.  Lunch provided: Hot dogs and root beer! \n\nDate: Saturday\, August 26\, 2023\nTime: 9:00 AM – 4:00 PM\nLocation: 1883 Schoolhouse Museum\, 403 E. LaBonte Street\, Dillon\, CO 80435\nCost: $40 per person\nSpace limited\, reservation required
URL:https://summithistorical.org/events/textile-camp-2023-snapshots-of-sportswear/
LOCATION:Slifer Smith & Frampton- Breckenridge Office\, 117 S Main St.\, Breckenridge\, CO\, 80424\, United States
ATTACH;FMTTYPE=image/jpeg:https://summithistorical.org/wp-content/uploads/2023/04/SnapshotsOfSportswear_Flyer_v2.jpg
END:VEVENT
BEGIN:VEVENT
DTSTART;TZID=America/Denver:20230826T110000
DTEND;TZID=America/Denver:20230826T130000
DTSTAMP:20260424T140130
CREATED:20230217T214218Z
LAST-MODIFIED:20230217T214218Z
UID:10002384-1693047600-1693054800@summithistorical.org
SUMMARY:1883 Dillon Schoolhouse Museum - Open for Tours
DESCRIPTION:Stop by the 1883 Dillon Schoolhouse for our new 2023 educational tour. \nAdmission:  $5.00 per person.
URL:https://summithistorical.org/events/1883-dillon-schoolhouse-museum-open-for-tours/2023-08-26/
LOCATION:Slifer Smith & Frampton- Breckenridge Office\, 117 S Main St.\, Breckenridge\, CO\, 80424\, United States
ATTACH;FMTTYPE=image/jpeg:https://summithistorical.org/wp-content/uploads/2022/03/20220414_092249.jpg
END:VEVENT
BEGIN:VEVENT
DTSTART;TZID=America/Denver:20230827T120000
DTEND;TZID=America/Denver:20230827T153000
DTSTAMP:20260424T140130
CREATED:20230427T191500Z
LAST-MODIFIED:20230720T150550Z
UID:10002495-1693137600-1693150200@summithistorical.org
SUMMARY:4th Annual Vintage Baseball Game
DESCRIPTION:Free event.  Great family fun in the heart of Dillon\, Colorado!  Come watch a vintage baseball game with 1864 rules and uniforms.  Live music and more!  Food and refreshments will be available for purchase.  All proceeds will be used to support the preservation and educational programs of the Summit Historical Society. \n\nDate: Sunday\, August 27\, 2023\nTime: 12:15 PM for the Summit Concert Band and 1:00 PM for the game\nLocation: Dillon Town Park\nCost: Free\nBring chairs\, sunscreen\, and sunbrellas for lawn seating
URL:https://summithistorical.org/events/4th-annual-vintage-baseball-game/
LOCATION:Dillon Town Park\, 120 Buffalo Street\, Dillon\, CO\, 80435
ATTACH;FMTTYPE=image/jpeg:https://summithistorical.org/wp-content/uploads/2023/04/2023_4th-Annual-VBBG-Banner-Logo.jpg
END:VEVENT
BEGIN:VEVENT
DTSTART;TZID=America/Denver:20230829T090000
DTEND;TZID=America/Denver:20230829T103000
DTSTAMP:20260424T140130
CREATED:20230217T172739Z
LAST-MODIFIED:20230217T173729Z
UID:10002316-1693299600-1693305000@summithistorical.org
SUMMARY:Explore Lake Dillon:  Historical Boat Tour
DESCRIPTION:In partnership with the Town of Dillon Marina\, trained guides from the Summit Historical Society lead a leisurely historic tour of Lake Dillon. Learn about the building of Dillon Dam and the Roberts Tunnel and relocating the Town of Dillon. \n\nTuesday\, Wednesday\, and Thursday mornings – June 7th through August 30th\nSaturday tours also available on June 10th\, July 8th\, and August 12th\n9:00 – 10:30am *\nLocation: Dillon Marina\nCost: $42/person – no children under 7\n(add a tour of the 1883 Dillon Schoolhouse Museum in downtown Dillon for an additional $5.00)\nBring a jacket\, hat and sunscreen.  Weather can change rapidly on the lake!\nFor reservations\, call Dillon Marina (970) 468-5100 or click the link below.\n\n* Please arrive 15-minutes early.  Boat will depart promptly at 9:00am \nphoto courtesy Town of Dillon Marina \nBOOK ONLINE
URL:https://summithistorical.org/events/10832/2023-08-29/
LOCATION:Dillon Marina\, 150 Marina Dr\, Dillon\, Colorado\, 80435
ATTACH;FMTTYPE=image/jpeg:https://summithistorical.org/wp-content/uploads/2022/04/Lake-Dillon-Pontoon-Boat.jpg
END:VEVENT
BEGIN:VEVENT
DTSTART;TZID=America/Denver:20230829T110000
DTEND;TZID=America/Denver:20230829T130000
DTSTAMP:20260424T140130
CREATED:20230217T214535Z
LAST-MODIFIED:20230217T214535Z
UID:10002425-1693306800-1693314000@summithistorical.org
SUMMARY:1883 Dillon Schoolhouse Museum - Open for Tours
DESCRIPTION:Stop by the 1883 Dillon Schoolhouse for our new 2023 educational tour. \nAdmission:  $5.00 per person.
URL:https://summithistorical.org/events/1883-dillon-schoolhouse-museum-open-for-tours-2/2023-08-29/
LOCATION:Slifer Smith & Frampton- Breckenridge Office\, 117 S Main St.\, Breckenridge\, CO\, 80424\, United States
ATTACH;FMTTYPE=image/jpeg:https://summithistorical.org/wp-content/uploads/2022/03/20220414_092249.jpg
END:VEVENT
BEGIN:VEVENT
DTSTART;TZID=America/Denver:20230830T090000
DTEND;TZID=America/Denver:20230830T103000
DTSTAMP:20260424T140130
CREATED:20230217T172739Z
LAST-MODIFIED:20230217T173729Z
UID:10002317-1693386000-1693391400@summithistorical.org
SUMMARY:Explore Lake Dillon:  Historical Boat Tour
DESCRIPTION:In partnership with the Town of Dillon Marina\, trained guides from the Summit Historical Society lead a leisurely historic tour of Lake Dillon. Learn about the building of Dillon Dam and the Roberts Tunnel and relocating the Town of Dillon. \n\nTuesday\, Wednesday\, and Thursday mornings – June 7th through August 30th\nSaturday tours also available on June 10th\, July 8th\, and August 12th\n9:00 – 10:30am *\nLocation: Dillon Marina\nCost: $42/person – no children under 7\n(add a tour of the 1883 Dillon Schoolhouse Museum in downtown Dillon for an additional $5.00)\nBring a jacket\, hat and sunscreen.  Weather can change rapidly on the lake!\nFor reservations\, call Dillon Marina (970) 468-5100 or click the link below.\n\n* Please arrive 15-minutes early.  Boat will depart promptly at 9:00am \nphoto courtesy Town of Dillon Marina \nBOOK ONLINE
URL:https://summithistorical.org/events/10832/2023-08-30/
LOCATION:Dillon Marina\, 150 Marina Dr\, Dillon\, Colorado\, 80435
ATTACH;FMTTYPE=image/jpeg:https://summithistorical.org/wp-content/uploads/2022/04/Lake-Dillon-Pontoon-Boat.jpg
END:VEVENT
BEGIN:VEVENT
DTSTART;TZID=America/Denver:20230830T110000
DTEND;TZID=America/Denver:20230830T130000
DTSTAMP:20260424T140130
CREATED:20230217T214535Z
LAST-MODIFIED:20230217T214535Z
UID:10002426-1693393200-1693400400@summithistorical.org
SUMMARY:1883 Dillon Schoolhouse Museum - Open for Tours
DESCRIPTION:Stop by the 1883 Dillon Schoolhouse for our new 2023 educational tour. \nAdmission:  $5.00 per person.
URL:https://summithistorical.org/events/1883-dillon-schoolhouse-museum-open-for-tours-2/2023-08-30/
LOCATION:Slifer Smith & Frampton- Breckenridge Office\, 117 S Main St.\, Breckenridge\, CO\, 80424\, United States
ATTACH;FMTTYPE=image/jpeg:https://summithistorical.org/wp-content/uploads/2022/03/20220414_092249.jpg
END:VEVENT
BEGIN:VEVENT
DTSTART;TZID=America/Denver:20230831T090000
DTEND;TZID=America/Denver:20230831T103000
DTSTAMP:20260424T140130
CREATED:20230217T170214Z
LAST-MODIFIED:20230217T170618Z
UID:10002324-1693472400-1693477800@summithistorical.org
SUMMARY:Member Only - Historical Boat Tour
DESCRIPTION:Special tour for SHS members only. In partnership with the Town of Dillon.  Guides from the Summit Historical Society lead a leisurely boat ride on Lake Dillon. Learn about building Dillon Dam\, the Roberts Tunnel\, and relocating the Town of Dillon. \n\n9:00 – 10:30 AM; Dillon Marina\nCost:  $20/person – No children under 7\, please\nBring a hat\, jacket and sunscreen; weather can change rapidly on the lake.\nPlease arrive 15-minutes early; boat will leave the dock promptly at 9:00\n\nIf you are not already an SHS member\, please click here to become a member.
URL:https://summithistorical.org/events/10804/
LOCATION:Dillon Marina\, 150 Marina Dr\, Dillon\, Colorado\, 80435
ATTACH;FMTTYPE=image/jpeg:https://summithistorical.org/wp-content/uploads/2022/04/Lake-Dillon-Pontoon-Boat.jpg
END:VEVENT
BEGIN:VEVENT
DTSTART;TZID=America/Denver:20230831T110000
DTEND;TZID=America/Denver:20230831T130000
DTSTAMP:20260424T140130
CREATED:20230217T214535Z
LAST-MODIFIED:20230217T214535Z
UID:10002427-1693479600-1693486800@summithistorical.org
SUMMARY:1883 Dillon Schoolhouse Museum - Open for Tours
DESCRIPTION:Stop by the 1883 Dillon Schoolhouse for our new 2023 educational tour. \nAdmission:  $5.00 per person.
URL:https://summithistorical.org/events/1883-dillon-schoolhouse-museum-open-for-tours-2/2023-08-31/
LOCATION:Slifer Smith & Frampton- Breckenridge Office\, 117 S Main St.\, Breckenridge\, CO\, 80424\, United States
ATTACH;FMTTYPE=image/jpeg:https://summithistorical.org/wp-content/uploads/2022/03/20220414_092249.jpg
END:VEVENT
BEGIN:VEVENT
DTSTART;TZID=America/Denver:20230901T090000
DTEND;TZID=America/Denver:20230901T140000
DTSTAMP:20260424T140130
CREATED:20230217T212743Z
LAST-MODIFIED:20230217T213622Z
UID:10002479-1693558800-1693576800@summithistorical.org
SUMMARY:Dillon Farmers Market
DESCRIPTION:Every Friday\, stop by our booth at the Farmers Market for special guests\, pop-up exhibits\, and more! \n\nEvery Friday from June 9th- September 15th\n9:00 AM – 2:00 PM MST\nLocation: Dillon Town Park (120 Buffalo St)\nFree
URL:https://summithistorical.org/events/dillon-farmers-market-2/2023-09-01/
LOCATION:Dillon Farmers’ Market\, 120 Buffalo St.\, Dillon\, CO\, 80435
ATTACH;FMTTYPE=image/png:https://summithistorical.org/wp-content/uploads/2022/02/Dillon_Farmer_s_Market-344x300-1.png
END:VEVENT
BEGIN:VEVENT
DTSTART;TZID=America/Denver:20230901T110000
DTEND;TZID=America/Denver:20230901T130000
DTSTAMP:20260424T140130
CREATED:20230217T214218Z
LAST-MODIFIED:20230217T214218Z
UID:10002385-1693566000-1693573200@summithistorical.org
SUMMARY:1883 Dillon Schoolhouse Museum - Open for Tours
DESCRIPTION:Stop by the 1883 Dillon Schoolhouse for our new 2023 educational tour. \nAdmission:  $5.00 per person.
URL:https://summithistorical.org/events/1883-dillon-schoolhouse-museum-open-for-tours/2023-09-01/
LOCATION:Slifer Smith & Frampton- Breckenridge Office\, 117 S Main St.\, Breckenridge\, CO\, 80424\, United States
ATTACH;FMTTYPE=image/jpeg:https://summithistorical.org/wp-content/uploads/2022/03/20220414_092249.jpg
END:VEVENT
BEGIN:VEVENT
DTSTART;TZID=America/Denver:20230901T110000
DTEND;TZID=America/Denver:20230901T130000
DTSTAMP:20260424T140130
CREATED:20230217T215215Z
LAST-MODIFIED:20230302T161755Z
UID:10002461-1693566000-1693573200@summithistorical.org
SUMMARY:1883 Dillon Schoolhouse Museum - Open for Tours
DESCRIPTION:Stop by the 1883 Dillon Schoolhouse for our new 2023 educational tour. \nAdmission:  $5.00 per person.
URL:https://summithistorical.org/events/1883-dillon-schoolhouse-museum-open-for-tours-3/2023-09-01/
LOCATION:Slifer Smith & Frampton- Breckenridge Office\, 117 S Main St.\, Breckenridge\, CO\, 80424\, United States
ATTACH;FMTTYPE=image/jpeg:https://summithistorical.org/wp-content/uploads/2022/03/20220414_092249.jpg
END:VEVENT
BEGIN:VEVENT
DTSTART;TZID=America/Denver:20230902T110000
DTEND;TZID=America/Denver:20230902T130000
DTSTAMP:20260424T140130
CREATED:20230217T214218Z
LAST-MODIFIED:20230217T214218Z
UID:10002386-1693652400-1693659600@summithistorical.org
SUMMARY:1883 Dillon Schoolhouse Museum - Open for Tours
DESCRIPTION:Stop by the 1883 Dillon Schoolhouse for our new 2023 educational tour. \nAdmission:  $5.00 per person.
URL:https://summithistorical.org/events/1883-dillon-schoolhouse-museum-open-for-tours/2023-09-02/
LOCATION:Slifer Smith & Frampton- Breckenridge Office\, 117 S Main St.\, Breckenridge\, CO\, 80424\, United States
ATTACH;FMTTYPE=image/jpeg:https://summithistorical.org/wp-content/uploads/2022/03/20220414_092249.jpg
END:VEVENT
BEGIN:VEVENT
DTSTART;TZID=America/Denver:20230902T110000
DTEND;TZID=America/Denver:20230902T130000
DTSTAMP:20260424T140130
CREATED:20230217T215215Z
LAST-MODIFIED:20230302T161755Z
UID:10002462-1693652400-1693659600@summithistorical.org
SUMMARY:1883 Dillon Schoolhouse Museum - Open for Tours
DESCRIPTION:Stop by the 1883 Dillon Schoolhouse for our new 2023 educational tour. \nAdmission:  $5.00 per person.
URL:https://summithistorical.org/events/1883-dillon-schoolhouse-museum-open-for-tours-3/2023-09-02/
LOCATION:Slifer Smith & Frampton- Breckenridge Office\, 117 S Main St.\, Breckenridge\, CO\, 80424\, United States
ATTACH;FMTTYPE=image/jpeg:https://summithistorical.org/wp-content/uploads/2022/03/20220414_092249.jpg
END:VEVENT
BEGIN:VEVENT
DTSTART;VALUE=DATE:20230904
DTEND;VALUE=DATE:20230905
DTSTAMP:20260424T140130
CREATED:20230217T220418Z
LAST-MODIFIED:20230217T220418Z
UID:10002489-1693785600-1693871999@summithistorical.org
SUMMARY:Happy Labor Day!
DESCRIPTION:
URL:https://summithistorical.org/events/happy-labor-day-2/
LOCATION:Colorado
ATTACH;FMTTYPE=image/jpeg:https://summithistorical.org/wp-content/uploads/2022/04/Labor-Day.jpg
END:VEVENT
BEGIN:VEVENT
DTSTART;TZID=America/Denver:20230908T090000
DTEND;TZID=America/Denver:20230908T140000
DTSTAMP:20260424T140130
CREATED:20230217T212743Z
LAST-MODIFIED:20230217T213622Z
UID:10002480-1694163600-1694181600@summithistorical.org
SUMMARY:Dillon Farmers Market
DESCRIPTION:Every Friday\, stop by our booth at the Farmers Market for special guests\, pop-up exhibits\, and more! \n\nEvery Friday from June 9th- September 15th\n9:00 AM – 2:00 PM MST\nLocation: Dillon Town Park (120 Buffalo St)\nFree
URL:https://summithistorical.org/events/dillon-farmers-market-2/2023-09-08/
LOCATION:Dillon Farmers’ Market\, 120 Buffalo St.\, Dillon\, CO\, 80435
ATTACH;FMTTYPE=image/png:https://summithistorical.org/wp-content/uploads/2022/02/Dillon_Farmer_s_Market-344x300-1.png
END:VEVENT
BEGIN:VEVENT
DTSTART;TZID=America/Denver:20230908T110000
DTEND;TZID=America/Denver:20230908T130000
DTSTAMP:20260424T140130
CREATED:20230217T214218Z
LAST-MODIFIED:20230217T214218Z
UID:10002387-1694170800-1694178000@summithistorical.org
SUMMARY:1883 Dillon Schoolhouse Museum - Open for Tours
DESCRIPTION:Stop by the 1883 Dillon Schoolhouse for our new 2023 educational tour. \nAdmission:  $5.00 per person.
URL:https://summithistorical.org/events/1883-dillon-schoolhouse-museum-open-for-tours/2023-09-08/
LOCATION:Slifer Smith & Frampton- Breckenridge Office\, 117 S Main St.\, Breckenridge\, CO\, 80424\, United States
ATTACH;FMTTYPE=image/jpeg:https://summithistorical.org/wp-content/uploads/2022/03/20220414_092249.jpg
END:VEVENT
BEGIN:VEVENT
DTSTART;TZID=America/Denver:20230908T110000
DTEND;TZID=America/Denver:20230908T130000
DTSTAMP:20260424T140130
CREATED:20230217T215215Z
LAST-MODIFIED:20230302T161755Z
UID:10002463-1694170800-1694178000@summithistorical.org
SUMMARY:1883 Dillon Schoolhouse Museum - Open for Tours
DESCRIPTION:Stop by the 1883 Dillon Schoolhouse for our new 2023 educational tour. \nAdmission:  $5.00 per person.
URL:https://summithistorical.org/events/1883-dillon-schoolhouse-museum-open-for-tours-3/2023-09-08/
LOCATION:Slifer Smith & Frampton- Breckenridge Office\, 117 S Main St.\, Breckenridge\, CO\, 80424\, United States
ATTACH;FMTTYPE=image/jpeg:https://summithistorical.org/wp-content/uploads/2022/03/20220414_092249.jpg
END:VEVENT
END:VCALENDAR