BEGIN:VCALENDAR
VERSION:2.0
PRODID:-//Summit Historical Society - ECPv6.15.20//NONSGML v1.0//EN
CALSCALE:GREGORIAN
METHOD:PUBLISH
X-ORIGINAL-URL:https://summithistorical.org
X-WR-CALDESC:Events for Summit Historical Society
REFRESH-INTERVAL;VALUE=DURATION:PT1H
X-Robots-Tag:noindex
X-PUBLISHED-TTL:PT1H
BEGIN:VTIMEZONE
TZID:America/Denver
BEGIN:DAYLIGHT
TZOFFSETFROM:-0700
TZOFFSETTO:-0600
TZNAME:MDT
DTSTART:20250309T090000
END:DAYLIGHT
BEGIN:STANDARD
TZOFFSETFROM:-0600
TZOFFSETTO:-0700
TZNAME:MST
DTSTART:20251102T080000
END:STANDARD
BEGIN:DAYLIGHT
TZOFFSETFROM:-0700
TZOFFSETTO:-0600
TZNAME:MDT
DTSTART:20260308T090000
END:DAYLIGHT
BEGIN:STANDARD
TZOFFSETFROM:-0600
TZOFFSETTO:-0700
TZNAME:MST
DTSTART:20261101T080000
END:STANDARD
BEGIN:DAYLIGHT
TZOFFSETFROM:-0700
TZOFFSETTO:-0600
TZNAME:MDT
DTSTART:20270314T090000
END:DAYLIGHT
BEGIN:STANDARD
TZOFFSETFROM:-0600
TZOFFSETTO:-0700
TZNAME:MST
DTSTART:20271107T080000
END:STANDARD
END:VTIMEZONE
BEGIN:VEVENT
DTSTART;TZID=America/Denver:20260703T090000
DTEND;TZID=America/Denver:20260703T140000
DTSTAMP:20260424T092812
CREATED:20251223T181938Z
LAST-MODIFIED:20260312T201245Z
UID:10003479-1783069200-1783087200@summithistorical.org
SUMMARY:Dillon Farmers Market 2026
DESCRIPTION:Join us every Friday at our booth at the Town of Dillon Farmers Market! Meet featured authors\, explore books on Summit County history\, experience Museum on the Move\, and more! \n\nFridays\, June 5 – September 12\n9:00 AM – 2:00 PM\nDillon Town Park along Buffalo and LaBonte Streets\nFree
URL:https://summithistorical.org/events/dillon-farmers-market-2026/2026-07-03/
LOCATION:Dillon Farmers’ Market\, 120 Buffalo St.\, Dillon\, CO\, 80435
END:VEVENT
BEGIN:VEVENT
DTSTART;TZID=America/Denver:20260707T100000
DTEND;TZID=America/Denver:20260707T110000
DTSTAMP:20260424T092812
CREATED:20260204T164304Z
LAST-MODIFIED:20260204T164304Z
UID:10003542-1783418400-1783422000@summithistorical.org
SUMMARY:Education Committee Meeting
DESCRIPTION:Education Committee Meeting \nDillon Schoolhouse \nTime: 10:00 AM – 11:00 AM
URL:https://summithistorical.org/events/education-committee-meeting-9/
LOCATION:Summit Historic Park\, 403 LaBonte Street\, Dillon\, CO\, 80435
END:VEVENT
BEGIN:VEVENT
DTSTART;TZID=America/Denver:20260710T090000
DTEND;TZID=America/Denver:20260710T140000
DTSTAMP:20260424T092812
CREATED:20251223T181938Z
LAST-MODIFIED:20260312T201245Z
UID:10003480-1783674000-1783692000@summithistorical.org
SUMMARY:Dillon Farmers Market 2026
DESCRIPTION:Join us every Friday at our booth at the Town of Dillon Farmers Market! Meet featured authors\, explore books on Summit County history\, experience Museum on the Move\, and more! \n\nFridays\, June 5 – September 12\n9:00 AM – 2:00 PM\nDillon Town Park along Buffalo and LaBonte Streets\nFree
URL:https://summithistorical.org/events/dillon-farmers-market-2026/2026-07-10/
LOCATION:Dillon Farmers’ Market\, 120 Buffalo St.\, Dillon\, CO\, 80435
END:VEVENT
BEGIN:VEVENT
DTSTART;TZID=America/Denver:20260713T090000
DTEND;TZID=America/Denver:20260713T130000
DTSTAMP:20260424T092812
CREATED:20260315T020030Z
LAST-MODIFIED:20260315T022024Z
UID:10003560-1783933200-1783947600@summithistorical.org
SUMMARY:Historical Bristlecone Pines Tour with Ken Torrington
DESCRIPTION:Historical Bristlecone Pines Tour with Ken Torrington \nDate: July 13\, 2026 \nTime: 9:00 am half day driving/walking tour \nLocation: Meet at the parking lot on the west side of the Hoosier Pass \nCost: $25.00 \n  \nKen will lead this historical tour where you will learn about Paris (Stamp) Mill and learn Park County mining history\, visit Mineral Park\, the site of a previous silver mine and miners’ cabins on Mount Bross\, and Windy Ridge\, where bristlecone pines have grown straight and tall. Bring your own hiking gear\, water\, lunch and snacks\, poles\, and sunscreen. \n  \nIf you have any have any issue with registration or have questions\, contact us at debbie@summithistorical.org or call at 970-468-2207.
URL:https://summithistorical.org/events/historical-bristlecone-pines-tour-with-ken-torrington/
LOCATION:Hoosier Pass
END:VEVENT
BEGIN:VEVENT
DTSTART;TZID=America/Denver:20260714T160000
DTEND;TZID=America/Denver:20260714T180000
DTSTAMP:20260424T092812
CREATED:20260122T215240Z
LAST-MODIFIED:20260122T215240Z
UID:10003536-1784044800-1784052000@summithistorical.org
SUMMARY:SHS Board Meeting
DESCRIPTION:SHS Board Meeting \nDate: July 14Time: 4:00 – 6:00 PMLocation: 403 LaBonte St.\, Dillon\, CO \nThe SHS Board Meeting will be held from 4:00 to 6:00 PM. All board members are encouraged to attend.
URL:https://summithistorical.org/events/shs-board-meeting-5/
LOCATION:Summit Historic Park\, 403 LaBonte Street\, Dillon\, CO\, 80435
END:VEVENT
BEGIN:VEVENT
DTSTART;TZID=America/Denver:20260715T170000
DTEND;TZID=America/Denver:20260715T180000
DTSTAMP:20260424T092812
CREATED:20251229T180526Z
LAST-MODIFIED:20260325T193238Z
UID:10003514-1784134800-1784138400@summithistorical.org
SUMMARY:Speaker Series: Bill Fountain Historical Flume Presentation
DESCRIPTION:Speaker Series: Bill Fountain Historical Flume Presentation \n  \nDate: July 15\, 2026 \nTime: 5:00 pm – 6:00 pm \nLocation: Old Dillon Schoolhouse \n403 LaBonte St.\, Dillon\, CO 80435 \nCost: Registration required\, $10.00 per person \n  \nJoin us for a presentation by Bill Fountain who will be teaching about the Historical Flume in Summit County. Hike with us to see and hear more about the Flume tomorrow\, July 16\, 2026. \n  \nIf you have any have any issue with registration or have questions\, contact us at debbie@summithistorical.org or call at 970-468-2207. \n \n 
URL:https://summithistorical.org/events/bill-fountain-program-flume/
LOCATION:Summit Historic Park\, 403 LaBonte Street\, Dillon\, CO\, 80435
END:VEVENT
BEGIN:VEVENT
DTSTART;TZID=America/Denver:20260716T083000
DTEND;TZID=America/Denver:20260716T110000
DTSTAMP:20260424T092812
CREATED:20251229T181208Z
LAST-MODIFIED:20260315T014737Z
UID:10003515-1784190600-1784199600@summithistorical.org
SUMMARY:Historical Hikes Series: Bill Fountain Historical Flume Hike
DESCRIPTION:Historical Hikes Series: Bill Fountain Historical Flume Hike \n  \nDate: July 16\, 2026 \nTime: 8:30 am – 11:00 am \nLocation: TBD \nCost: Registration required\, $25.00 per person \n  \nJoin us for a Hike with Bill Fountain and learn more about the Historical Flume in Summit County. This is a follow up to the presentation on July 15th\, 2026 at 5:00 pm. Hike with us to see and hear even more about the Flume. Bring your own hiking gear\, poles\, water\, snacks and sunscreen. \n  \nIf you have any have any issue with registration or have questions\, contact us at debbie@summithistorical.org or call at 970-468-2207.
URL:https://summithistorical.org/events/bill-fountain-flume-hike/
LOCATION:Summit Historic Park\, 403 LaBonte Street\, Dillon\, CO\, 80435
END:VEVENT
BEGIN:VEVENT
DTSTART;TZID=America/Denver:20260717T090000
DTEND;TZID=America/Denver:20260717T140000
DTSTAMP:20260424T092812
CREATED:20251223T181938Z
LAST-MODIFIED:20260312T201245Z
UID:10003481-1784278800-1784296800@summithistorical.org
SUMMARY:Dillon Farmers Market 2026
DESCRIPTION:Join us every Friday at our booth at the Town of Dillon Farmers Market! Meet featured authors\, explore books on Summit County history\, experience Museum on the Move\, and more! \n\nFridays\, June 5 – September 12\n9:00 AM – 2:00 PM\nDillon Town Park along Buffalo and LaBonte Streets\nFree
URL:https://summithistorical.org/events/dillon-farmers-market-2026/2026-07-17/
LOCATION:Dillon Farmers’ Market\, 120 Buffalo St.\, Dillon\, CO\, 80435
END:VEVENT
BEGIN:VEVENT
DTSTART;TZID=America/Denver:20260722T170000
DTEND;TZID=America/Denver:20260722T180000
DTSTAMP:20260424T092812
CREATED:20251229T181946Z
LAST-MODIFIED:20260325T193643Z
UID:10003517-1784739600-1784743200@summithistorical.org
SUMMARY:Speaker Series: Bill Fountain Historical Parkville and Spencerville Presentation
DESCRIPTION:Speaker Series: Bill Fountain Historical Parkville and Spencerville Presentation \n  \nDate: July 22\, 2026 \nTime: 5:00 pm – 6:00 pm \nLocation: Old Dillon Schoolhouse \n403 LaBonte St.\, Dillon\, CO 80435 \nCost: $10.00 \nBill Fountain will be doing a Historical presentation on Parkfille and Spencerville. Bill and Sandra Mather’s latest book’s topic. There will be a follow up historical hike tomorrow\, July 23\, 2026. \n \n \nIf you have any have any issue with registration or have questions\, contact us at debbie@summithistorical.org or call at 970-468-2207.
URL:https://summithistorical.org/events/bill-fountain-history-presentation/
LOCATION:Summit Historic Park\, 403 LaBonte Street\, Dillon\, CO\, 80435
END:VEVENT
BEGIN:VEVENT
DTSTART;TZID=America/Denver:20260723T100000
DTEND;TZID=America/Denver:20260723T150000
DTSTAMP:20260424T092812
CREATED:20251229T181615Z
LAST-MODIFIED:20260315T024220Z
UID:10003516-1784800800-1784818800@summithistorical.org
SUMMARY:Historical Hiking Series: Bill Fountain Historical Parkville and Spencerville Hike
DESCRIPTION:Historical Hiking Series: Bill Fountain Historical Parkville and Spencerville Hike \n  \nDate: July 23\, 2026 \nTime: 9:00 am – 11:00 am \nLocation: TBD \nCost: $25.00 \n  \nBill Fountain will be leading a Historical hike to Parkfille and Spencerville. This topic is covered in Bill and Sandra Mather’s latest book\, Historical Landscapes: Summit County Colorado Ghost Towns and Townsites: Parkfille and Spencerville. There will be a follow up historical hike tomorrow\, July 23\, 2026. \nIf you have any have any issue with registration or have questions\, contact us at debbie@summithistorical.org or call at 970-468-2207.
URL:https://summithistorical.org/events/bill-fountain-history-hike/
LOCATION:Summit Historic Park\, 403 LaBonte Street\, Dillon\, CO\, 80435
END:VEVENT
BEGIN:VEVENT
DTSTART;TZID=America/Denver:20260724T090000
DTEND;TZID=America/Denver:20260724T140000
DTSTAMP:20260424T092812
CREATED:20251223T181938Z
LAST-MODIFIED:20260312T201245Z
UID:10003482-1784883600-1784901600@summithistorical.org
SUMMARY:Dillon Farmers Market 2026
DESCRIPTION:Join us every Friday at our booth at the Town of Dillon Farmers Market! Meet featured authors\, explore books on Summit County history\, experience Museum on the Move\, and more! \n\nFridays\, June 5 – September 12\n9:00 AM – 2:00 PM\nDillon Town Park along Buffalo and LaBonte Streets\nFree
URL:https://summithistorical.org/events/dillon-farmers-market-2026/2026-07-24/
LOCATION:Dillon Farmers’ Market\, 120 Buffalo St.\, Dillon\, CO\, 80435
END:VEVENT
BEGIN:VEVENT
DTSTART;TZID=America/Denver:20260728T084500
DTEND;TZID=America/Denver:20260728T130000
DTSTAMP:20260424T092812
CREATED:20260315T021522Z
LAST-MODIFIED:20260315T021708Z
UID:10003561-1785228300-1785243600@summithistorical.org
SUMMARY:Historical Peru Creek Tour with Ken Torrington
DESCRIPTION:Historical Peru Creek Tour with Ken Torrington \n  \nDate: July 28\, 2026 \nTime: 8:45 am \nLocation: Montezuma Road Parking Lot \nCost: $25.00 \n  \nJoin us for a fascinating historical hike with stops at the ghost towns of Chihuahua and Argentine. We will also visit the Pennsylvania Mine stamp mill and Pennsylvania Mine tram station. Register early\, space is limited. \nIf you have any have any issue with registration or have questions\, contact us at debbie@summithistorical.org or call at 970-468-2207.
URL:https://summithistorical.org/events/historical-peru-creek-tour-with-ken-torrington/
LOCATION:Summit Historic Park\, 403 LaBonte Street\, Dillon\, CO\, 80435
END:VEVENT
BEGIN:VEVENT
DTSTART;TZID=America/Denver:20260731T090000
DTEND;TZID=America/Denver:20260731T140000
DTSTAMP:20260424T092812
CREATED:20251223T181938Z
LAST-MODIFIED:20260312T201245Z
UID:10003483-1785488400-1785506400@summithistorical.org
SUMMARY:Dillon Farmers Market 2026
DESCRIPTION:Join us every Friday at our booth at the Town of Dillon Farmers Market! Meet featured authors\, explore books on Summit County history\, experience Museum on the Move\, and more! \n\nFridays\, June 5 – September 12\n9:00 AM – 2:00 PM\nDillon Town Park along Buffalo and LaBonte Streets\nFree
URL:https://summithistorical.org/events/dillon-farmers-market-2026/2026-07-31/
LOCATION:Dillon Farmers’ Market\, 120 Buffalo St.\, Dillon\, CO\, 80435
END:VEVENT
END:VCALENDAR