BEGIN:VCALENDAR
VERSION:2.0
PRODID:-//Summit Historical Society - ECPv6.15.20//NONSGML v1.0//EN
CALSCALE:GREGORIAN
METHOD:PUBLISH
X-WR-CALNAME:Summit Historical Society
X-ORIGINAL-URL:https://summithistorical.org
X-WR-CALDESC:Events for Summit Historical Society
REFRESH-INTERVAL;VALUE=DURATION:PT1H
X-Robots-Tag:noindex
X-PUBLISHED-TTL:PT1H
BEGIN:VTIMEZONE
TZID:UTC
BEGIN:STANDARD
TZOFFSETFROM:+0000
TZOFFSETTO:+0000
TZNAME:UTC
DTSTART:20210101T000000
END:STANDARD
END:VTIMEZONE
BEGIN:VTIMEZONE
TZID:America/Chicago
BEGIN:DAYLIGHT
TZOFFSETFROM:-0600
TZOFFSETTO:-0500
TZNAME:CDT
DTSTART:20210314T080000
END:DAYLIGHT
BEGIN:STANDARD
TZOFFSETFROM:-0500
TZOFFSETTO:-0600
TZNAME:CST
DTSTART:20211107T070000
END:STANDARD
BEGIN:DAYLIGHT
TZOFFSETFROM:-0600
TZOFFSETTO:-0500
TZNAME:CDT
DTSTART:20220313T080000
END:DAYLIGHT
BEGIN:STANDARD
TZOFFSETFROM:-0500
TZOFFSETTO:-0600
TZNAME:CST
DTSTART:20221106T070000
END:STANDARD
BEGIN:DAYLIGHT
TZOFFSETFROM:-0600
TZOFFSETTO:-0500
TZNAME:CDT
DTSTART:20230312T080000
END:DAYLIGHT
BEGIN:STANDARD
TZOFFSETFROM:-0500
TZOFFSETTO:-0600
TZNAME:CST
DTSTART:20231105T070000
END:STANDARD
END:VTIMEZONE
BEGIN:VEVENT
DTSTART;TZID=UTC:20221005T170000
DTEND;TZID=UTC:20221005T180000
DTSTAMP:20260423T052738
CREATED:20220915T214123Z
LAST-MODIFIED:20230127T185118Z
UID:10002271-1664989200-1664992800@summithistorical.org
SUMMARY:History Talk:  The 1873 Hayden Survey of Colorado
DESCRIPTION:photo courtesy: Library of Congress \nWednesday\, October 5th:  5:00 – 6:00pm – Lecture by Map Expert Chris Lane \nLocation:  Summit Historical Society’s 1883 Dillon Schoolhouse \nAfter the Civil War\, the U.S. government realized the great need for accurate surveys of the American\nWest. Between 1867 and 1879\, four great federal surveys were established\, covering much of the region\nwest of the 100th degree of longitude. One of these was the U.S. Geological and Geographical Survey of\nthe Territories\, run by Ferdinand V. Hayden. This included Hayden’s survey of Colorado between 1873\nto 1876. This was the first comprehensive survey of the territory\, which when finished made Colorado the\nbest mapped state in the Union\, a fact demonstrated in Hayden’s great Atlas of Colorado (1878). \n\nSpace is limited to 30 guests.  \n\nClick Here for Directions to Our 1883 Dillon Schoolhouse Museum
URL:https://summithistorical.org/events/history-talk-the-1873-hayden-survey-of-colorado/
LOCATION:Slifer Smith & Frampton- Breckenridge Office\, 117 S Main St.\, Breckenridge\, CO\, 80424\, United States
ATTACH;FMTTYPE=image/jpeg:https://summithistorical.org/wp-content/uploads/2022/09/Hayden-Survey-1.jpg
END:VEVENT
BEGIN:VEVENT
DTSTART;TZID=America/Chicago:20221009T160000
DTEND;TZID=America/Chicago:20221009T173000
DTSTAMP:20260423T052738
CREATED:20220906T223435Z
LAST-MODIFIED:20230127T185117Z
UID:10002272-1665331200-1665336600@summithistorical.org
SUMMARY:Cab in the Cabins
DESCRIPTION:Join us for “Cab in the Cabins”:  Saturday\, October 9th\, 4:00 – 5:30pm \n\nJoin us as we sample several Cabernet Sauvignons from around the world in our historic cabins at the Summit Historical Society’s Dillon Campus behind the 1883 Schoolhouse Museum.\n\n  \nClick Here for Directions to our 1883 Dillon Schoolhouse Museum \n 
URL:https://summithistorical.org/events/cab-in-the-cabins/
LOCATION:Slifer Smith & Frampton- Breckenridge Office\, 117 S Main St.\, Breckenridge\, CO\, 80424\, United States
ATTACH;FMTTYPE=image/jpeg:https://summithistorical.org/wp-content/uploads/2022/04/Pic-Wine-Glass-Adult-Education-publicdomain.net_.jpg
END:VEVENT
BEGIN:VEVENT
DTSTART;TZID=America/Chicago:20221026T170000
DTEND;TZID=America/Chicago:20221026T183000
DTSTAMP:20260423T052738
CREATED:20220927T175428Z
LAST-MODIFIED:20230127T185117Z
UID:10002268-1666803600-1666809000@summithistorical.org
SUMMARY:SHS Meet & Greet:  SHS 56th Birthday Celebration & Cemetery Talk (Free)
DESCRIPTION:SHS Meet & Greet for October \n*** LOCATION:  1883 DILLON SCHOOLHOUSE & MUSEUM ***\n      (See button below for Directions) \nWednesday October 26th\, 5:00 – 6:30pm  \nJoin us as we celebrate Summit Historical Society’s 56th birthday!  And… in keeping with the season… Morgan Courtney will share stories of notable people buried in the Dillon Cemetery as well as the relocation of the cemetery from the Old Dillon townsite as the reservoir was being constructed. \n\nFREE\, but space is limited to (45) guests – GET YOUR FREE TICKETS BELOW\nReservations required.\nDonations appreciated and benefit Summit Historical Society\n\nClick Here for Directions to Our 1883 Dillon Schoolhouse Museum
URL:https://summithistorical.org/events/shs-meet-greet-shs-56th-birthday-celebration-cemetery-talk-free/
LOCATION:Slifer Smith & Frampton- Breckenridge Office\, 117 S Main St.\, Breckenridge\, CO\, 80424\, United States
ATTACH;FMTTYPE=image/jpeg:https://summithistorical.org/wp-content/uploads/2022/03/Dillon-Schoolhouse-2022.jpg
END:VEVENT
END:VCALENDAR