BEGIN:VCALENDAR
VERSION:2.0
PRODID:-//Summit Historical Society - ECPv6.15.20//NONSGML v1.0//EN
CALSCALE:GREGORIAN
METHOD:PUBLISH
X-WR-CALNAME:Summit Historical Society
X-ORIGINAL-URL:https://summithistorical.org
X-WR-CALDESC:Events for Summit Historical Society
REFRESH-INTERVAL;VALUE=DURATION:PT1H
X-Robots-Tag:noindex
X-PUBLISHED-TTL:PT1H
BEGIN:VTIMEZONE
TZID:America/Chicago
BEGIN:DAYLIGHT
TZOFFSETFROM:-0600
TZOFFSETTO:-0500
TZNAME:CDT
DTSTART:20210314T080000
END:DAYLIGHT
BEGIN:STANDARD
TZOFFSETFROM:-0500
TZOFFSETTO:-0600
TZNAME:CST
DTSTART:20211107T070000
END:STANDARD
BEGIN:DAYLIGHT
TZOFFSETFROM:-0600
TZOFFSETTO:-0500
TZNAME:CDT
DTSTART:20220313T080000
END:DAYLIGHT
BEGIN:STANDARD
TZOFFSETFROM:-0500
TZOFFSETTO:-0600
TZNAME:CST
DTSTART:20221106T070000
END:STANDARD
BEGIN:DAYLIGHT
TZOFFSETFROM:-0600
TZOFFSETTO:-0500
TZNAME:CDT
DTSTART:20230312T080000
END:DAYLIGHT
BEGIN:STANDARD
TZOFFSETFROM:-0500
TZOFFSETTO:-0600
TZNAME:CST
DTSTART:20231105T070000
END:STANDARD
END:VTIMEZONE
BEGIN:VTIMEZONE
TZID:UTC
BEGIN:STANDARD
TZOFFSETFROM:+0000
TZOFFSETTO:+0000
TZNAME:UTC
DTSTART:20210101T000000
END:STANDARD
END:VTIMEZONE
BEGIN:VEVENT
DTSTART;TZID=America/Chicago:20220805T090000
DTEND;TZID=America/Chicago:20220805T140000
DTSTAMP:20260421T122024
CREATED:20220222T224405Z
LAST-MODIFIED:20230217T212135Z
UID:10002108-1659690000-1659708000@summithistorical.org
SUMMARY:Dillon Farmers Market
DESCRIPTION:Every Friday stop by our booth at the Farmers Market for special guests\, pop-up exhibits\, and more! \n\nEvery Friday from June 10th- September 16th\n9:00 AM – 2:00 PM MST\nLocation: Lodgepole Street adjacent to the Dillon Amphitheater\nFree\n\n 
URL:https://summithistorical.org/events/dillon-farmers-market/2022-08-05/
LOCATION:300 W Lodgepole St\, 300 W Lodgepole St\, Dillon\, CO\, 80435
ATTACH;FMTTYPE=image/png:https://summithistorical.org/wp-content/uploads/2022/02/Dillon_Farmer_s_Market-344x300-1.png
END:VEVENT
BEGIN:VEVENT
DTSTART;TZID=UTC:20220804T110000
DTEND;TZID=UTC:20220804T140000
DTSTAMP:20260421T122024
CREATED:20220719T170240Z
LAST-MODIFIED:20230127T185540Z
UID:10002243-1659610800-1659621600@summithistorical.org
SUMMARY:Ute Knowledge Exhibit
DESCRIPTION:For the entire month of August\, Summit Historical Society has partnered with History Colorado to display their traveling exhibit: Ute Knowledge. Ute Knowledge: Colorado’s Original Science Technology\, Engineering\, and Math exhibit tells the story of how Ute Indians have used science\, technology\, engineering and math to survive and thrive in the Rocky Mountains.  \nThis exhibit will be on display at the 1883 Dillon Schoolhouse starting August 1 through September 2nd: Tuesday-Saturday from 11:00 am to 2:00 pm. \nLocation: 403 LaBonte Street\, Dillon\, Colorado. \nSuggested $5.00 Donation. \nFor more information on the exhibit click here. 
URL:https://summithistorical.org/events/ute-knowledge-exhibit/2022-08-04/
LOCATION:Slifer Smith & Frampton- Breckenridge Office\, 117 S Main St.\, Breckenridge\, CO\, 80424\, United States
END:VEVENT
BEGIN:VEVENT
DTSTART;TZID=UTC:20220804T110000
DTEND;TZID=UTC:20220804T140000
DTSTAMP:20260421T122024
CREATED:20220616T201708Z
LAST-MODIFIED:20230127T185836Z
UID:10002216-1659610800-1659621600@summithistorical.org
SUMMARY:1883 Dillon Schoolhouse - Open for Tours
DESCRIPTION:Stop by the 1883 Dillon Schoolhouse for our new Summer 2022 educational tour. \nSuggested donation of $5.00 per person.
URL:https://summithistorical.org/events/1883-schoolhouse-open-for-tours/2022-08-04/
LOCATION:Slifer Smith & Frampton- Breckenridge Office\, 117 S Main St.\, Breckenridge\, CO\, 80424\, United States
ATTACH;FMTTYPE=image/jpeg:https://summithistorical.org/wp-content/uploads/2022/03/20220414_092249.jpg
END:VEVENT
BEGIN:VEVENT
DTSTART;TZID=America/Chicago:20220804T090000
DTEND;TZID=America/Chicago:20220804T223000
DTSTAMP:20260421T122024
CREATED:20220427T212143Z
LAST-MODIFIED:20230127T185802Z
UID:10002147-1659603600-1659652200@summithistorical.org
SUMMARY:Explore Lake Dillon:  Historical Boat Tour
DESCRIPTION:In partnership with the Town of Dillon Marina\, trained guides from the Summit Historical Society lead a leisurely historic tour of Lake Dillon. Learn about the building of Dillon Dam and the Roberts Tunnel and relocating the Town of Dillon. \n\nTuesday\, Wednesday\, and Thursday mornings – June 8th through August 31st\nSaturday tours also available on June11th\, July 9th\, and August 13th\n9:00 – 10:30am *\nLocation: Dillon Marina\nCost: $40/person – no children under 7\n(add a tour of the 1883 Dillon Schoolhouse Museum in downtown Dillon for an additional $5.00)\nBring a jacket\, hat and sunscreen.  Weather can change rapidly on the lake!\nFor reservations\, call Dillon Marina (970) 468-5100 or click the link below.\n\n* Please arrive 15-minutes early.  Boat will depart promptly at 9:00am \nphoto courtesy Town of Dillon Marina \nBOOK ONLINE
URL:https://summithistorical.org/events/explore-lake-dillon-historical-boat-tour/2022-08-04/
LOCATION:Dillon Marina\, 150 Marina Dr\, Dillon\, Colorado\, 80435
ATTACH;FMTTYPE=image/jpeg:https://summithistorical.org/wp-content/uploads/2022/04/Lake-Dillon-Pontoon-Boat.jpg
END:VEVENT
BEGIN:VEVENT
DTSTART;TZID=UTC:20220803T140000
DTEND;TZID=UTC:20220803T160000
DTSTAMP:20260421T122024
CREATED:20220421T163410Z
LAST-MODIFIED:20230127T185538Z
UID:10002118-1659535200-1659542400@summithistorical.org
SUMMARY:Historic Walking Tour of Bill's Ranch - Frisco
DESCRIPTION:Bill’s Ranch – One of Summit County’s Original Homesteads \n\nCome with us as we join our friends at the Frisco Historic Park & Museum and take a walking tour of the historic Bill’s Ranch property.\nMEETING PLACE & TIME:  We will meet at the Frisco Elementary School parking lot at no later than 1:45PM and begin our walk from there.\n\n  \n(photo credit:  SummitDaily.com)
URL:https://summithistorical.org/events/historic-walking-tour-of-bills-ranch-frisco/
LOCATION:Frisco Elementary School\, 800 8th Avenue\, Frisco\, CO\, 80443
ATTACH;FMTTYPE=image/png:https://summithistorical.org/wp-content/uploads/2022/04/Bill-Ranch-Cabin-SummitDaily.png
END:VEVENT
BEGIN:VEVENT
DTSTART;TZID=America/Chicago:20220803T120000
DTEND;TZID=America/Chicago:20220803T130000
DTSTAMP:20260421T122024
CREATED:20220427T153705Z
LAST-MODIFIED:20230127T185538Z
UID:10002122-1659528000-1659531600@summithistorical.org
SUMMARY:Homesteads of Summit County - History Talk (FREE)
DESCRIPTION:Join us at the Frisco Historic Park on Frisco Main Street as we Discuss the History of Summit County Homesteads – “They Came for the Gold\, but Stayed for the Land”
URL:https://summithistorical.org/events/homesteads-of-summit-county-history-talk-free/
LOCATION:Frisco Historic Park & Museum\, 120 Main Street\, Frisco\, CO\, 80443
END:VEVENT
BEGIN:VEVENT
DTSTART;TZID=UTC:20220803T110000
DTEND;TZID=UTC:20220803T140000
DTSTAMP:20260421T122024
CREATED:20220719T170240Z
LAST-MODIFIED:20230127T185540Z
UID:10002242-1659524400-1659535200@summithistorical.org
SUMMARY:Ute Knowledge Exhibit
DESCRIPTION:For the entire month of August\, Summit Historical Society has partnered with History Colorado to display their traveling exhibit: Ute Knowledge. Ute Knowledge: Colorado’s Original Science Technology\, Engineering\, and Math exhibit tells the story of how Ute Indians have used science\, technology\, engineering and math to survive and thrive in the Rocky Mountains.  \nThis exhibit will be on display at the 1883 Dillon Schoolhouse starting August 1 through September 2nd: Tuesday-Saturday from 11:00 am to 2:00 pm. \nLocation: 403 LaBonte Street\, Dillon\, Colorado. \nSuggested $5.00 Donation. \nFor more information on the exhibit click here. 
URL:https://summithistorical.org/events/ute-knowledge-exhibit/2022-08-03/
LOCATION:Slifer Smith & Frampton- Breckenridge Office\, 117 S Main St.\, Breckenridge\, CO\, 80424\, United States
END:VEVENT
BEGIN:VEVENT
DTSTART;TZID=UTC:20220803T110000
DTEND;TZID=UTC:20220803T140000
DTSTAMP:20260421T122024
CREATED:20220616T201708Z
LAST-MODIFIED:20230127T185836Z
UID:10002215-1659524400-1659535200@summithistorical.org
SUMMARY:1883 Dillon Schoolhouse - Open for Tours
DESCRIPTION:Stop by the 1883 Dillon Schoolhouse for our new Summer 2022 educational tour. \nSuggested donation of $5.00 per person.
URL:https://summithistorical.org/events/1883-schoolhouse-open-for-tours/2022-08-03/
LOCATION:Slifer Smith & Frampton- Breckenridge Office\, 117 S Main St.\, Breckenridge\, CO\, 80424\, United States
ATTACH;FMTTYPE=image/jpeg:https://summithistorical.org/wp-content/uploads/2022/03/20220414_092249.jpg
END:VEVENT
BEGIN:VEVENT
DTSTART;TZID=America/Chicago:20220803T090000
DTEND;TZID=America/Chicago:20220803T223000
DTSTAMP:20260421T122024
CREATED:20220427T212143Z
LAST-MODIFIED:20230127T185802Z
UID:10002146-1659517200-1659565800@summithistorical.org
SUMMARY:Explore Lake Dillon:  Historical Boat Tour
DESCRIPTION:In partnership with the Town of Dillon Marina\, trained guides from the Summit Historical Society lead a leisurely historic tour of Lake Dillon. Learn about the building of Dillon Dam and the Roberts Tunnel and relocating the Town of Dillon. \n\nTuesday\, Wednesday\, and Thursday mornings – June 8th through August 31st\nSaturday tours also available on June11th\, July 9th\, and August 13th\n9:00 – 10:30am *\nLocation: Dillon Marina\nCost: $40/person – no children under 7\n(add a tour of the 1883 Dillon Schoolhouse Museum in downtown Dillon for an additional $5.00)\nBring a jacket\, hat and sunscreen.  Weather can change rapidly on the lake!\nFor reservations\, call Dillon Marina (970) 468-5100 or click the link below.\n\n* Please arrive 15-minutes early.  Boat will depart promptly at 9:00am \nphoto courtesy Town of Dillon Marina \nBOOK ONLINE
URL:https://summithistorical.org/events/explore-lake-dillon-historical-boat-tour/2022-08-03/
LOCATION:Dillon Marina\, 150 Marina Dr\, Dillon\, Colorado\, 80435
ATTACH;FMTTYPE=image/jpeg:https://summithistorical.org/wp-content/uploads/2022/04/Lake-Dillon-Pontoon-Boat.jpg
END:VEVENT
BEGIN:VEVENT
DTSTART;TZID=UTC:20220802T110000
DTEND;TZID=UTC:20220802T140000
DTSTAMP:20260421T122024
CREATED:20220719T170240Z
LAST-MODIFIED:20230127T185540Z
UID:10002241-1659438000-1659448800@summithistorical.org
SUMMARY:Ute Knowledge Exhibit
DESCRIPTION:For the entire month of August\, Summit Historical Society has partnered with History Colorado to display their traveling exhibit: Ute Knowledge. Ute Knowledge: Colorado’s Original Science Technology\, Engineering\, and Math exhibit tells the story of how Ute Indians have used science\, technology\, engineering and math to survive and thrive in the Rocky Mountains.  \nThis exhibit will be on display at the 1883 Dillon Schoolhouse starting August 1 through September 2nd: Tuesday-Saturday from 11:00 am to 2:00 pm. \nLocation: 403 LaBonte Street\, Dillon\, Colorado. \nSuggested $5.00 Donation. \nFor more information on the exhibit click here. 
URL:https://summithistorical.org/events/ute-knowledge-exhibit/2022-08-02/
LOCATION:Slifer Smith & Frampton- Breckenridge Office\, 117 S Main St.\, Breckenridge\, CO\, 80424\, United States
END:VEVENT
BEGIN:VEVENT
DTSTART;TZID=UTC:20220802T110000
DTEND;TZID=UTC:20220802T140000
DTSTAMP:20260421T122024
CREATED:20220616T201708Z
LAST-MODIFIED:20230127T185836Z
UID:10002214-1659438000-1659448800@summithistorical.org
SUMMARY:1883 Dillon Schoolhouse - Open for Tours
DESCRIPTION:Stop by the 1883 Dillon Schoolhouse for our new Summer 2022 educational tour. \nSuggested donation of $5.00 per person.
URL:https://summithistorical.org/events/1883-schoolhouse-open-for-tours/2022-08-02/
LOCATION:Slifer Smith & Frampton- Breckenridge Office\, 117 S Main St.\, Breckenridge\, CO\, 80424\, United States
ATTACH;FMTTYPE=image/jpeg:https://summithistorical.org/wp-content/uploads/2022/03/20220414_092249.jpg
END:VEVENT
BEGIN:VEVENT
DTSTART;TZID=America/Chicago:20220802T090000
DTEND;TZID=America/Chicago:20220802T223000
DTSTAMP:20260421T122024
CREATED:20220427T212143Z
LAST-MODIFIED:20230127T185802Z
UID:10002145-1659430800-1659479400@summithistorical.org
SUMMARY:Explore Lake Dillon:  Historical Boat Tour
DESCRIPTION:In partnership with the Town of Dillon Marina\, trained guides from the Summit Historical Society lead a leisurely historic tour of Lake Dillon. Learn about the building of Dillon Dam and the Roberts Tunnel and relocating the Town of Dillon. \n\nTuesday\, Wednesday\, and Thursday mornings – June 8th through August 31st\nSaturday tours also available on June11th\, July 9th\, and August 13th\n9:00 – 10:30am *\nLocation: Dillon Marina\nCost: $40/person – no children under 7\n(add a tour of the 1883 Dillon Schoolhouse Museum in downtown Dillon for an additional $5.00)\nBring a jacket\, hat and sunscreen.  Weather can change rapidly on the lake!\nFor reservations\, call Dillon Marina (970) 468-5100 or click the link below.\n\n* Please arrive 15-minutes early.  Boat will depart promptly at 9:00am \nphoto courtesy Town of Dillon Marina \nBOOK ONLINE
URL:https://summithistorical.org/events/explore-lake-dillon-historical-boat-tour/2022-08-02/
LOCATION:Dillon Marina\, 150 Marina Dr\, Dillon\, Colorado\, 80435
ATTACH;FMTTYPE=image/jpeg:https://summithistorical.org/wp-content/uploads/2022/04/Lake-Dillon-Pontoon-Boat.jpg
END:VEVENT
BEGIN:VEVENT
DTSTART;TZID=UTC:20220730T110000
DTEND;TZID=UTC:20220730T140000
DTSTAMP:20260421T122024
CREATED:20220616T201708Z
LAST-MODIFIED:20230127T185836Z
UID:10002213-1659178800-1659189600@summithistorical.org
SUMMARY:1883 Dillon Schoolhouse - Open for Tours
DESCRIPTION:Stop by the 1883 Dillon Schoolhouse for our new Summer 2022 educational tour. \nSuggested donation of $5.00 per person.
URL:https://summithistorical.org/events/1883-schoolhouse-open-for-tours/2022-07-30/
LOCATION:Slifer Smith & Frampton- Breckenridge Office\, 117 S Main St.\, Breckenridge\, CO\, 80424\, United States
ATTACH;FMTTYPE=image/jpeg:https://summithistorical.org/wp-content/uploads/2022/03/20220414_092249.jpg
END:VEVENT
BEGIN:VEVENT
DTSTART;TZID=UTC:20220730T110000
DTEND;TZID=UTC:20220730T130000
DTSTAMP:20260421T122024
CREATED:20220616T160458Z
LAST-MODIFIED:20230127T185725Z
UID:10002175-1659178800-1659186000@summithistorical.org
SUMMARY:Rice Barn Open for Visitors
DESCRIPTION:Come visit us at the Rice Barn in Summit Cove and see what an authentic Summit County homestead barn was like. \nLocation: 367 Summit Blvd\, Dillon\, Colorado. \nSuggested donation of $5.00 per person.
URL:https://summithistorical.org/events/rice-barn-open-for-visitors/2022-07-30/
LOCATION:Rice Barn\, 367 Cove Boulevard\, Dillon\, CO\, 80435
ATTACH;FMTTYPE=image/png:https://summithistorical.org/wp-content/uploads/2022/06/Rice-Barn-cropped.png
END:VEVENT
BEGIN:VEVENT
DTSTART;TZID=UTC:20220729T110000
DTEND;TZID=UTC:20220729T140000
DTSTAMP:20260421T122024
CREATED:20220616T201708Z
LAST-MODIFIED:20230127T185836Z
UID:10002212-1659092400-1659103200@summithistorical.org
SUMMARY:1883 Dillon Schoolhouse - Open for Tours
DESCRIPTION:Stop by the 1883 Dillon Schoolhouse for our new Summer 2022 educational tour. \nSuggested donation of $5.00 per person.
URL:https://summithistorical.org/events/1883-schoolhouse-open-for-tours/2022-07-29/
LOCATION:Slifer Smith & Frampton- Breckenridge Office\, 117 S Main St.\, Breckenridge\, CO\, 80424\, United States
ATTACH;FMTTYPE=image/jpeg:https://summithistorical.org/wp-content/uploads/2022/03/20220414_092249.jpg
END:VEVENT
BEGIN:VEVENT
DTSTART;TZID=America/Chicago:20220729T090000
DTEND;TZID=America/Chicago:20220729T140000
DTSTAMP:20260421T122024
CREATED:20220222T224405Z
LAST-MODIFIED:20230217T212135Z
UID:10002107-1659085200-1659103200@summithistorical.org
SUMMARY:Dillon Farmers Market
DESCRIPTION:Every Friday stop by our booth at the Farmers Market for special guests\, pop-up exhibits\, and more! \n\nEvery Friday from June 10th- September 16th\n9:00 AM – 2:00 PM MST\nLocation: Lodgepole Street adjacent to the Dillon Amphitheater\nFree\n\n 
URL:https://summithistorical.org/events/dillon-farmers-market/2022-07-29/
LOCATION:300 W Lodgepole St\, 300 W Lodgepole St\, Dillon\, CO\, 80435
ATTACH;FMTTYPE=image/png:https://summithistorical.org/wp-content/uploads/2022/02/Dillon_Farmer_s_Market-344x300-1.png
END:VEVENT
BEGIN:VEVENT
DTSTART;TZID=UTC:20220728T110000
DTEND;TZID=UTC:20220728T140000
DTSTAMP:20260421T122024
CREATED:20220616T201708Z
LAST-MODIFIED:20230127T185836Z
UID:10002211-1659006000-1659016800@summithistorical.org
SUMMARY:1883 Dillon Schoolhouse - Open for Tours
DESCRIPTION:Stop by the 1883 Dillon Schoolhouse for our new Summer 2022 educational tour. \nSuggested donation of $5.00 per person.
URL:https://summithistorical.org/events/1883-schoolhouse-open-for-tours/2022-07-28/
LOCATION:Slifer Smith & Frampton- Breckenridge Office\, 117 S Main St.\, Breckenridge\, CO\, 80424\, United States
ATTACH;FMTTYPE=image/jpeg:https://summithistorical.org/wp-content/uploads/2022/03/20220414_092249.jpg
END:VEVENT
BEGIN:VEVENT
DTSTART;TZID=UTC:20220728T100000
DTEND;TZID=UTC:20220728T110000
DTSTAMP:20260421T122024
CREATED:20220719T164850Z
LAST-MODIFIED:20230127T185615Z
UID:10002240-1659002400-1659006000@summithistorical.org
SUMMARY:Ute STEM Program Demonstration
DESCRIPTION:Join us as we demonstrate our Ute STEM Educational Program. The Ute STEM Program was designed by History Colorado and led in Summit County by SHS educators to local 4th and 5th graders. Additionally\, for the entire month of July\, we will be hosting the Ute Knowledge Exhibit- exploring the similar themes of science\, technology\, engineering\, and math in Ute history. \nLocation: 1883 Dillon Schoolhouse403 LaBonte Street\, Dillon\, Colorado. \nSpace is limited and reservations are required. \nFor more information on the program please click here. 
URL:https://summithistorical.org/events/ute-stem-program-demonstration/
LOCATION:CO
END:VEVENT
BEGIN:VEVENT
DTSTART;TZID=America/Chicago:20220728T090000
DTEND;TZID=America/Chicago:20220728T223000
DTSTAMP:20260421T122024
CREATED:20220427T212143Z
LAST-MODIFIED:20230127T185802Z
UID:10002144-1658998800-1659047400@summithistorical.org
SUMMARY:Explore Lake Dillon:  Historical Boat Tour
DESCRIPTION:In partnership with the Town of Dillon Marina\, trained guides from the Summit Historical Society lead a leisurely historic tour of Lake Dillon. Learn about the building of Dillon Dam and the Roberts Tunnel and relocating the Town of Dillon. \n\nTuesday\, Wednesday\, and Thursday mornings – June 8th through August 31st\nSaturday tours also available on June11th\, July 9th\, and August 13th\n9:00 – 10:30am *\nLocation: Dillon Marina\nCost: $40/person – no children under 7\n(add a tour of the 1883 Dillon Schoolhouse Museum in downtown Dillon for an additional $5.00)\nBring a jacket\, hat and sunscreen.  Weather can change rapidly on the lake!\nFor reservations\, call Dillon Marina (970) 468-5100 or click the link below.\n\n* Please arrive 15-minutes early.  Boat will depart promptly at 9:00am \nphoto courtesy Town of Dillon Marina \nBOOK ONLINE
URL:https://summithistorical.org/events/explore-lake-dillon-historical-boat-tour/2022-07-28/
LOCATION:Dillon Marina\, 150 Marina Dr\, Dillon\, Colorado\, 80435
ATTACH;FMTTYPE=image/jpeg:https://summithistorical.org/wp-content/uploads/2022/04/Lake-Dillon-Pontoon-Boat.jpg
END:VEVENT
BEGIN:VEVENT
DTSTART;TZID=UTC:20220727T110000
DTEND;TZID=UTC:20220727T140000
DTSTAMP:20260421T122024
CREATED:20220616T201708Z
LAST-MODIFIED:20230127T185836Z
UID:10002210-1658919600-1658930400@summithistorical.org
SUMMARY:1883 Dillon Schoolhouse - Open for Tours
DESCRIPTION:Stop by the 1883 Dillon Schoolhouse for our new Summer 2022 educational tour. \nSuggested donation of $5.00 per person.
URL:https://summithistorical.org/events/1883-schoolhouse-open-for-tours/2022-07-27/
LOCATION:Slifer Smith & Frampton- Breckenridge Office\, 117 S Main St.\, Breckenridge\, CO\, 80424\, United States
ATTACH;FMTTYPE=image/jpeg:https://summithistorical.org/wp-content/uploads/2022/03/20220414_092249.jpg
END:VEVENT
BEGIN:VEVENT
DTSTART;TZID=America/Chicago:20220727T090000
DTEND;TZID=America/Chicago:20220727T223000
DTSTAMP:20260421T122024
CREATED:20220427T212143Z
LAST-MODIFIED:20230127T185802Z
UID:10002143-1658912400-1658961000@summithistorical.org
SUMMARY:Explore Lake Dillon:  Historical Boat Tour
DESCRIPTION:In partnership with the Town of Dillon Marina\, trained guides from the Summit Historical Society lead a leisurely historic tour of Lake Dillon. Learn about the building of Dillon Dam and the Roberts Tunnel and relocating the Town of Dillon. \n\nTuesday\, Wednesday\, and Thursday mornings – June 8th through August 31st\nSaturday tours also available on June11th\, July 9th\, and August 13th\n9:00 – 10:30am *\nLocation: Dillon Marina\nCost: $40/person – no children under 7\n(add a tour of the 1883 Dillon Schoolhouse Museum in downtown Dillon for an additional $5.00)\nBring a jacket\, hat and sunscreen.  Weather can change rapidly on the lake!\nFor reservations\, call Dillon Marina (970) 468-5100 or click the link below.\n\n* Please arrive 15-minutes early.  Boat will depart promptly at 9:00am \nphoto courtesy Town of Dillon Marina \nBOOK ONLINE
URL:https://summithistorical.org/events/explore-lake-dillon-historical-boat-tour/2022-07-27/
LOCATION:Dillon Marina\, 150 Marina Dr\, Dillon\, Colorado\, 80435
ATTACH;FMTTYPE=image/jpeg:https://summithistorical.org/wp-content/uploads/2022/04/Lake-Dillon-Pontoon-Boat.jpg
END:VEVENT
BEGIN:VEVENT
DTSTART;TZID=UTC:20220726T110000
DTEND;TZID=UTC:20220726T140000
DTSTAMP:20260421T122024
CREATED:20220616T201708Z
LAST-MODIFIED:20230127T185836Z
UID:10002209-1658833200-1658844000@summithistorical.org
SUMMARY:1883 Dillon Schoolhouse - Open for Tours
DESCRIPTION:Stop by the 1883 Dillon Schoolhouse for our new Summer 2022 educational tour. \nSuggested donation of $5.00 per person.
URL:https://summithistorical.org/events/1883-schoolhouse-open-for-tours/2022-07-26/
LOCATION:Slifer Smith & Frampton- Breckenridge Office\, 117 S Main St.\, Breckenridge\, CO\, 80424\, United States
ATTACH;FMTTYPE=image/jpeg:https://summithistorical.org/wp-content/uploads/2022/03/20220414_092249.jpg
END:VEVENT
BEGIN:VEVENT
DTSTART;TZID=America/Chicago:20220726T090000
DTEND;TZID=America/Chicago:20220726T223000
DTSTAMP:20260421T122024
CREATED:20220427T212143Z
LAST-MODIFIED:20230127T185802Z
UID:10002142-1658826000-1658874600@summithistorical.org
SUMMARY:Explore Lake Dillon:  Historical Boat Tour
DESCRIPTION:In partnership with the Town of Dillon Marina\, trained guides from the Summit Historical Society lead a leisurely historic tour of Lake Dillon. Learn about the building of Dillon Dam and the Roberts Tunnel and relocating the Town of Dillon. \n\nTuesday\, Wednesday\, and Thursday mornings – June 8th through August 31st\nSaturday tours also available on June11th\, July 9th\, and August 13th\n9:00 – 10:30am *\nLocation: Dillon Marina\nCost: $40/person – no children under 7\n(add a tour of the 1883 Dillon Schoolhouse Museum in downtown Dillon for an additional $5.00)\nBring a jacket\, hat and sunscreen.  Weather can change rapidly on the lake!\nFor reservations\, call Dillon Marina (970) 468-5100 or click the link below.\n\n* Please arrive 15-minutes early.  Boat will depart promptly at 9:00am \nphoto courtesy Town of Dillon Marina \nBOOK ONLINE
URL:https://summithistorical.org/events/explore-lake-dillon-historical-boat-tour/2022-07-26/
LOCATION:Dillon Marina\, 150 Marina Dr\, Dillon\, Colorado\, 80435
ATTACH;FMTTYPE=image/jpeg:https://summithistorical.org/wp-content/uploads/2022/04/Lake-Dillon-Pontoon-Boat.jpg
END:VEVENT
BEGIN:VEVENT
DTSTART;TZID=UTC:20220725T084500
DTEND;TZID=UTC:20220725T120000
DTSTAMP:20260421T122024
CREATED:20220223T010346Z
LAST-MODIFIED:20230127T185617Z
UID:10001923-1658738700-1658750400@summithistorical.org
SUMMARY:Historical Hike: Lost Towns of the Lower Swan River
DESCRIPTION:Back by popular demand! Bill Fountain will guide a tour focusing on towns\, mines\, and mill sites in the Lower Swan Valley. Visit the old town sites of Braddock\, Valdora\, Delaware City\, Preston\, and Parkville. \n\nMonday\, July 25th\n8:45 AM\, 1/2 day driving tour\nLocation: #4 Dredge parking lot (parking lot is 2.6 miles east of Hwy 9 on Tiger Road)\nTickets: $25 for SHS Members; $35 for Non-Members\nLimited to 25 guests\nReserve by July 24th at 4:00 PM\n\nWear comfortable shoes; bring your own lunch\, water & camp chair.  Off-road vehicle with high clearance recommended; carpool options may be available.  \n(Optional hike to the Cashier mine and mill site after lunch) \nTo become a member click here!
URL:https://summithistorical.org/events/historical-hike-lost-towns-of-the-lower-swan-river/
LOCATION:CO
ATTACH;FMTTYPE=image/jpeg:https://summithistorical.org/wp-content/uploads/2022/03/event.jpg
END:VEVENT
BEGIN:VEVENT
DTSTART;TZID=UTC:20220723T110000
DTEND;TZID=UTC:20220723T140000
DTSTAMP:20260421T122024
CREATED:20220616T201708Z
LAST-MODIFIED:20230127T185836Z
UID:10002208-1658574000-1658584800@summithistorical.org
SUMMARY:1883 Dillon Schoolhouse - Open for Tours
DESCRIPTION:Stop by the 1883 Dillon Schoolhouse for our new Summer 2022 educational tour. \nSuggested donation of $5.00 per person.
URL:https://summithistorical.org/events/1883-schoolhouse-open-for-tours/2022-07-23/
LOCATION:Slifer Smith & Frampton- Breckenridge Office\, 117 S Main St.\, Breckenridge\, CO\, 80424\, United States
ATTACH;FMTTYPE=image/jpeg:https://summithistorical.org/wp-content/uploads/2022/03/20220414_092249.jpg
END:VEVENT
BEGIN:VEVENT
DTSTART;TZID=UTC:20220723T110000
DTEND;TZID=UTC:20220723T130000
DTSTAMP:20260421T122024
CREATED:20220616T160458Z
LAST-MODIFIED:20230127T185725Z
UID:10002174-1658574000-1658581200@summithistorical.org
SUMMARY:Rice Barn Open for Visitors
DESCRIPTION:Come visit us at the Rice Barn in Summit Cove and see what an authentic Summit County homestead barn was like. \nLocation: 367 Summit Blvd\, Dillon\, Colorado. \nSuggested donation of $5.00 per person.
URL:https://summithistorical.org/events/rice-barn-open-for-visitors/2022-07-23/
LOCATION:Rice Barn\, 367 Cove Boulevard\, Dillon\, CO\, 80435
ATTACH;FMTTYPE=image/png:https://summithistorical.org/wp-content/uploads/2022/06/Rice-Barn-cropped.png
END:VEVENT
BEGIN:VEVENT
DTSTART;TZID=UTC:20220722T110000
DTEND;TZID=UTC:20220722T140000
DTSTAMP:20260421T122024
CREATED:20220616T201708Z
LAST-MODIFIED:20230127T185836Z
UID:10002207-1658487600-1658498400@summithistorical.org
SUMMARY:1883 Dillon Schoolhouse - Open for Tours
DESCRIPTION:Stop by the 1883 Dillon Schoolhouse for our new Summer 2022 educational tour. \nSuggested donation of $5.00 per person.
URL:https://summithistorical.org/events/1883-schoolhouse-open-for-tours/2022-07-22/
LOCATION:Slifer Smith & Frampton- Breckenridge Office\, 117 S Main St.\, Breckenridge\, CO\, 80424\, United States
ATTACH;FMTTYPE=image/jpeg:https://summithistorical.org/wp-content/uploads/2022/03/20220414_092249.jpg
END:VEVENT
BEGIN:VEVENT
DTSTART;TZID=America/Chicago:20220722T090000
DTEND;TZID=America/Chicago:20220722T140000
DTSTAMP:20260421T122024
CREATED:20220222T224405Z
LAST-MODIFIED:20230217T212135Z
UID:10002106-1658480400-1658498400@summithistorical.org
SUMMARY:Dillon Farmers Market
DESCRIPTION:Every Friday stop by our booth at the Farmers Market for special guests\, pop-up exhibits\, and more! \n\nEvery Friday from June 10th- September 16th\n9:00 AM – 2:00 PM MST\nLocation: Lodgepole Street adjacent to the Dillon Amphitheater\nFree\n\n 
URL:https://summithistorical.org/events/dillon-farmers-market/2022-07-22/
LOCATION:300 W Lodgepole St\, 300 W Lodgepole St\, Dillon\, CO\, 80435
ATTACH;FMTTYPE=image/png:https://summithistorical.org/wp-content/uploads/2022/02/Dillon_Farmer_s_Market-344x300-1.png
END:VEVENT
BEGIN:VEVENT
DTSTART;TZID=UTC:20220721T110000
DTEND;TZID=UTC:20220721T140000
DTSTAMP:20260421T122024
CREATED:20220616T201708Z
LAST-MODIFIED:20230127T185836Z
UID:10002206-1658401200-1658412000@summithistorical.org
SUMMARY:1883 Dillon Schoolhouse - Open for Tours
DESCRIPTION:Stop by the 1883 Dillon Schoolhouse for our new Summer 2022 educational tour. \nSuggested donation of $5.00 per person.
URL:https://summithistorical.org/events/1883-schoolhouse-open-for-tours/2022-07-21/
LOCATION:Slifer Smith & Frampton- Breckenridge Office\, 117 S Main St.\, Breckenridge\, CO\, 80424\, United States
ATTACH;FMTTYPE=image/jpeg:https://summithistorical.org/wp-content/uploads/2022/03/20220414_092249.jpg
END:VEVENT
BEGIN:VEVENT
DTSTART;TZID=UTC:20220721T100000
DTEND;TZID=UTC:20220721T110000
DTSTAMP:20260421T122024
CREATED:20220719T153424Z
LAST-MODIFIED:20230127T185619Z
UID:10002239-1658397600-1658401200@summithistorical.org
SUMMARY:Moving Day Program Demonstration
DESCRIPTION:Join us as we demonstrate our Moving Day Program. The Moving Day Program was designed by History Colorado and is what we teach the 4th graders in Summit County. \nLocation: 1883 Dillon Schoolhouse403 LaBonte Street\, Dillon\, Colorado. \nSpace is limited and reservations are required. \nFor more information on the program please click here.
URL:https://summithistorical.org/events/moving-day-program-demonstration/
LOCATION:CO
END:VEVENT
END:VCALENDAR