BEGIN:VCALENDAR
VERSION:2.0
PRODID:-//Summit Historical Society - ECPv6.15.20//NONSGML v1.0//EN
CALSCALE:GREGORIAN
METHOD:PUBLISH
X-ORIGINAL-URL:https://summithistorical.org
X-WR-CALDESC:Events for Summit Historical Society
REFRESH-INTERVAL;VALUE=DURATION:PT1H
X-Robots-Tag:noindex
X-PUBLISHED-TTL:PT1H
BEGIN:VTIMEZONE
TZID:America/Denver
BEGIN:DAYLIGHT
TZOFFSETFROM:-0700
TZOFFSETTO:-0600
TZNAME:MDT
DTSTART:20250309T090000
END:DAYLIGHT
BEGIN:STANDARD
TZOFFSETFROM:-0600
TZOFFSETTO:-0700
TZNAME:MST
DTSTART:20251102T080000
END:STANDARD
BEGIN:DAYLIGHT
TZOFFSETFROM:-0700
TZOFFSETTO:-0600
TZNAME:MDT
DTSTART:20260308T090000
END:DAYLIGHT
BEGIN:STANDARD
TZOFFSETFROM:-0600
TZOFFSETTO:-0700
TZNAME:MST
DTSTART:20261101T080000
END:STANDARD
BEGIN:DAYLIGHT
TZOFFSETFROM:-0700
TZOFFSETTO:-0600
TZNAME:MDT
DTSTART:20270314T090000
END:DAYLIGHT
BEGIN:STANDARD
TZOFFSETFROM:-0600
TZOFFSETTO:-0700
TZNAME:MST
DTSTART:20271107T080000
END:STANDARD
END:VTIMEZONE
BEGIN:VEVENT
DTSTART;TZID=America/Denver:20260820T000000
DTEND;TZID=America/Denver:20260820T235959
DTSTAMP:20260424T154932
CREATED:20260321T155308Z
LAST-MODIFIED:20260325T212053Z
UID:10003563-1787184000-1787270399@summithistorical.org
SUMMARY:Volunteer Appreciation - Save the Date
DESCRIPTION:Join us for a special Volunteer Appreciation Event as we celebrate and thank you for your incredible dedication and hard work with the Summit Historical Society at the Silverthorne Pavillion. \nDate: August 20\, 2026 \nTime: 5:00 pm – 7:30 pm\, food will be served at 5:30 pm \nLocation: Silverthorne Pavillion\, 400 Blue River Parkway\, Silverthorne\, CO 80498 \nCost: Free for Volunteers\, Registration required \n  \n 
URL:https://summithistorical.org/events/volunteer-appreciation-save-the-date/
LOCATION:Summit Historic Park\, 403 LaBonte Street\, Dillon\, CO\, 80435
END:VEVENT
END:VCALENDAR