BEGIN:VCALENDAR
VERSION:2.0
PRODID:-//Summit Historical Society - ECPv6.15.20//NONSGML v1.0//EN
CALSCALE:GREGORIAN
METHOD:PUBLISH
X-ORIGINAL-URL:https://summithistorical.org
X-WR-CALDESC:Events for Summit Historical Society
REFRESH-INTERVAL;VALUE=DURATION:PT1H
X-Robots-Tag:noindex
X-PUBLISHED-TTL:PT1H
BEGIN:VTIMEZONE
TZID:America/Denver
BEGIN:DAYLIGHT
TZOFFSETFROM:-0700
TZOFFSETTO:-0600
TZNAME:MDT
DTSTART:20250309T090000
END:DAYLIGHT
BEGIN:STANDARD
TZOFFSETFROM:-0600
TZOFFSETTO:-0700
TZNAME:MST
DTSTART:20251102T080000
END:STANDARD
BEGIN:DAYLIGHT
TZOFFSETFROM:-0700
TZOFFSETTO:-0600
TZNAME:MDT
DTSTART:20260308T090000
END:DAYLIGHT
BEGIN:STANDARD
TZOFFSETFROM:-0600
TZOFFSETTO:-0700
TZNAME:MST
DTSTART:20261101T080000
END:STANDARD
BEGIN:DAYLIGHT
TZOFFSETFROM:-0700
TZOFFSETTO:-0600
TZNAME:MDT
DTSTART:20270314T090000
END:DAYLIGHT
BEGIN:STANDARD
TZOFFSETFROM:-0600
TZOFFSETTO:-0700
TZNAME:MST
DTSTART:20271107T080000
END:STANDARD
END:VTIMEZONE
BEGIN:VEVENT
DTSTART;TZID=America/Denver:20260813T100000
DTEND;TZID=America/Denver:20260813T150000
DTSTAMP:20260424T155010
CREATED:20251229T182906Z
LAST-MODIFIED:20260315T030050Z
UID:10003519-1786615200-1786633200@summithistorical.org
SUMMARY:Historical Hike Series: Bill Fountain Swandyke Hike
DESCRIPTION:Historical Hike Series: Bill Fountain Swandyke Hike \n  \nDate: August 13\, 2026 \nTime: 10:00 am – 3:00 pm \nLocation: TBD \nCost: $25.00 \n  \nBill Fountain will be doing a Historical hike to Swandyke. This is part of the Ghost towns series of Bill and Sandra Mather’s\, Historical Landscapes: Summit County Colorado Ghost Towns and Townsites: Swandyke. This is a follow up to the historical presentation from\, August 12\, 2026. \n  \n  \nIf you have any have any issue with registration or have questions\, contact us at debbie@summithistorical.org or call at 970-468-2207.
URL:https://summithistorical.org/events/bill-fountain-historical-swandyke-hike/
LOCATION:Summit Historic Park\, 403 LaBonte Street\, Dillon\, CO\, 80435
END:VEVENT
END:VCALENDAR