BEGIN:VCALENDAR
VERSION:2.0
PRODID:-//Summit Historical Society - ECPv6.15.20//NONSGML v1.0//EN
CALSCALE:GREGORIAN
METHOD:PUBLISH
X-WR-CALNAME:Summit Historical Society
X-ORIGINAL-URL:https://summithistorical.org
X-WR-CALDESC:Events for Summit Historical Society
REFRESH-INTERVAL;VALUE=DURATION:PT1H
X-Robots-Tag:noindex
X-PUBLISHED-TTL:PT1H
BEGIN:VTIMEZONE
TZID:America/Denver
BEGIN:DAYLIGHT
TZOFFSETFROM:-0700
TZOFFSETTO:-0600
TZNAME:MDT
DTSTART:20250309T090000
END:DAYLIGHT
BEGIN:STANDARD
TZOFFSETFROM:-0600
TZOFFSETTO:-0700
TZNAME:MST
DTSTART:20251102T080000
END:STANDARD
BEGIN:DAYLIGHT
TZOFFSETFROM:-0700
TZOFFSETTO:-0600
TZNAME:MDT
DTSTART:20260308T090000
END:DAYLIGHT
BEGIN:STANDARD
TZOFFSETFROM:-0600
TZOFFSETTO:-0700
TZNAME:MST
DTSTART:20261101T080000
END:STANDARD
BEGIN:DAYLIGHT
TZOFFSETFROM:-0700
TZOFFSETTO:-0600
TZNAME:MDT
DTSTART:20270314T090000
END:DAYLIGHT
BEGIN:STANDARD
TZOFFSETFROM:-0600
TZOFFSETTO:-0700
TZNAME:MST
DTSTART:20271107T080000
END:STANDARD
END:VTIMEZONE
BEGIN:VEVENT
DTSTART;TZID=America/Denver:20260410T100000
DTEND;TZID=America/Denver:20260410T120000
DTSTAMP:20260424T110114
CREATED:20260220T195742Z
LAST-MODIFIED:20260325T205025Z
UID:10003549-1775815200-1775822400@summithistorical.org
SUMMARY:Frisco Historic Park Museum Tour
DESCRIPTION:Frisco Historic Park Museum Tour \nDate: April 10\, 2026 \nTime: 10:00 am – 12:00 pm \nLocation: Frisco Historic Park & Museum \n120 E Main Street\, Frisco\, CO 80443 \nCost: Registration required/space limited\, Free \n  \nJoin us as we step back in time at the Frisco Historic Park & Museum in downtown Frisco. Explore original historic buildings\, including the Schoolhouse Museum\, and discover artifacts\, exhibits\, and photographs that bring Frisco’s lively past to life—connecting Summit County’s history to today. \n  \nIf you have any have any issue with registration or have questions\, contact us at debbie@summithistorical.org or call at 970-468-2207.
URL:https://summithistorical.org/events/frisco-historic-park-museum/
LOCATION:Frisco Historic Park\, 120 East Main Street\, Frisco\, CO\, 80443\, United States
ORGANIZER;CN="Summit Historical Society":MAILTO:mail@summithistorical.org
END:VEVENT
END:VCALENDAR