BEGIN:VCALENDAR
VERSION:2.0
PRODID:-//Summit Historical Society - ECPv6.15.20//NONSGML v1.0//EN
CALSCALE:GREGORIAN
METHOD:PUBLISH
X-WR-CALNAME:Summit Historical Society
X-ORIGINAL-URL:https://summithistorical.org
X-WR-CALDESC:Events for Summit Historical Society
REFRESH-INTERVAL;VALUE=DURATION:PT1H
X-Robots-Tag:noindex
X-PUBLISHED-TTL:PT1H
BEGIN:VTIMEZONE
TZID:UTC
BEGIN:STANDARD
TZOFFSETFROM:+0000
TZOFFSETTO:+0000
TZNAME:UTC
DTSTART:20210101T000000
END:STANDARD
END:VTIMEZONE
BEGIN:VEVENT
DTSTART;TZID=UTC:20220806T110000
DTEND;TZID=UTC:20220806T140000
DTSTAMP:20260423T212421
CREATED:20220616T201708Z
LAST-MODIFIED:20230127T185836Z
UID:10002218-1659783600-1659794400@summithistorical.org
SUMMARY:1883 Dillon Schoolhouse - Open for Tours
DESCRIPTION:Stop by the 1883 Dillon Schoolhouse for our new Summer 2022 educational tour. \nSuggested donation of $5.00 per person.
URL:https://summithistorical.org/events/1883-schoolhouse-open-for-tours/2022-08-06/
LOCATION:Slifer Smith & Frampton- Breckenridge Office\, 117 S Main St.\, Breckenridge\, CO\, 80424\, United States
ATTACH;FMTTYPE=image/jpeg:https://summithistorical.org/wp-content/uploads/2022/03/20220414_092249.jpg
END:VEVENT
BEGIN:VEVENT
DTSTART;TZID=UTC:20220806T110000
DTEND;TZID=UTC:20220806T140000
DTSTAMP:20260423T212421
CREATED:20220719T170240Z
LAST-MODIFIED:20230127T185540Z
UID:10002245-1659783600-1659794400@summithistorical.org
SUMMARY:Ute Knowledge Exhibit
DESCRIPTION:For the entire month of August\, Summit Historical Society has partnered with History Colorado to display their traveling exhibit: Ute Knowledge. Ute Knowledge: Colorado’s Original Science Technology\, Engineering\, and Math exhibit tells the story of how Ute Indians have used science\, technology\, engineering and math to survive and thrive in the Rocky Mountains.  \nThis exhibit will be on display at the 1883 Dillon Schoolhouse starting August 1 through September 2nd: Tuesday-Saturday from 11:00 am to 2:00 pm. \nLocation: 403 LaBonte Street\, Dillon\, Colorado. \nSuggested $5.00 Donation. \nFor more information on the exhibit click here. 
URL:https://summithistorical.org/events/ute-knowledge-exhibit/2022-08-06/
LOCATION:Slifer Smith & Frampton- Breckenridge Office\, 117 S Main St.\, Breckenridge\, CO\, 80424\, United States
END:VEVENT
END:VCALENDAR