BEGIN:VCALENDAR
VERSION:2.0
PRODID:-//Summit Historical Society - ECPv6.15.20//NONSGML v1.0//EN
CALSCALE:GREGORIAN
METHOD:PUBLISH
X-WR-CALNAME:Summit Historical Society
X-ORIGINAL-URL:https://summithistorical.org
X-WR-CALDESC:Events for Summit Historical Society
REFRESH-INTERVAL;VALUE=DURATION:PT1H
X-Robots-Tag:noindex
X-PUBLISHED-TTL:PT1H
BEGIN:VTIMEZONE
TZID:UTC
BEGIN:STANDARD
TZOFFSETFROM:+0000
TZOFFSETTO:+0000
TZNAME:UTC
DTSTART:20210101T000000
END:STANDARD
END:VTIMEZONE
BEGIN:VEVENT
DTSTART;TZID=UTC:20220725T084500
DTEND;TZID=UTC:20220725T120000
DTSTAMP:20260423T212356
CREATED:20220223T010346Z
LAST-MODIFIED:20230127T185617Z
UID:10001923-1658738700-1658750400@summithistorical.org
SUMMARY:Historical Hike: Lost Towns of the Lower Swan River
DESCRIPTION:Back by popular demand! Bill Fountain will guide a tour focusing on towns\, mines\, and mill sites in the Lower Swan Valley. Visit the old town sites of Braddock\, Valdora\, Delaware City\, Preston\, and Parkville. \n\nMonday\, July 25th\n8:45 AM\, 1/2 day driving tour\nLocation: #4 Dredge parking lot (parking lot is 2.6 miles east of Hwy 9 on Tiger Road)\nTickets: $25 for SHS Members; $35 for Non-Members\nLimited to 25 guests\nReserve by July 24th at 4:00 PM\n\nWear comfortable shoes; bring your own lunch\, water & camp chair.  Off-road vehicle with high clearance recommended; carpool options may be available.  \n(Optional hike to the Cashier mine and mill site after lunch) \nTo become a member click here!
URL:https://summithistorical.org/events/historical-hike-lost-towns-of-the-lower-swan-river/
LOCATION:CO
ATTACH;FMTTYPE=image/jpeg:https://summithistorical.org/wp-content/uploads/2022/03/event.jpg
END:VEVENT
END:VCALENDAR