BEGIN:VCALENDAR
VERSION:2.0
PRODID:-//Summit Historical Society - ECPv6.15.20//NONSGML v1.0//EN
CALSCALE:GREGORIAN
METHOD:PUBLISH
X-WR-CALNAME:Summit Historical Society
X-ORIGINAL-URL:https://summithistorical.org
X-WR-CALDESC:Events for Summit Historical Society
REFRESH-INTERVAL;VALUE=DURATION:PT1H
X-Robots-Tag:noindex
X-PUBLISHED-TTL:PT1H
BEGIN:VTIMEZONE
TZID:America/Chicago
BEGIN:DAYLIGHT
TZOFFSETFROM:-0600
TZOFFSETTO:-0500
TZNAME:CDT
DTSTART:20210314T080000
END:DAYLIGHT
BEGIN:STANDARD
TZOFFSETFROM:-0500
TZOFFSETTO:-0600
TZNAME:CST
DTSTART:20211107T070000
END:STANDARD
BEGIN:DAYLIGHT
TZOFFSETFROM:-0600
TZOFFSETTO:-0500
TZNAME:CDT
DTSTART:20220313T080000
END:DAYLIGHT
BEGIN:STANDARD
TZOFFSETFROM:-0500
TZOFFSETTO:-0600
TZNAME:CST
DTSTART:20221106T070000
END:STANDARD
BEGIN:DAYLIGHT
TZOFFSETFROM:-0600
TZOFFSETTO:-0500
TZNAME:CDT
DTSTART:20230312T080000
END:DAYLIGHT
BEGIN:STANDARD
TZOFFSETFROM:-0500
TZOFFSETTO:-0600
TZNAME:CST
DTSTART:20231105T070000
END:STANDARD
END:VTIMEZONE
BEGIN:VEVENT
DTSTART;TZID=America/Chicago:20220718T084500
DTEND;TZID=America/Chicago:20220718T120000
DTSTAMP:20260423T212709
CREATED:20220222T232535Z
LAST-MODIFIED:20230127T185651Z
UID:10002116-1658133900-1658145600@summithistorical.org
SUMMARY:Historical Hike: Boston Mining Camp & Ten Mile Silver Towns
DESCRIPTION:Mike Tabb will share the rich history of the Ten Mile Silver Mining towns of Kokomo/Recen and Robinson.  An easy 1.8 mile hike up Mayflower Gulch brings you to the Boston mining camp where we will stop for lunch. \n\nMonday\, July 18\n8:45 AM  –  12:00 NOON\nLocation: meet at Copper Mountain Far East Lot no later than 8:45am\nTickets: $25 for SHS Members; $35 for Non-Members\nLimited to 25 guests\nReserve by July 17th at 4:00 PM MST\n\nWear comfortable shoes.  Bring your own water\, lunch\, and camp chair.   \nTo become a member click here!
URL:https://summithistorical.org/events/hike-boston-mining-camp-ten-mile-silver-towns/
LOCATION:CO
ATTACH;FMTTYPE=image/png:https://summithistorical.org/wp-content/uploads/2022/02/Hike-Photo-Boston-Mining-Camp-1a.png
END:VEVENT
END:VCALENDAR