BEGIN:VCALENDAR
VERSION:2.0
PRODID:-//Summit Historical Society - ECPv6.15.20//NONSGML v1.0//EN
CALSCALE:GREGORIAN
METHOD:PUBLISH
X-WR-CALNAME:Summit Historical Society
X-ORIGINAL-URL:https://summithistorical.org
X-WR-CALDESC:Events for Summit Historical Society
REFRESH-INTERVAL;VALUE=DURATION:PT1H
X-Robots-Tag:noindex
X-PUBLISHED-TTL:PT1H
BEGIN:VTIMEZONE
TZID:UTC
BEGIN:STANDARD
TZOFFSETFROM:+0000
TZOFFSETTO:+0000
TZNAME:UTC
DTSTART:20210101T000000
END:STANDARD
END:VTIMEZONE
BEGIN:VEVENT
DTSTART;TZID=UTC:20220702T110000
DTEND;TZID=UTC:20220702T130000
DTSTAMP:20260423T212313
CREATED:20220616T160458Z
LAST-MODIFIED:20230127T185725Z
UID:10002171-1656759600-1656766800@summithistorical.org
SUMMARY:Rice Barn Open for Visitors
DESCRIPTION:Come visit us at the Rice Barn in Summit Cove and see what an authentic Summit County homestead barn was like. \nLocation: 367 Summit Blvd\, Dillon\, Colorado. \nSuggested donation of $5.00 per person.
URL:https://summithistorical.org/events/rice-barn-open-for-visitors/2022-07-02/
LOCATION:Rice Barn\, 367 Cove Boulevard\, Dillon\, CO\, 80435
ATTACH;FMTTYPE=image/png:https://summithistorical.org/wp-content/uploads/2022/06/Rice-Barn-cropped.png
END:VEVENT
BEGIN:VEVENT
DTSTART;TZID=UTC:20220702T110000
DTEND;TZID=UTC:20220702T140000
DTSTAMP:20260423T212313
CREATED:20220616T201708Z
LAST-MODIFIED:20230127T185836Z
UID:10002194-1656759600-1656770400@summithistorical.org
SUMMARY:1883 Dillon Schoolhouse - Open for Tours
DESCRIPTION:Stop by the 1883 Dillon Schoolhouse for our new Summer 2022 educational tour. \nSuggested donation of $5.00 per person.
URL:https://summithistorical.org/events/1883-schoolhouse-open-for-tours/2022-07-02/
LOCATION:Slifer Smith & Frampton- Breckenridge Office\, 117 S Main St.\, Breckenridge\, CO\, 80424\, United States
ATTACH;FMTTYPE=image/jpeg:https://summithistorical.org/wp-content/uploads/2022/03/20220414_092249.jpg
END:VEVENT
END:VCALENDAR