BEGIN:VCALENDAR
VERSION:2.0
PRODID:-//Summit Historical Society - ECPv6.15.20//NONSGML v1.0//EN
CALSCALE:GREGORIAN
METHOD:PUBLISH
X-ORIGINAL-URL:https://summithistorical.org
X-WR-CALDESC:Events for Summit Historical Society
REFRESH-INTERVAL;VALUE=DURATION:PT1H
X-Robots-Tag:noindex
X-PUBLISHED-TTL:PT1H
BEGIN:VTIMEZONE
TZID:UTC
BEGIN:STANDARD
TZOFFSETFROM:+0000
TZOFFSETTO:+0000
TZNAME:UTC
DTSTART:20210101T000000
END:STANDARD
END:VTIMEZONE
BEGIN:VEVENT
DTSTART;TZID=UTC:20220613T170000
DTEND;TZID=UTC:20220613T180000
DTSTAMP:20260424T062540
CREATED:20220425T204411Z
LAST-MODIFIED:20230127T185806Z
UID:10002121-1655139600-1655143200@summithistorical.org
SUMMARY:Wine Tasting at Kucu ***CHANGE OF VENUE***
DESCRIPTION:        **** CHANGE OF VENUE **** \nThe venue for this event has been changed to Kucu Southwestern Bistro in Silverthorne.  Same time… 5:00 – 6:00pm \nThis event was formerly scheduled to be held at the Rice Barn. \nJoin us at Kucu Southwestern Bistro\, along with sommelier Aaron Ramirez as SHS hosts its first wine tasting of the 2022 season \nWe will be sampling outstanding wines from around the world. \n 
URL:https://summithistorical.org/events/june-wine-tasting-tbd/
LOCATION:Kucu Bistro\, 375 Blue River Pkwy\, Silverthorne\, CO\, 80498
ATTACH;FMTTYPE=image/jpeg:https://summithistorical.org/wp-content/uploads/2022/04/Pic-Wine-Glass-Adult-Education-publicdomain.net_.jpg
END:VEVENT
END:VCALENDAR