BEGIN:VCALENDAR
VERSION:2.0
PRODID:-//Summit Historical Society - ECPv6.15.20//NONSGML v1.0//EN
CALSCALE:GREGORIAN
METHOD:PUBLISH
X-ORIGINAL-URL:https://summithistorical.org
X-WR-CALDESC:Events for Summit Historical Society
REFRESH-INTERVAL;VALUE=DURATION:PT1H
X-Robots-Tag:noindex
X-PUBLISHED-TTL:PT1H
BEGIN:VTIMEZONE
TZID:America/Chicago
BEGIN:DAYLIGHT
TZOFFSETFROM:-0600
TZOFFSETTO:-0500
TZNAME:CDT
DTSTART:20210314T080000
END:DAYLIGHT
BEGIN:STANDARD
TZOFFSETFROM:-0500
TZOFFSETTO:-0600
TZNAME:CST
DTSTART:20211107T070000
END:STANDARD
BEGIN:DAYLIGHT
TZOFFSETFROM:-0600
TZOFFSETTO:-0500
TZNAME:CDT
DTSTART:20220313T080000
END:DAYLIGHT
BEGIN:STANDARD
TZOFFSETFROM:-0500
TZOFFSETTO:-0600
TZNAME:CST
DTSTART:20221106T070000
END:STANDARD
BEGIN:DAYLIGHT
TZOFFSETFROM:-0600
TZOFFSETTO:-0500
TZNAME:CDT
DTSTART:20230312T080000
END:DAYLIGHT
BEGIN:STANDARD
TZOFFSETFROM:-0500
TZOFFSETTO:-0600
TZNAME:CST
DTSTART:20231105T070000
END:STANDARD
END:VTIMEZONE
BEGIN:VTIMEZONE
TZID:UTC
BEGIN:STANDARD
TZOFFSETFROM:+0000
TZOFFSETTO:+0000
TZNAME:UTC
DTSTART:20210101T000000
END:STANDARD
END:VTIMEZONE
BEGIN:VEVENT
DTSTART;TZID=America/Chicago:20220611T093000
DTEND;TZID=America/Chicago:20220611T110000
DTSTAMP:20260424T062515
CREATED:20220427T213411Z
LAST-MODIFIED:20230127T185834Z
UID:10002164-1654939800-1654945200@summithistorical.org
SUMMARY:Explore Lake Dillon: Historical Boat Tour
DESCRIPTION:In partnership with the Town of Dillon Marina\, trained guides from the Summit Historical Society lead a leisurely historic tour of Lake Dillon. Learn about the building of Dillon Dam and the Roberts Tunnel and relocating the Town of Dillon. \n\nTuesday\, Wednesday\, and Thursday mornings – June 8th through August 31st\nSaturday tours also available on June11th\, July 9th\, and August 13th\n9:30 – 11:00am *\nLocation: Dillon Marina\nCost: $40/person – no children under 7\n(add a tour of the 1883 Dillon Schoolhouse Museum in downtown Dillon for an additional $5.00)\nBring a jacket\, hat and sunscreen.  Weather can change rapidly on the lake!\nFor reservations\, call Dillon Marina (970) 468-5100 or click the link below.\n\n* Please arrive 15-minutes early.  Boat will depart promptly at 9:30am \nphoto courtesy Town of Dillon Marina \nBOOK ONLINE
URL:https://summithistorical.org/events/explore-lake-dillon-historical-boat-tour-3/
LOCATION:Dillon Marina\, 150 Marina Dr\, Dillon\, Colorado\, 80435
ATTACH;FMTTYPE=image/jpeg:https://summithistorical.org/wp-content/uploads/2022/04/Lake-Dillon-Pontoon-Boat.jpg
END:VEVENT
BEGIN:VEVENT
DTSTART;TZID=UTC:20220611T110000
DTEND;TZID=UTC:20220611T140000
DTSTAMP:20260424T062515
CREATED:20220616T201708Z
LAST-MODIFIED:20230127T185836Z
UID:10002179-1654945200-1654956000@summithistorical.org
SUMMARY:1883 Dillon Schoolhouse - Open for Tours
DESCRIPTION:Stop by the 1883 Dillon Schoolhouse for our new Summer 2022 educational tour. \nSuggested donation of $5.00 per person.
URL:https://summithistorical.org/events/1883-schoolhouse-open-for-tours/2022-06-11/
LOCATION:Slifer Smith & Frampton- Breckenridge Office\, 117 S Main St.\, Breckenridge\, CO\, 80424\, United States
ATTACH;FMTTYPE=image/jpeg:https://summithistorical.org/wp-content/uploads/2022/03/20220414_092249.jpg
END:VEVENT
BEGIN:VEVENT
DTSTART;TZID=UTC:20220611T130000
DTEND;TZID=UTC:20220611T160000
DTSTAMP:20260424T062515
CREATED:20220421T171153Z
LAST-MODIFIED:20230127T185806Z
UID:10002119-1654952400-1654963200@summithistorical.org
SUMMARY:Lake Dillon Beer Festival
DESCRIPTION:The Lake Dillon Beer Festival returns to the Dillon Amphitheater and the Marina Park Pavilion for it’s 10th year! \n  \n\nPurchase Tickets
URL:https://summithistorical.org/events/lake-dillon-beer-festival/
LOCATION:Dillon Amphitheather\, 201 W Lodgepole Street\, Dillon\, CO\, 80435
ATTACH;FMTTYPE=image/png:https://summithistorical.org/wp-content/uploads/2022/04/Lake-Dillon-Beer-Festival-2022.png
END:VEVENT
END:VCALENDAR