BEGIN:VCALENDAR
VERSION:2.0
PRODID:-//Summit Historical Society - ECPv6.15.20//NONSGML v1.0//EN
CALSCALE:GREGORIAN
METHOD:PUBLISH
X-WR-CALNAME:Summit Historical Society
X-ORIGINAL-URL:https://summithistorical.org
X-WR-CALDESC:Events for Summit Historical Society
REFRESH-INTERVAL;VALUE=DURATION:PT1H
X-Robots-Tag:noindex
X-PUBLISHED-TTL:PT1H
BEGIN:VTIMEZONE
TZID:America/Chicago
BEGIN:DAYLIGHT
TZOFFSETFROM:-0600
TZOFFSETTO:-0500
TZNAME:CDT
DTSTART:20210314T080000
END:DAYLIGHT
BEGIN:STANDARD
TZOFFSETFROM:-0500
TZOFFSETTO:-0600
TZNAME:CST
DTSTART:20211107T070000
END:STANDARD
BEGIN:DAYLIGHT
TZOFFSETFROM:-0600
TZOFFSETTO:-0500
TZNAME:CDT
DTSTART:20220313T080000
END:DAYLIGHT
BEGIN:STANDARD
TZOFFSETFROM:-0500
TZOFFSETTO:-0600
TZNAME:CST
DTSTART:20221106T070000
END:STANDARD
BEGIN:DAYLIGHT
TZOFFSETFROM:-0600
TZOFFSETTO:-0500
TZNAME:CDT
DTSTART:20230312T080000
END:DAYLIGHT
BEGIN:STANDARD
TZOFFSETFROM:-0500
TZOFFSETTO:-0600
TZNAME:CST
DTSTART:20231105T070000
END:STANDARD
END:VTIMEZONE
BEGIN:VEVENT
DTSTART;TZID=America/Chicago:20220607T093000
DTEND;TZID=America/Chicago:20220607T230000
DTSTAMP:20260424T142050
CREATED:20220502T133000Z
LAST-MODIFIED:20230217T165857Z
UID:10002169-1654594200-1654642800@summithistorical.org
SUMMARY:Member Only - Historical Boat Tour
DESCRIPTION:Special tour for SHS members only. In partnership with the Town of Dillon.  Guides from the Summit Historical Society lead a leisurely boat ride on Lake DIllon. Learn about building Dillon Dam\, the Roberts Tunnel\, and relocating the Town of Dillon. \n\n9:30 – 11:00 AM; Dillon Marina\nCost:  $20/person – No children under 7\, please\nBring a hat\, jacket and sunscreen; weather can change rapidly on the lake.\nPlease arrive 15-minutes early; boat will leave the dock promptly at 9:30\n\nIf you are not already an SHS member\, please click here to become a member. \n  \n 
URL:https://summithistorical.org/events/member-only-historical-boat-tour/
LOCATION:CO
ATTACH;FMTTYPE=image/jpeg:https://summithistorical.org/wp-content/uploads/2022/04/Lake-Dillon-Pontoon-Boat.jpg
END:VEVENT
BEGIN:VEVENT
DTSTART;TZID=America/Chicago:20220607T173000
DTEND;TZID=America/Chicago:20220607T190000
DTSTAMP:20260424T142050
CREATED:20220406T182616Z
LAST-MODIFIED:20230127T185837Z
UID:10001934-1654623000-1654628400@summithistorical.org
SUMMARY:SHS Member Meet & Greet - June (FREE)
DESCRIPTION:SHS Member-Only Meet and Greet  \n\nMeet fellow SHS members and\nsee the concept for a historic park as part of the Dillon Town Park\nFREE\, but space is limited to (40) guests – GET YOUR FREE TICKETS BELOW\nReservations required.\nDonations appreciated and benefit Summit Historical Society
URL:https://summithistorical.org/events/shs-member-meet-greet-2022-06-07/
LOCATION:Slifer Smith & Frampton- Breckenridge Office\, 117 S Main St.\, Breckenridge\, CO\, 80424\, United States
ATTACH;FMTTYPE=image/jpeg:https://summithistorical.org/wp-content/uploads/2022/03/Dillon-Schoolhouse-2022.jpg
END:VEVENT
END:VCALENDAR